{"text_format":"1","workbook":"xlsx","n_sheets":3,"sheets":["INSCRIPCIÓ","Hoja3","ranquing"],"not_rendered":{"charts":0,"images":1,"macros":0,"external_links":1,"defined_names":28,"comments":0,"pivot_tables":0},"unopened":[],"bounds":{"document_bytes":16777216,"sheet_cells":100000,"rows_first":2000,"rows_last":500,"rows_between":2000,"halvings":0,"cell_chars":16384,"cell_head_chars":4096},"cells_cut":0,"cells_raw":0,"read":"whole","date_system":"1900"}

{"sheet":"INSCRIPCIÓ","index":0,"n_rows":105,"n_cols":19,"rows_kept":105,"cut":false,"hidden":false,"merged":[[29,3,29,8],[32,13,32,18],[88,13,88,17]]}
[]
[]
[]
[]
[]
[]
[]
[null,"El tancament de l'inscripció és el dia 03 d'abril a les 19:00, la inscripció és obligatòria si es vol participar"]
[null,"Se celebren 6 campionats de Barcelona individual el dia 7 d'abril a Reina Elisenda"]
[]
[null,"Un jugador masculí només pot jugar a una prova individual. Les jugadores infantils o juvenils només poden participar a l'absolut femení."]
[null,"Les jugadores ALE, BEN o PRE poden jugar les 2 proves femenines (absolut i aleví) sempre que el rànquing els ho permeti."]
[null,"Si un jugador/a inscrit no es presenta justificadament es treuran 100 punts al jugador/a i club"]
[null,"És molt important la puntualitat, si un reserva està present en el moment de fer el sorteig i"]
[null,"encara no ha arribat algun jugador, aquest entrarà al sorteig i l'altre perdrà la plaça,"]
[]
[null,"Seleccioneu el club de la llista desplegable i apareixeran tots els jugadors/es amb possibilitat d'inscriure's."]
[null,"Tot i que la participació estarà restringida a 24 jugadors a les categories masculines i 16 jugadores a les femenines, encara que un jugador/a"]
[null,"tingui una posició relativa superior a aquestes xifres podeu realitzar la inscripció per si hi ha baixes de jugadors/es amb més rànquing."]
[null,"Heu de posar números, que signifiquen l'ordre de preferència de la categoria a la que vol participar cada jugador (1 = 1a preferència), a"]
[null,"les caselles en blanc. A les caselles en vermell no hi introduïu res."]
[]
[null,"EXEMPLES D'INSCRIPCIÓ:"]
[]
[null,"EXEMPLE 1: Jugador aleví masculí que prefereix jugar a la categoria juvenil si hi ha places lliures, sinó a la infantil i sinó a l'aleví."]
[null,"EXEMPLE 2: Jugador benjamí masculí que vol jugar a la categoria aleví i no a les superiors ni a la benjamí."]
[null,"EXEMPLE 3: Jugadora prebenjamina femenina que vol jugar a la categoria alevina femenina i a l'absoluta femenina si hi ha plaça."]
[null,"EXEMPLE 4: Jugadora infantil femenina que, tot i tenir plaça, no jugarà (es deixa en blanc)."]
[]
[null,null,"CLUB:   "]
[]
[null,"Individual",null,null,null,null,"Juv","Inf","Ale","Ben","Abs F","Ale F",null,"Juv","Inf","Ale","Ben","Abs F","Ale F"]
[null,"nº personal","COGNOM Nom","Edat","RK","Observacions",10,11,12,13,14,15,null,"Posició relativa"]
[null,123,"EXEMPLE 1","ALE-1",1000,null,1,2,3,null,null,null,null,28,26,3]
[null,456,"EXEMPLE 2","BEN-2",500,null,null,null,1,null,null,null,null,125,54,16,7]
[null,789,"EXEMPLE 3","PRE-0",300,null,null,null,null,null,1,1,null,null,null,null,null,33,21]
[null,987,"EXEMPLE 4","INF-2",2000,null,null,null,null,null,null,null,null,null,null,null,null,5]
[null,{"$f":"IF(ISERROR(VLOOKUP(Hoja3!T2,Hoja3!$U$2:$V$402,2,0)),\"\",VLOOKUP(Hoja3!T2,Hoja3!$U$2:$V$402,2,0))","v":""},{"$f":"IF(ISERROR(VLOOKUP(B38,personal,1,0)),\" \",VLOOKUP(B38,personal,3,0))","v":" "},{"$f":"IF(ISERROR(VLOOKUP(B38,personal,1,0)),\" \",VLOOKUP(B38,personal,4,0))","v":" "},{"$f":"IF(ISERROR(VLOOKUP(B38,personal,9,0)),\" \",(VLOOKUP(B38,personal,9,0)))","v":" "},{"$f":"IF(ISERROR(VLOOKUP(B38,personal,19,0)),\" \",(VLOOKUP(B38,personal,19,0)))","v":" "},null,null,null,null,null,null,null,{"$f":"IF(ISERROR(VLOOKUP($B38,personal,G$33,0)),\"\",(VLOOKUP($B38,personal,G$33,0)))","v":""},{"$f":"IF(ISERROR(VLOOKUP($B38,personal,H$33,0)),\"\",(VLOOKUP($B38,personal,H$33,0)))","v":""},{"$f":"IF(ISERROR(VLOOKUP($B38,personal,I$33,0)),\"\",(VLOOKUP($B38,personal,I$33,0)))","v":""},{"$f":"IF(ISERROR(VLOOKUP($B38,personal,J$33,0)),\"\",(VLOOKUP($B38,personal,J$33,0)))","v":""},{"$f":"IF(ISERROR(VLOOKUP($B38,personal,K$33,0)),\"\",(VLOOKUP($B38,personal,K$33,0)))","v":""},{"$f":"IF(ISERROR(VLOOKUP($B38,personal,L$33,0)),\"\",(VLOOKUP($B38,personal,L$33,0)))","v":""}]
[null,{"$f":"IF(ISERROR(VLOOKUP(Hoja3!T3,Hoja3!$U$2:$V$402,2,0)),\"\",VLOOKUP(Hoja3!T3,Hoja3!$U$2:$V$402,2,0))","v":""}," "," "," "," ",null,null,null,null,null,null,null,"","","","","",""]
[null,{"$f":"IF(ISERROR(VLOOKUP(Hoja3!T4,Hoja3!$U$2:$V$402,2,0)),\"\",VLOOKUP(Hoja3!T4,Hoja3!$U$2:$V$402,2,0))","v":""}," "," "," "," ",null,null,null,null,null,null,null,"","","","","",""]
[null,{"$f":"IF(ISERROR(VLOOKUP(Hoja3!T5,Hoja3!$U$2:$V$402,2,0)),\"\",VLOOKUP(Hoja3!T5,Hoja3!$U$2:$V$402,2,0))","v":""}," "," "," "," ",null,null,null,null,null,null,null,"","","","","",""]
[null,{"$f":"IF(ISERROR(VLOOKUP(Hoja3!T6,Hoja3!$U$2:$V$402,2,0)),\"\",VLOOKUP(Hoja3!T6,Hoja3!$U$2:$V$402,2,0))","v":""}," "," "," "," ",null,null,null,null,null,null,null,"","","","","",""]
[null,{"$f":"IF(ISERROR(VLOOKUP(Hoja3!T7,Hoja3!$U$2:$V$402,2,0)),\"\",VLOOKUP(Hoja3!T7,Hoja3!$U$2:$V$402,2,0))","v":""}," "," "," "," ",null,null,null,null,null,null,null,"","","","","",""]
[null,{"$f":"IF(ISERROR(VLOOKUP(Hoja3!T8,Hoja3!$U$2:$V$402,2,0)),\"\",VLOOKUP(Hoja3!T8,Hoja3!$U$2:$V$402,2,0))","v":""}," "," "," "," ",null,null,null,null,null,null,null,"","","","","",""]
[null,{"$f":"IF(ISERROR(VLOOKUP(Hoja3!T9,Hoja3!$U$2:$V$402,2,0)),\"\",VLOOKUP(Hoja3!T9,Hoja3!$U$2:$V$402,2,0))","v":""}," "," "," "," ",null,null,null,null,null,null,null,"","","","","",""]
[null,{"$f":"IF(ISERROR(VLOOKUP(Hoja3!T10,Hoja3!$U$2:$V$402,2,0)),\"\",VLOOKUP(Hoja3!T10,Hoja3!$U$2:$V$402,2,0))","v":""}," "," "," "," ",null,null,null,null,null,null,null,"","","","","",""]
[null,{"$f":"IF(ISERROR(VLOOKUP(Hoja3!T11,Hoja3!$U$2:$V$402,2,0)),\"\",VLOOKUP(Hoja3!T11,Hoja3!$U$2:$V$402,2,0))","v":""}," "," "," "," ",null,null,null,null,null,null,null,"","","","","",""]
[null,{"$f":"IF(ISERROR(VLOOKUP(Hoja3!T12,Hoja3!$U$2:$V$402,2,0)),\"\",VLOOKUP(Hoja3!T12,Hoja3!$U$2:$V$402,2,0))","v":""}," "," "," "," ",null,null,null,null,null,null,null,"","","","","",""]
[null,{"$f":"IF(ISERROR(VLOOKUP(Hoja3!T13,Hoja3!$U$2:$V$402,2,0)),\"\",VLOOKUP(Hoja3!T13,Hoja3!$U$2:$V$402,2,0))","v":""}," "," "," "," ",null,null,null,null,null,null,null,"","","","","",""]
[null,{"$f":"IF(ISERROR(VLOOKUP(Hoja3!T14,Hoja3!$U$2:$V$402,2,0)),\"\",VLOOKUP(Hoja3!T14,Hoja3!$U$2:$V$402,2,0))","v":""}," "," "," "," ",null,null,null,null,null,null,null,"","","","","",""]
[null,{"$f":"IF(ISERROR(VLOOKUP(Hoja3!T15,Hoja3!$U$2:$V$402,2,0)),\"\",VLOOKUP(Hoja3!T15,Hoja3!$U$2:$V$402,2,0))","v":""}," "," "," "," ",null,null,null,null,null,null,null,"","","","","",""]
[null,{"$f":"IF(ISERROR(VLOOKUP(Hoja3!T16,Hoja3!$U$2:$V$402,2,0)),\"\",VLOOKUP(Hoja3!T16,Hoja3!$U$2:$V$402,2,0))","v":""}," "," "," "," ",null,null,null,null,null,null,null,"","","","","",""]
[null,{"$f":"IF(ISERROR(VLOOKUP(Hoja3!T17,Hoja3!$U$2:$V$402,2,0)),\"\",VLOOKUP(Hoja3!T17,Hoja3!$U$2:$V$402,2,0))","v":""}," "," "," "," ",null,null,null,null,null,null,null,"","","","","",""]
[null,{"$f":"IF(ISERROR(VLOOKUP(Hoja3!T18,Hoja3!$U$2:$V$402,2,0)),\"\",VLOOKUP(Hoja3!T18,Hoja3!$U$2:$V$402,2,0))","v":""}," "," "," "," ",null,null,null,null,null,null,null,"","","","","",""]
[null,{"$f":"IF(ISERROR(VLOOKUP(Hoja3!T19,Hoja3!$U$2:$V$402,2,0)),\"\",VLOOKUP(Hoja3!T19,Hoja3!$U$2:$V$402,2,0))","v":""}," "," "," "," ",null,null,null,null,null,null,null,"","","","","",""]
[null,{"$f":"IF(ISERROR(VLOOKUP(Hoja3!T20,Hoja3!$U$2:$V$402,2,0)),\"\",VLOOKUP(Hoja3!T20,Hoja3!$U$2:$V$402,2,0))","v":""}," "," "," "," ",null,null,null,null,null,null,null,"","","","","",""]
[null,{"$f":"IF(ISERROR(VLOOKUP(Hoja3!T21,Hoja3!$U$2:$V$402,2,0)),\"\",VLOOKUP(Hoja3!T21,Hoja3!$U$2:$V$402,2,0))","v":""}," "," "," "," ",null,null,null,null,null,null,null,"","","","","",""]
[null,{"$f":"IF(ISERROR(VLOOKUP(Hoja3!T22,Hoja3!$U$2:$V$402,2,0)),\"\",VLOOKUP(Hoja3!T22,Hoja3!$U$2:$V$402,2,0))","v":""}," "," "," "," ",null,null,null,null,null,null,null,"","","","","",""]
[null,{"$f":"IF(ISERROR(VLOOKUP(Hoja3!T23,Hoja3!$U$2:$V$402,2,0)),\"\",VLOOKUP(Hoja3!T23,Hoja3!$U$2:$V$402,2,0))","v":""}," "," "," "," ",null,null,null,null,null,null,null,"","","","","",""]
[null,{"$f":"IF(ISERROR(VLOOKUP(Hoja3!T24,Hoja3!$U$2:$V$402,2,0)),\"\",VLOOKUP(Hoja3!T24,Hoja3!$U$2:$V$402,2,0))","v":""}," "," "," "," ",null,null,null,null,null,null,null,"","","","","",""]
[null,{"$f":"IF(ISERROR(VLOOKUP(Hoja3!T25,Hoja3!$U$2:$V$402,2,0)),\"\",VLOOKUP(Hoja3!T25,Hoja3!$U$2:$V$402,2,0))","v":""}," "," "," "," ",null,null,null,null,null,null,null,"","","","","",""]
[null,{"$f":"IF(ISERROR(VLOOKUP(Hoja3!T26,Hoja3!$U$2:$V$402,2,0)),\"\",VLOOKUP(Hoja3!T26,Hoja3!$U$2:$V$402,2,0))","v":""}," "," "," "," ",null,null,null,null,null,null,null,"","","","","",""]
[null,{"$f":"IF(ISERROR(VLOOKUP(Hoja3!T27,Hoja3!$U$2:$V$402,2,0)),\"\",VLOOKUP(Hoja3!T27,Hoja3!$U$2:$V$402,2,0))","v":""}," "," "," "," ",null,null,null,null,null,null,null,"","","","","",""]
[null,{"$f":"IF(ISERROR(VLOOKUP(Hoja3!T28,Hoja3!$U$2:$V$402,2,0)),\"\",VLOOKUP(Hoja3!T28,Hoja3!$U$2:$V$402,2,0))","v":""}," "," "," "," ",null,null,null,null,null,null,null,"","","","","",""]
[null,{"$f":"IF(ISERROR(VLOOKUP(Hoja3!T29,Hoja3!$U$2:$V$402,2,0)),\"\",VLOOKUP(Hoja3!T29,Hoja3!$U$2:$V$402,2,0))","v":""}," "," "," "," ",null,null,null,null,null,null,null,"","","","","",""]
[null,{"$f":"IF(ISERROR(VLOOKUP(Hoja3!T30,Hoja3!$U$2:$V$402,2,0)),\"\",VLOOKUP(Hoja3!T30,Hoja3!$U$2:$V$402,2,0))","v":""}," "," "," "," ",null,null,null,null,null,null,null,"","","","","",""]
[null,{"$f":"IF(ISERROR(VLOOKUP(Hoja3!T31,Hoja3!$U$2:$V$402,2,0)),\"\",VLOOKUP(Hoja3!T31,Hoja3!$U$2:$V$402,2,0))","v":""}," "," "," "," ",null,null,null,null,null,null,null,"","","","","",""]
[null,{"$f":"IF(ISERROR(VLOOKUP(Hoja3!T32,Hoja3!$U$2:$V$402,2,0)),\"\",VLOOKUP(Hoja3!T32,Hoja3!$U$2:$V$402,2,0))","v":""}," "," "," "," ",null,null,null,null,null,null,null,"","","","","",""]
[null,{"$f":"IF(ISERROR(VLOOKUP(Hoja3!T33,Hoja3!$U$2:$V$402,2,0)),\"\",VLOOKUP(Hoja3!T33,Hoja3!$U$2:$V$402,2,0))","v":""}," "," "," "," ",null,null,null,null,null,null,null,"","","","","",""]
[null,{"$f":"IF(ISERROR(VLOOKUP(Hoja3!T34,Hoja3!$U$2:$V$402,2,0)),\"\",VLOOKUP(Hoja3!T34,Hoja3!$U$2:$V$402,2,0))","v":""},{"$f":"IF(ISERROR(VLOOKUP(B70,personal,1,0)),\" \",VLOOKUP(B70,personal,3,0))","v":" "},{"$f":"IF(ISERROR(VLOOKUP(B70,personal,1,0)),\" \",VLOOKUP(B70,personal,4,0))","v":" "},{"$f":"IF(ISERROR(VLOOKUP(B70,personal,9,0)),\" \",(VLOOKUP(B70,personal,9,0)))","v":" "},{"$f":"IF(ISERROR(VLOOKUP(B70,personal,19,0)),\" \",(VLOOKUP(B70,personal,19,0)))","v":" "},null,null,null,null,null,null,null,{"$f":"IF(ISERROR(VLOOKUP($B70,personal,G$33,0)),\"\",(VLOOKUP($B70,personal,G$33,0)))","v":""},{"$f":"IF(ISERROR(VLOOKUP($B70,personal,H$33,0)),\"\",(VLOOKUP($B70,personal,H$33,0)))","v":""},{"$f":"IF(ISERROR(VLOOKUP($B70,personal,I$33,0)),\"\",(VLOOKUP($B70,personal,I$33,0)))","v":""},{"$f":"IF(ISERROR(VLOOKUP($B70,personal,J$33,0)),\"\",(VLOOKUP($B70,personal,J$33,0)))","v":""},{"$f":"IF(ISERROR(VLOOKUP($B70,personal,K$33,0)),\"\",(VLOOKUP($B70,personal,K$33,0)))","v":""},{"$f":"IF(ISERROR(VLOOKUP($B70,personal,L$33,0)),\"\",(VLOOKUP($B70,personal,L$33,0)))","v":""}]
[null,{"$f":"IF(ISERROR(VLOOKUP(Hoja3!T35,Hoja3!$U$2:$V$402,2,0)),\"\",VLOOKUP(Hoja3!T35,Hoja3!$U$2:$V$402,2,0))","v":""}," "," "," "," ",null,null,null,null,null,null,null,"","","","","",""]
[null,{"$f":"IF(ISERROR(VLOOKUP(Hoja3!T36,Hoja3!$U$2:$V$402,2,0)),\"\",VLOOKUP(Hoja3!T36,Hoja3!$U$2:$V$402,2,0))","v":""}," "," "," "," ",null,null,null,null,null,null,null,"","","","","",""]
[null,{"$f":"IF(ISERROR(VLOOKUP(Hoja3!T37,Hoja3!$U$2:$V$402,2,0)),\"\",VLOOKUP(Hoja3!T37,Hoja3!$U$2:$V$402,2,0))","v":""}," "," "," "," ",null,null,null,null,null,null,null,"","","","","",""]
[null,{"$f":"IF(ISERROR(VLOOKUP(Hoja3!T38,Hoja3!$U$2:$V$402,2,0)),\"\",VLOOKUP(Hoja3!T38,Hoja3!$U$2:$V$402,2,0))","v":""}," "," "," "," ",null,null,null,null,null,null,null,"","","","","",""]
[null,{"$f":"IF(ISERROR(VLOOKUP(Hoja3!T39,Hoja3!$U$2:$V$402,2,0)),\"\",VLOOKUP(Hoja3!T39,Hoja3!$U$2:$V$402,2,0))","v":""}," "," "," "," ",null,null,null,null,null,null,null,"","","","","",""]
[null,{"$f":"IF(ISERROR(VLOOKUP(Hoja3!T40,Hoja3!$U$2:$V$402,2,0)),\"\",VLOOKUP(Hoja3!T40,Hoja3!$U$2:$V$402,2,0))","v":""}," "," "," "," ",null,null,null,null,null,null,null,"","","","","",""]
[null,{"$f":"IF(ISERROR(VLOOKUP(Hoja3!T41,Hoja3!$U$2:$V$402,2,0)),\"\",VLOOKUP(Hoja3!T41,Hoja3!$U$2:$V$402,2,0))","v":""}," "," "," "," ",null,null,null,null,null,null,null,"","","","","",""]
[null,{"$f":"IF(ISERROR(VLOOKUP(Hoja3!T42,Hoja3!$U$2:$V$402,2,0)),\"\",VLOOKUP(Hoja3!T42,Hoja3!$U$2:$V$402,2,0))","v":""}," "," "," "," ",null,null,null,null,null,null,null,"","","","","",""]
[null,{"$f":"IF(ISERROR(VLOOKUP(Hoja3!T43,Hoja3!$U$2:$V$402,2,0)),\"\",VLOOKUP(Hoja3!T43,Hoja3!$U$2:$V$402,2,0))","v":""}," "," "," "," ",null,null,null,null,null,null,null,"","","","","",""]
[null,{"$f":"IF(ISERROR(VLOOKUP(Hoja3!T44,Hoja3!$U$2:$V$402,2,0)),\"\",VLOOKUP(Hoja3!T44,Hoja3!$U$2:$V$402,2,0))","v":""}," "," "," "," ",null,null,null,null,null,null,null,"","","","","",""]
[null,{"$f":"IF(ISERROR(VLOOKUP(Hoja3!T45,Hoja3!$U$2:$V$402,2,0)),\"\",VLOOKUP(Hoja3!T45,Hoja3!$U$2:$V$402,2,0))","v":""}," "," "," "," ",null,null,null,null,null,null,null,"","","","","",""]
[null,{"$f":"IF(ISERROR(VLOOKUP(Hoja3!T46,Hoja3!$U$2:$V$402,2,0)),\"\",VLOOKUP(Hoja3!T46,Hoja3!$U$2:$V$402,2,0))","v":""}," "," "," "," ",null,null,null,null,null,null,null,"","","","","",""]
[null,{"$f":"IF(ISERROR(VLOOKUP(Hoja3!T47,Hoja3!$U$2:$V$402,2,0)),\"\",VLOOKUP(Hoja3!T47,Hoja3!$U$2:$V$402,2,0))","v":""}," "," "," "," ",null,null,null,null,null,null,null,"","","","","",""]
[null,{"$f":"IF(ISERROR(VLOOKUP(Hoja3!T48,Hoja3!$U$2:$V$402,2,0)),\"\",VLOOKUP(Hoja3!T48,Hoja3!$U$2:$V$402,2,0))","v":""}," "," "," "," ",null,null,null,null,null,null,null,"","","","","",""]
[null,{"$f":"IF(ISERROR(VLOOKUP(Hoja3!T49,Hoja3!$U$2:$V$402,2,0)),\"\",VLOOKUP(Hoja3!T49,Hoja3!$U$2:$V$402,2,0))","v":""}," "," "," "," ",null,null,null,null,null,null,null,"","","","","",""]
[null,{"$f":"IF(ISERROR(VLOOKUP(Hoja3!T50,Hoja3!$U$2:$V$402,2,0)),\"\",VLOOKUP(Hoja3!T50,Hoja3!$U$2:$V$402,2,0))","v":""}," "," "," "," ",null,null,null,null,null,null,null,"","","","","",""]
[]
[null,"Dobles",null,null,null,null,"Abs",null,"Ale-Ben",null,"Fem",null,null,"Abs",null,"Ale-Ben",null,"Fem"]
[null,"nº personal","COGNOM Nom","Edat","RK","Observacions",15,null,16,null,17,null,null,"Posició relativa"]
[null,null,{"$f":"IF(ISERROR(VLOOKUP(B90,personal,1,0)),\" \",VLOOKUP(B90,personal,3,0))","v":" "},{"$f":"IF(ISERROR(VLOOKUP(B90,personal,1,0)),\" \",VLOOKUP(B90,personal,4,0))","v":" "},{"$f":"IF(ISERROR(VLOOKUP(B90,personal,9,0)),\" \",(VLOOKUP(B90,personal,9,0)))","v":" "},{"$f":"IF(ISERROR(VLOOKUP(B90,personal,19,0)),\" \",(VLOOKUP(B90,personal,19,0)))","v":" "},null,null,null,null,null,null,null,{"$f":"IF(ISERROR(VLOOKUP($B90,personal,G$89,0)),\"\",(VLOOKUP($B90,personal,G$89,0)))","v":""},null,{"$f":"IF(ISERROR(VLOOKUP($B90,personal,I$89,0)),\"\",(VLOOKUP($B90,personal,I$89,0)))","v":""},null,{"$f":"IF(ISERROR(VLOOKUP($B90,personal,K$89,0)),\"\",(VLOOKUP($B90,personal,K$89,0)))","v":""}]
[null,null," "," "," "," ",null,null,null,null,null,null,null,"",null,"",null,""]
[null,null," "," "," "," ",null,null,null,null,null,null,null,"",null,"",null,""]
[null,null," "," "," "," ",null,null,null,null,null,null,null,"",null,"",null,""]
[null,null," "," "," "," ",null,null,null,null,null,null,null,"",null,"",null,""]
[null,null," "," "," "," ",null,null,null,null,null,null,null,"",null,"",null,""]
[null,null," "," "," "," ",null,null,null,null,null,null,null,"",null,"",null,""]
[null,null," "," "," "," ",null,null,null,null,null,null,null,"",null,"",null,""]
[null,null," "," "," "," ",null,null,null,null,null,null,null,"",null,"",null,""]
[null,null," "," "," "," ",null,null,null,null,null,null,null,"",null,"",null,""]
[null,null," "," "," "," ",null,null,null,null,null,null,null,"",null,"",null,""]
[null,null," "," "," "," ",null,null,null,null,null,null,null,"",null,"",null,""]
[null,null," "," "," "," ",null,null,null,null,null,null,null,"",null,"",null,""]
[null,null," "," "," "," ",null,null,null,null,null,null,null,"",null,"",null,""]
[null,null," "," "," "," ",null,null,null,null,null,null,null,"",null,"",null,""]
[null,null," "," "," "," ",null,null,null,null,null,null,null,"",null,"",null,""]

{"sheet":"Hoja3","index":1,"n_rows":402,"n_cols":22,"rows_kept":402,"cut":false,"hidden":false,"merged":[]}
[]
[null,null,null,null,null,null,null,null,null,null,null,null,null,null,null,null,null,"CTT AMICS TERRASSA","AMICS",1,{"$f":"IF(V2=\"\",\"\",MAX(U$1:U1)+1)","v":""},{"$f":"IF(ISERROR(IF(ranquing!G3=VLOOKUP(INSCRIPCIÓ!$D$30,$R$2:$S$38,2,0),ranquing!A3,\"\")),\"\",IF(ranquing!G3=VLOOKUP(INSCRIPCIÓ!$D$30,$R$2:$S$38,2,0),ranquing!A3,\"\"))","v":""}]
[null,null,null,null,null,null,null,null,null,null,null,null,null,null,null,null,null,"CTT ATENEU 1882","ATEN82",{"$f":"T2+1","v":2},{"$f":"IF(V3=\"\",\"\",MAX(U$1:U2)+1)","v":""},{"$f":"IF(ISERROR(IF(ranquing!G4=VLOOKUP(INSCRIPCIÓ!$D$30,$R$2:$S$38,2,0),ranquing!A4,\"\")),\"\",IF(ranquing!G4=VLOOKUP(INSCRIPCIÓ!$D$30,$R$2:$S$38,2,0),ranquing!A4,\"\"))","v":""}]
[null,null,null,null,null,1," "," ",null,1,null,null,null,null,null,null,null,"CTT CALELLA","CALELLA",3,{"$f":"IF(V4=\"\",\"\",MAX(U$1:U3)+1)","v":""},{"$f":"IF(ISERROR(IF(ranquing!G5=VLOOKUP(INSCRIPCIÓ!$D$30,$R$2:$S$38,2,0),ranquing!A5,\"\")),\"\",IF(ranquing!G5=VLOOKUP(INSCRIPCIÓ!$D$30,$R$2:$S$38,2,0),ranquing!A5,\"\"))","v":""}]
[null,1,1," ",0,2,"CTT ELS AMICS TERRASSA","43100024","AMICS",null,null,null,"43100062","C9062","CLUB DE 7 A 9",null,null,"CTT CARDEDEU","CARDEDEU",4,{"$f":"IF(V5=\"\",\"\",MAX(U$1:U4)+1)","v":""},{"$f":"IF(ISERROR(IF(ranquing!G6=VLOOKUP(INSCRIPCIÓ!$D$30,$R$2:$S$38,2,0),ranquing!A6,\"\")),\"\",IF(ranquing!G6=VLOOKUP(INSCRIPCIÓ!$D$30,$R$2:$S$38,2,0),ranquing!A6,\"\"))","v":""}]
["Sènior PREFERENT",1,2,{"$f":"A6","v":"Sènior PREFERENT"},120,3,"CLUB ARIEL","43100005","ARIEL",{"$f":"VLOOKUP(J4,club3,2,0)","v":" "},null,null,"43100005",581,"CLUB ARIEL",null,null,"CASTELLAR DEL VALLÈS","CASTELLAR",5,{"$f":"IF(V6=\"\",\"\",MAX(U$1:U5)+1)","v":""},{"$f":"IF(ISERROR(IF(ranquing!G7=VLOOKUP(INSCRIPCIÓ!$D$30,$R$2:$S$38,2,0),ranquing!A7,\"\")),\"\",IF(ranquing!G7=VLOOKUP(INSCRIPCIÓ!$D$30,$R$2:$S$38,2,0),ranquing!A7,\"\"))","v":""}]
["Sènior PRIMERA",1,3,"Sènior PRIMERA",105,4,"CM ARENYS DE MUNT","43100004","ARMUNT",{"$f":"VLOOKUP(J4,club3,3,0)","v":" "},null,null,"43100004",597,"CM ARENYS DE MUNT",null,null,"CTT CASTELLDEFELS","CASTELLDEFELS",6,{"$f":"IF(V7=\"\",\"\",MAX(U$1:U6)+1)","v":""},{"$f":"IF(ISERROR(IF(ranquing!G8=VLOOKUP(INSCRIPCIÓ!$D$30,$R$2:$S$38,2,0),ranquing!A8,\"\")),\"\",IF(ranquing!G8=VLOOKUP(INSCRIPCIÓ!$D$30,$R$2:$S$38,2,0),ranquing!A8,\"\"))","v":""}]
["Sènior SEGONA",1,4,"Sènior SEGONA",90,5,"CTT ATENEU 1882","43100007","ATEN82",null,null,null,"43100006",435,"TT ATENEU LA FLOR DE MAIG",null,null,"CTT CASTELLGALÍ","CLARAM",7,{"$f":"IF(V8=\"\",\"\",MAX(U$1:U7)+1)","v":""},{"$f":"IF(ISERROR(IF(ranquing!G9=VLOOKUP(INSCRIPCIÓ!$D$30,$R$2:$S$38,2,0),ranquing!A9,\"\")),\"\",IF(ranquing!G9=VLOOKUP(INSCRIPCIÓ!$D$30,$R$2:$S$38,2,0),ranquing!A9,\"\"))","v":""}]
["Sènior TERCERA",1,5,"Sènior TERCERA",75,6,"CTT ATENEU POBLENOU","43100204","ATEPN",null,null,null,"43100007",291,"CTT ATENEU 1882",null,null,"CLUB NATACIO SABADELL","CNSABA",8,{"$f":"IF(V9=\"\",\"\",MAX(U$1:U8)+1)","v":""},{"$f":"IF(ISERROR(IF(ranquing!G10=VLOOKUP(INSCRIPCIÓ!$D$30,$R$2:$S$38,2,0),ranquing!A10,\"\")),\"\",IF(ranquing!G10=VLOOKUP(INSCRIPCIÓ!$D$30,$R$2:$S$38,2,0),ranquing!A10,\"\"))","v":""}]
["VETERANS 1ª",null,6,"VETERANS 1ª",80,7,"CTT L'AVENÇ","43100008","AVENÇ",null,null,null,"43100008","C9008","CTT L'AVENÇ",null,null,"CTT VILANOVA DEL CAMÍ","COLLBATO",9,{"$f":"IF(V10=\"\",\"\",MAX(U$1:U9)+1)","v":""},{"$f":"IF(ISERROR(IF(ranquing!G11=VLOOKUP(INSCRIPCIÓ!$D$30,$R$2:$S$38,2,0),ranquing!A11,\"\")),\"\",IF(ranquing!G11=VLOOKUP(INSCRIPCIÓ!$D$30,$R$2:$S$38,2,0),ranquing!A11,\"\"))","v":""}]
["VETERANS 2ª",null,7,"VETERANS 2ª",80,8,"CTT BADALONA","43100009","BADALO",null,null,null,"43100009",293,"CTT BADALONA",null,null,"AGRUPACIÓ CONGRÉS","CONGRES",10,{"$f":"IF(V11=\"\",\"\",MAX(U$1:U10)+1)","v":""},{"$f":"IF(ISERROR(IF(ranquing!G12=VLOOKUP(INSCRIPCIÓ!$D$30,$R$2:$S$38,2,0),ranquing!A12,\"\")),\"\",IF(ranquing!G12=VLOOKUP(INSCRIPCIÓ!$D$30,$R$2:$S$38,2,0),ranquing!A12,\"\"))","v":""}]
["VETERANS 3ª",null,8,"VETERANS 3ª",80,9,"CTT BAGÀ","43100010","BAGA",null,null,null,"43100010",247,"CTT BAGÀ",null,null,"CTT COLLBATÓ","CTGALI",11,{"$f":"IF(V12=\"\",\"\",MAX(U$1:U11)+1)","v":""},{"$f":"IF(ISERROR(IF(ranquing!G13=VLOOKUP(INSCRIPCIÓ!$D$30,$R$2:$S$38,2,0),ranquing!A13,\"\")),\"\",IF(ranquing!G13=VLOOKUP(INSCRIPCIÓ!$D$30,$R$2:$S$38,2,0),ranquing!A13,\"\"))","v":""}]
["FEMENÍ",null,9,"FEMENÍ",75,10,"CT BARCINO","43100012","BARCIN",null,null,null,"43100012",253,"CT BARCINO",null,null,"CTT DELS HORTS 2000","DELS HORTS",12,{"$f":"IF(V13=\"\",\"\",MAX(U$1:U12)+1)","v":""},{"$f":"IF(ISERROR(IF(ranquing!G14=VLOOKUP(INSCRIPCIÓ!$D$30,$R$2:$S$38,2,0),ranquing!A14,\"\")),\"\",IF(ranquing!G14=VLOOKUP(INSCRIPCIÓ!$D$30,$R$2:$S$38,2,0),ranquing!A14,\"\"))","v":""}]
["VET +50",null,10,"VET +50",80,11,"BELLVITGE ALHEÑA","43100014","BELLVI",null,null,null,"43100014","C9014","BELLVITGE ALHEÑA",null,null,"CETT ESPARREGUERA","ESPARREGU.",13,{"$f":"IF(V14=\"\",\"\",MAX(U$1:U13)+1)","v":""},{"$f":"IF(ISERROR(IF(ranquing!G15=VLOOKUP(INSCRIPCIÓ!$D$30,$R$2:$S$38,2,0),ranquing!A15,\"\")),\"\",IF(ranquing!G15=VLOOKUP(INSCRIPCIÓ!$D$30,$R$2:$S$38,2,0),ranquing!A15,\"\"))","v":""}]
[null,null,null,null,null,12,"AP LA CAIXA","43100016","CAIXA",null,null,null,"43100016",423,"AP LA CAIXA",null,null,"EUROCLIMA BADALONA","EUROCLIMA BDN",14,{"$f":"IF(V15=\"\",\"\",MAX(U$1:U14)+1)","v":""},{"$f":"IF(ISERROR(IF(ranquing!G16=VLOOKUP(INSCRIPCIÓ!$D$30,$R$2:$S$38,2,0),ranquing!A16,\"\")),\"\",IF(ranquing!G16=VLOOKUP(INSCRIPCIÓ!$D$30,$R$2:$S$38,2,0),ranquing!A16,\"\"))","v":""}]
[null,null,null,null,null,13,"CTT CALELLA","43100018","CALEL",null,null,null,"43100017","C9017","CTT CALAF",null,null,"CLUB FALCONS DE SABADELL","FALCONS",15,{"$f":"IF(V16=\"\",\"\",MAX(U$1:U15)+1)","v":""},{"$f":"IF(ISERROR(IF(ranquing!G17=VLOOKUP(INSCRIPCIÓ!$D$30,$R$2:$S$38,2,0),ranquing!A17,\"\")),\"\",IF(ranquing!G17=VLOOKUP(INSCRIPCIÓ!$D$30,$R$2:$S$38,2,0),ranquing!A17,\"\"))","v":""}]
[null,null,null,null,null,14,"CTT CANET DE MAR","43100020","CANET",null,null,null,"43100018",248,"CTT CALELLA",null,null,"LLUÏSOS D'HORTA TT","HORTA",16,{"$f":"IF(V17=\"\",\"\",MAX(U$1:U16)+1)","v":""},{"$f":"IF(ISERROR(IF(ranquing!G18=VLOOKUP(INSCRIPCIÓ!$D$30,$R$2:$S$38,2,0),ranquing!A18,\"\")),\"\",IF(ranquing!G18=VLOOKUP(INSCRIPCIÓ!$D$30,$R$2:$S$38,2,0),ranquing!A18,\"\"))","v":""}]
[null,{"$f":"VLOOKUP(B5,_cat10,3,0)","v":0},null,null,null,15,"CTT CARDEDEU","43100190","CARDED",null,null,null,"43100020","C9020","CTT CANET DE MAR",null,null,"TT L'HOSPITALET","HOSPIT",17,{"$f":"IF(V18=\"\",\"\",MAX(U$1:U17)+1)","v":""},{"$f":"IF(ISERROR(IF(ranquing!G19=VLOOKUP(INSCRIPCIÓ!$D$30,$R$2:$S$38,2,0),ranquing!A19,\"\")),\"\",IF(ranquing!G19=VLOOKUP(INSCRIPCIÓ!$D$30,$R$2:$S$38,2,0),ranquing!A19,\"\"))","v":""}]
[null,{"$f":"VLOOKUP(B5,_cat10,3,0)","v":0},null,null,null,16,"CTT CASTELLDEFELS","43100090","CASTDF",null,null,null,"43100090","C9090","CTT CASTELLDEFELS",null,null,"ICELAND ELS 8","ICELAND ELS 8",18,{"$f":"IF(V19=\"\",\"\",MAX(U$1:U18)+1)","v":""},{"$f":"IF(ISERROR(IF(ranquing!G20=VLOOKUP(INSCRIPCIÓ!$D$30,$R$2:$S$38,2,0),ranquing!A20,\"\")),\"\",IF(ranquing!G20=VLOOKUP(INSCRIPCIÓ!$D$30,$R$2:$S$38,2,0),ranquing!A20,\"\"))","v":""}]
[null,null,null,null,null,17,"CERCLE CATOLIC DE GRACIA","43100030","CCGRAC",null,null,null,"43100030","C9030","CERCLE CATOLIC DE GRACIA",null,null,"CPP IGUALADA","IGUALA",19,{"$f":"IF(V20=\"\",\"\",MAX(U$1:U19)+1)","v":""},{"$f":"IF(ISERROR(IF(ranquing!G21=VLOOKUP(INSCRIPCIÓ!$D$30,$R$2:$S$38,2,0),ranquing!A21,\"\")),\"\",IF(ranquing!G21=VLOOKUP(INSCRIPCIÓ!$D$30,$R$2:$S$38,2,0),ranquing!A21,\"\"))","v":""}]
[null,null,null,null,null,18,"EL CENTRE","43100031","CENTRE",null,null,null,"43100031",598,"EL CENTRE",null,null,"INDEPENDENT","INDEPEN",20,{"$f":"IF(V21=\"\",\"\",MAX(U$1:U20)+1)","v":""},{"$f":"IF(ISERROR(IF(ranquing!G22=VLOOKUP(INSCRIPCIÓ!$D$30,$R$2:$S$38,2,0),ranquing!A22,\"\")),\"\",IF(ranquing!G22=VLOOKUP(INSCRIPCIÓ!$D$30,$R$2:$S$38,2,0),ranquing!A22,\"\"))","v":""}]
[null,1,1," ",0,19,"SCR EL CIERVO","43100080","CIERVO",null,null,null,"43100080",243,"SCR EL CIERVO",null,null,"LA UNIÓ","LA UNIÓ",21,{"$f":"IF(V22=\"\",\"\",MAX(U$1:U21)+1)","v":""},{"$f":"IF(ISERROR(IF(ranquing!G23=VLOOKUP(INSCRIPCIÓ!$D$30,$R$2:$S$38,2,0),ranquing!A23,\"\")),\"\",IF(ranquing!G23=VLOOKUP(INSCRIPCIÓ!$D$30,$R$2:$S$38,2,0),ranquing!A23,\"\"))","v":""}]
["Sènior PREFERENT",1,2,{"$f":"A23","v":"Sènior PREFERENT"},120,20,"CTT LA TORRE DE CLARAMUNT","43100191","CLARAM",null,null,null,"43100022","C9022","CB CIUTAT VELLA",null,null,"LLUÏSOS DE GRÀCIA","LLUÏSOS",22,{"$f":"IF(V23=\"\",\"\",MAX(U$1:U22)+1)","v":""},{"$f":"IF(ISERROR(IF(ranquing!G24=VLOOKUP(INSCRIPCIÓ!$D$30,$R$2:$S$38,2,0),ranquing!A24,\"\")),\"\",IF(ranquing!G24=VLOOKUP(INSCRIPCIÓ!$D$30,$R$2:$S$38,2,0),ranquing!A24,\"\"))","v":""}]
["Sènior PRIMERA",1,3,"Sènior PRIMERA",105,21,"CLUB NATACIO SABADELL","43100076","CNSABA",null,null,null,"43100076","C9076","CLUB NATACIO SABADELL",null,null,"MASQUEFA TTC","MASQUEFA",23,{"$f":"IF(V24=\"\",\"\",MAX(U$1:U23)+1)","v":""},{"$f":"IF(ISERROR(IF(ranquing!G25=VLOOKUP(INSCRIPCIÓ!$D$30,$R$2:$S$38,2,0),ranquing!A25,\"\")),\"\",IF(ranquing!G25=VLOOKUP(INSCRIPCIÓ!$D$30,$R$2:$S$38,2,0),ranquing!A25,\"\"))","v":""}]
["Sènior SEGONA",1,4,"Sènior SEGONA",90,22,"CTT COLLBATO","43100083","COLLBA",null,null,null,"43100083","C9080","CTT COLLBATO",null,null,"CN MATARÓ","MATARO",24,{"$f":"IF(V25=\"\",\"\",MAX(U$1:U24)+1)","v":""},{"$f":"IF(ISERROR(IF(ranquing!G26=VLOOKUP(INSCRIPCIÓ!$D$30,$R$2:$S$38,2,0),ranquing!A26,\"\")),\"\",IF(ranquing!G26=VLOOKUP(INSCRIPCIÓ!$D$30,$R$2:$S$38,2,0),ranquing!A26,\"\"))","v":""}]
["Sènior TERCERA",1,5,"Sènior TERCERA",75,23,"AGRUPACIÓ CONGRÉS","43100001","CONGRE",null,null,null,"43100001",300,"AGRUPACIÓ CONGRÉS",null,null,"CTT OLESA","OLESA",25,{"$f":"IF(V26=\"\",\"\",MAX(U$1:U25)+1)","v":""},{"$f":"IF(ISERROR(IF(ranquing!G27=VLOOKUP(INSCRIPCIÓ!$D$30,$R$2:$S$38,2,0),ranquing!A27,\"\")),\"\",IF(ranquing!G27=VLOOKUP(INSCRIPCIÓ!$D$30,$R$2:$S$38,2,0),ranquing!A27,\"\"))","v":""}]
["VETERANS 1ª",null,6,"VETERANS 1ª",80,24,"ATT CASTELLAR","43100203","CTLLAR",null,null,null,"43100023","C9023","CTT CUBELLES",null,null,"TT PARETS","PARETS",26,{"$f":"IF(V27=\"\",\"\",MAX(U$1:U26)+1)","v":""},{"$f":"IF(ISERROR(IF(ranquing!G28=VLOOKUP(INSCRIPCIÓ!$D$30,$R$2:$S$38,2,0),ranquing!A28,\"\")),\"\",IF(ranquing!G28=VLOOKUP(INSCRIPCIÓ!$D$30,$R$2:$S$38,2,0),ranquing!A28,\"\"))","v":""}]
["VETERANS 2ª",null,7,"VETERANS 2ª",80,25,"CTT CUBELLES","43100023","CUBEL",null,null,null,"43100025","C9025","ELS 8 DE LA GARRIGA",null,null,"TT ATENEU POBLE NOU","POBLENOU",27,{"$f":"IF(V28=\"\",\"\",MAX(U$1:U27)+1)","v":""},{"$f":"IF(ISERROR(IF(ranquing!G29=VLOOKUP(INSCRIPCIÓ!$D$30,$R$2:$S$38,2,0),ranquing!A29,\"\")),\"\",IF(ranquing!G29=VLOOKUP(INSCRIPCIÓ!$D$30,$R$2:$S$38,2,0),ranquing!A29,\"\"))","v":""}]
["VETERANS 3ª",null,8,"VETERANS 3ª",80,26,"ELS 8 DE LA GARRIGA","43100025","ELS 8",null,null,null,"43100026",96,"EPIC CASINO COMERÇ",null,null,"ATT PREMIÀ DE MAR","PREMIA",28,{"$f":"IF(V29=\"\",\"\",MAX(U$1:U28)+1)","v":""},{"$f":"IF(ISERROR(IF(ranquing!G30=VLOOKUP(INSCRIPCIÓ!$D$30,$R$2:$S$38,2,0),ranquing!A30,\"\")),\"\",IF(ranquing!G30=VLOOKUP(INSCRIPCIÓ!$D$30,$R$2:$S$38,2,0),ranquing!A30,\"\"))","v":""}]
["FEMENÍ",null,9,"FEMENÍ",75,27,"CETT ESPARREGUERA","43100178","ESPARR",null,null,null,"43100027",195,"CLUB FALCONS",null,null,"CEM REINA ELISENDA","R.ELISENDA",29,{"$f":"IF(V30=\"\",\"\",MAX(U$1:U29)+1)","v":""},{"$f":"IF(ISERROR(IF(ranquing!G31=VLOOKUP(INSCRIPCIÓ!$D$30,$R$2:$S$38,2,0),ranquing!A31,\"\")),\"\",IF(ranquing!G31=VLOOKUP(INSCRIPCIÓ!$D$30,$R$2:$S$38,2,0),ranquing!A31,\"\"))","v":""}]
["VET +50",null,10,"VET +50",80,28,"CLUB FALCONS SABADELL AE","43100027","FALCO",null,null,null,"43100075","C9075","TT CAN FATJO",null,null,"CTT RIPOLLET","RIPOLLET",30,{"$f":"IF(V31=\"\",\"\",MAX(U$1:U30)+1)","v":""},{"$f":"IF(ISERROR(IF(ranquing!G32=VLOOKUP(INSCRIPCIÓ!$D$30,$R$2:$S$38,2,0),ranquing!A32,\"\")),\"\",IF(ranquing!G32=VLOOKUP(INSCRIPCIÓ!$D$30,$R$2:$S$38,2,0),ranquing!A32,\"\"))","v":""}]
[null,null,null,null,null,29,"CAN FATJÓ 100X100 PINGPONG","43100075","FATJO",null,null,null,"43100028","C9028","FOMENT MARTINENC",null,null,"RODA DE TER","RODA",31,{"$f":"IF(V32=\"\",\"\",MAX(U$1:U31)+1)","v":""},{"$f":"IF(ISERROR(IF(ranquing!G33=VLOOKUP(INSCRIPCIÓ!$D$30,$R$2:$S$38,2,0),ranquing!A33,\"\")),\"\",IF(ranquing!G33=VLOOKUP(INSCRIPCIÓ!$D$30,$R$2:$S$38,2,0),ranquing!A33,\"\"))","v":""}]
[null,null,null,null,null,30,"FOMENT MARTINENC","43100028","FOMEN",null,null,null,"43100033",260,"CP HORTA TT",null,null,"CTT SALLENT","SALLENT",32,{"$f":"IF(V33=\"\",\"\",MAX(U$1:U32)+1)","v":""},{"$f":"IF(ISERROR(IF(ranquing!G34=VLOOKUP(INSCRIPCIÓ!$D$30,$R$2:$S$38,2,0),ranquing!A34,\"\")),\"\",IF(ranquing!G34=VLOOKUP(INSCRIPCIÓ!$D$30,$R$2:$S$38,2,0),ranquing!A34,\"\"))","v":""}]
[null,null,null,null,null,31,"LLUÏSOS D'HORTA TT","43100033","HORTA",null,null,null,"43100034",261,"TT L'HOSPITALET",null,null,"UE SANT CUGAT","STCUGAT",33,{"$f":"IF(V34=\"\",\"\",MAX(U$1:U33)+1)","v":""},{"$f":"IF(ISERROR(IF(ranquing!G35=VLOOKUP(INSCRIPCIÓ!$D$30,$R$2:$S$38,2,0),ranquing!A35,\"\")),\"\",IF(ranquing!G35=VLOOKUP(INSCRIPCIÓ!$D$30,$R$2:$S$38,2,0),ranquing!A35,\"\"))","v":""}]
[null,{"$f":"VLOOKUP(B22,_cat20,3,0)","v":0},null,null,null,32,"TT L'HOSPITALET","43100034","HOSPIT",null,null,null,"43100035",259,"CPP IGUALADA",null,null,"VIC TT","VIC",34,{"$f":"IF(V35=\"\",\"\",MAX(U$1:U34)+1)","v":""},{"$f":"IF(ISERROR(IF(ranquing!G36=VLOOKUP(INSCRIPCIÓ!$D$30,$R$2:$S$38,2,0),ranquing!A36,\"\")),\"\",IF(ranquing!G36=VLOOKUP(INSCRIPCIÓ!$D$30,$R$2:$S$38,2,0),ranquing!A36,\"\"))","v":""}]
[null,{"$f":"VLOOKUP(B22,_cat20,3,0)","v":0},null,null,null,33,"IES Ma. AURELIA CAPMANY","43100189","IESMAC",null,null,null,"43100036",449,"ACR EL JARDI",null,null,"CTT VILAFRANCA","VILAFRANCA",35,{"$f":"IF(V36=\"\",\"\",MAX(U$1:U35)+1)","v":""},{"$f":"IF(ISERROR(IF(ranquing!G37=VLOOKUP(INSCRIPCIÓ!$D$30,$R$2:$S$38,2,0),ranquing!A37,\"\")),\"\",IF(ranquing!G37=VLOOKUP(INSCRIPCIÓ!$D$30,$R$2:$S$38,2,0),ranquing!A37,\"\"))","v":""}]
[null,null,null,null,null,34,"CPP IGUALADA","43100035","IGUALA",null,null,null,"43100037","C9037","TT JEMA",null,null,"CTT VILANOVA I LA GELTRÚ","VILANOVA",36,{"$f":"IF(V37=\"\",\"\",MAX(U$1:U36)+1)","v":""},{"$f":"IF(ISERROR(IF(ranquing!G38=VLOOKUP(INSCRIPCIÓ!$D$30,$R$2:$S$38,2,0),ranquing!A38,\"\")),\"\",IF(ranquing!G38=VLOOKUP(INSCRIPCIÓ!$D$30,$R$2:$S$38,2,0),ranquing!A38,\"\"))","v":""}]
[null,null,null,null,null,35,"INDEPENDENT",null,"INDEPE",null,null,null,"43100081",622,"ALIANÇA LLIÇÀ",null,null,"CTT LA TORRE DE CLARAMUNT","VILCAMI",37,{"$f":"IF(V38=\"\",\"\",MAX(U$1:U37)+1)","v":""},{"$f":"IF(ISERROR(IF(ranquing!G39=VLOOKUP(INSCRIPCIÓ!$D$30,$R$2:$S$38,2,0),ranquing!A39,\"\")),\"\",IF(ranquing!G39=VLOOKUP(INSCRIPCIÓ!$D$30,$R$2:$S$38,2,0),ranquing!A39,\"\"))","v":""}]
[null,1,1," ",0,36,"CTT SANT QUINTÍ DE MEDIONA","43100036","JARDÍ",null,null,null,"43100039",290,"LLUÏSOS DE GRÀCIA",null,null,null,null,38,{"$f":"IF(V39=\"\",\"\",MAX(U$1:U38)+1)","v":""},{"$f":"IF(ISERROR(IF(ranquing!G40=VLOOKUP(INSCRIPCIÓ!$D$30,$R$2:$S$38,2,0),ranquing!A40,\"\")),\"\",IF(ranquing!G40=VLOOKUP(INSCRIPCIÓ!$D$30,$R$2:$S$38,2,0),ranquing!A40,\"\"))","v":""}]
["Sènior PREFERENT",1,2,{"$f":"A40","v":"Sènior PREFERENT"},120,37,"TT C JEMA","43100037","JEMAC",null,null,null,"43100044","C9044","CTT MARINA",null,null,null,null,39,{"$f":"IF(V40=\"\",\"\",MAX(U$1:U39)+1)","v":""},{"$f":"IF(ISERROR(IF(ranquing!G41=VLOOKUP(INSCRIPCIÓ!$D$30,$R$2:$S$38,2,0),ranquing!A41,\"\")),\"\",IF(ranquing!G41=VLOOKUP(INSCRIPCIÓ!$D$30,$R$2:$S$38,2,0),ranquing!A41,\"\"))","v":""}]
["Sènior PRIMERA",1,3,"Sènior PRIMERA",105,38,"ALIANÇA LLIÇÀ","43100081","LLIÇA",null,null,null,"43100040",278,"CN MATARÓ",null,null,null,null,40,{"$f":"IF(V41=\"\",\"\",MAX(U$1:U40)+1)","v":""},{"$f":"IF(ISERROR(IF(ranquing!G42=VLOOKUP(INSCRIPCIÓ!$D$30,$R$2:$S$38,2,0),ranquing!A42,\"\")),\"\",IF(ranquing!G42=VLOOKUP(INSCRIPCIÓ!$D$30,$R$2:$S$38,2,0),ranquing!A42,\"\"))","v":""}]
["Sènior SEGONA",1,4,"Sènior SEGONA",90,39,"LLUÏSOS DE GRÀCIA","43100039","LLUÏSO",null,null,null,"43100042",575,"CTT ATC MOLINS DE REI",null,null,null,null,41,{"$f":"IF(V42=\"\",\"\",MAX(U$1:U41)+1)","v":""},{"$f":"IF(ISERROR(IF(ranquing!G43=VLOOKUP(INSCRIPCIÓ!$D$30,$R$2:$S$38,2,0),ranquing!A43,\"\")),\"\",IF(ranquing!G43=VLOOKUP(INSCRIPCIÓ!$D$30,$R$2:$S$38,2,0),ranquing!A43,\"\"))","v":""}]
["Sènior TERCERA",1,5,"Sènior TERCERA",75,40,"MASQUEFA TTC","43100177","MASQUE",null,null,null,"43100043",433,"MOLLET 2002 TT",null,null,null,null,42,{"$f":"IF(V43=\"\",\"\",MAX(U$1:U42)+1)","v":""},{"$f":"IF(ISERROR(IF(ranquing!G44=VLOOKUP(INSCRIPCIÓ!$D$30,$R$2:$S$38,2,0),ranquing!A44,\"\")),\"\",IF(ranquing!G44=VLOOKUP(INSCRIPCIÓ!$D$30,$R$2:$S$38,2,0),ranquing!A44,\"\"))","v":""}]
["VETERANS 1ª",null,6,"VETERANS 1ª",80,41,"CN MATARÓ","43100040","MATARO",null,null,null,"43100045","C9045","CTT MONTBUI",null,null,null,null,43,{"$f":"IF(V44=\"\",\"\",MAX(U$1:U43)+1)","v":""},{"$f":"IF(ISERROR(IF(ranquing!G45=VLOOKUP(INSCRIPCIÓ!$D$30,$R$2:$S$38,2,0),ranquing!A45,\"\")),\"\",IF(ranquing!G45=VLOOKUP(INSCRIPCIÓ!$D$30,$R$2:$S$38,2,0),ranquing!A45,\"\"))","v":""}]
["VETERANS 2ª",null,7,"VETERANS 2ª",80,42,"CTT ATC MOLINS DE REI","43100042","MOLINS",null,null,null,"43100047",252,"CTT OLESA",null,null,null,null,44,{"$f":"IF(V45=\"\",\"\",MAX(U$1:U44)+1)","v":""},{"$f":"IF(ISERROR(IF(ranquing!G46=VLOOKUP(INSCRIPCIÓ!$D$30,$R$2:$S$38,2,0),ranquing!A46,\"\")),\"\",IF(ranquing!G46=VLOOKUP(INSCRIPCIÓ!$D$30,$R$2:$S$38,2,0),ranquing!A46,\"\"))","v":""}]
["VETERANS 3ª",null,8,"VETERANS 3ª",80,43,"MOLLET 2002 TT","43100043","MOLLET",null,null,null,"43100038",498,"CTT JOSEP M. PALES",null,null,null,null,45,{"$f":"IF(V46=\"\",\"\",MAX(U$1:U45)+1)","v":""},{"$f":"IF(ISERROR(IF(ranquing!G47=VLOOKUP(INSCRIPCIÓ!$D$30,$R$2:$S$38,2,0),ranquing!A47,\"\")),\"\",IF(ranquing!G47=VLOOKUP(INSCRIPCIÓ!$D$30,$R$2:$S$38,2,0),ranquing!A47,\"\"))","v":""}]
["FEMENÍ",null,9,"FEMENÍ",75,44,"CTT MONTBUI","43100045","MONTBU",null,null,null,"43100049",292,"TT PARETS",null,null,null,null,46,{"$f":"IF(V47=\"\",\"\",MAX(U$1:U46)+1)","v":""},{"$f":"IF(ISERROR(IF(ranquing!G48=VLOOKUP(INSCRIPCIÓ!$D$30,$R$2:$S$38,2,0),ranquing!A48,\"\")),\"\",IF(ranquing!G48=VLOOKUP(INSCRIPCIÓ!$D$30,$R$2:$S$38,2,0),ranquing!A48,\"\"))","v":""}]
["VET +50",null,10,"VET +50",80,45,"CTT OLESA","43100047","OLESA",null,null,null,"43100050",262,"TT LA PASSIÓ D'ESP.",null,null,null,null,47,{"$f":"IF(V48=\"\",\"\",MAX(U$1:U47)+1)","v":""},{"$f":"IF(ISERROR(IF(ranquing!G49=VLOOKUP(INSCRIPCIÓ!$D$30,$R$2:$S$38,2,0),ranquing!A49,\"\")),\"\",IF(ranquing!G49=VLOOKUP(INSCRIPCIÓ!$D$30,$R$2:$S$38,2,0),ranquing!A49,\"\"))","v":""}]
[null,null,null,null,null,46,"TT PEP PALÉS","43100038","PALES",null,null,null,"43100082","C9082","CTT LA POBLA DE LILLET",null,null,null,null,48,{"$f":"IF(V49=\"\",\"\",MAX(U$1:U48)+1)","v":""},{"$f":"IF(ISERROR(IF(ranquing!G50=VLOOKUP(INSCRIPCIÓ!$D$30,$R$2:$S$38,2,0),ranquing!A50,\"\")),\"\",IF(ranquing!G50=VLOOKUP(INSCRIPCIÓ!$D$30,$R$2:$S$38,2,0),ranquing!A50,\"\"))","v":""}]
[null,null,null,null,null,47,"TT PARETS","43100049","PARETS",null,null,null,"43100052","C9052","TT PRAT",null,null,null,null,49,{"$f":"IF(V50=\"\",\"\",MAX(U$1:U49)+1)","v":""},{"$f":"IF(ISERROR(IF(ranquing!G51=VLOOKUP(INSCRIPCIÓ!$D$30,$R$2:$S$38,2,0),ranquing!A51,\"\")),\"\",IF(ranquing!G51=VLOOKUP(INSCRIPCIÓ!$D$30,$R$2:$S$38,2,0),ranquing!A51,\"\"))","v":""}]
[null,{"$f":"VLOOKUP(B39,_cat30,3,0)","v":0},null,null,null,48,"CTT LA POBLA DE LILLET","43100082","POBLA",null,null,null,"43100053",268,"ATT PREMIÀ DE MAR",null,null,null,null,50,{"$f":"IF(V51=\"\",\"\",MAX(U$1:U50)+1)","v":""},{"$f":"IF(ISERROR(IF(ranquing!G52=VLOOKUP(INSCRIPCIÓ!$D$30,$R$2:$S$38,2,0),ranquing!A52,\"\")),\"\",IF(ranquing!G52=VLOOKUP(INSCRIPCIÓ!$D$30,$R$2:$S$38,2,0),ranquing!A52,\"\"))","v":""}]
[null,{"$f":"VLOOKUP(B39,_cat20,3,0)","v":0},null,null,null,49,"TT PRAT","43100052","PRAT",null,null,null,"43100079","C9079","CTT SANT QUIRZE DEL VALLÈS",null,null,null,null,51,{"$f":"IF(V52=\"\",\"\",MAX(U$1:U51)+1)","v":""},{"$f":"IF(ISERROR(IF(ranquing!G53=VLOOKUP(INSCRIPCIÓ!$D$30,$R$2:$S$38,2,0),ranquing!A53,\"\")),\"\",IF(ranquing!G53=VLOOKUP(INSCRIPCIÓ!$D$30,$R$2:$S$38,2,0),ranquing!A53,\"\"))","v":""}]
[null,null,null,null,null,50,"ATT PREMIÀ DE MAR","43100053","PREMIA",null,null,null,"43100054",246,"CTT RIPOLLET",null,null,null,null,52,{"$f":"IF(V53=\"\",\"\",MAX(U$1:U52)+1)","v":""},{"$f":"IF(ISERROR(IF(ranquing!G54=VLOOKUP(INSCRIPCIÓ!$D$30,$R$2:$S$38,2,0),ranquing!A54,\"\")),\"\",IF(ranquing!G54=VLOOKUP(INSCRIPCIÓ!$D$30,$R$2:$S$38,2,0),ranquing!A54,\"\"))","v":""}]
[null,null,null,null,null,51,"CTT SANT QUIRZE DEL VALLÈS","43100079","QUIRZ",null,null,null,"43100057",335,"CC SANT ANDREU",null,null,null,null,53,{"$f":"IF(V54=\"\",\"\",MAX(U$1:U53)+1)","v":""},{"$f":"IF(ISERROR(IF(ranquing!G55=VLOOKUP(INSCRIPCIÓ!$D$30,$R$2:$S$38,2,0),ranquing!A55,\"\")),\"\",IF(ranquing!G55=VLOOKUP(INSCRIPCIÓ!$D$30,$R$2:$S$38,2,0),ranquing!A55,\"\"))","v":""}]
[null,null,null,null,null,52,"CTT RIBERA D'ONDARA",43100192,"RIBERA",null,null,null,"43100078","C9078","CATT SANT CELONI",null,null,null,null,54,{"$f":"IF(V55=\"\",\"\",MAX(U$1:U54)+1)","v":""},{"$f":"IF(ISERROR(IF(ranquing!G56=VLOOKUP(INSCRIPCIÓ!$D$30,$R$2:$S$38,2,0),ranquing!A56,\"\")),\"\",IF(ranquing!G56=VLOOKUP(INSCRIPCIÓ!$D$30,$R$2:$S$38,2,0),ranquing!A56,\"\"))","v":""}]
[null,1,1," ",0,53,"CTT RIPOLLET","43100054","RIPLET",null,null,null,"43100058",406,"UE SANT CUGAT",null,null,null,null,55,{"$f":"IF(V56=\"\",\"\",MAX(U$1:U55)+1)","v":""},{"$f":"IF(ISERROR(IF(ranquing!G57=VLOOKUP(INSCRIPCIÓ!$D$30,$R$2:$S$38,2,0),ranquing!A57,\"\")),\"\",IF(ranquing!G57=VLOOKUP(INSCRIPCIÓ!$D$30,$R$2:$S$38,2,0),ranquing!A57,\"\"))","v":""}]
["Sènior PREFERENT",1,2,{"$f":"A57","v":"Sènior PREFERENT"},120,54,"CTT RODA DE TER",43100209,"RODA",null,null,null,"43100056",256,"CTT SALLENT",null,null,null,null,56,{"$f":"IF(V57=\"\",\"\",MAX(U$1:U56)+1)","v":""},{"$f":"IF(ISERROR(IF(ranquing!G58=VLOOKUP(INSCRIPCIÓ!$D$30,$R$2:$S$38,2,0),ranquing!A58,\"\")),\"\",IF(ranquing!G58=VLOOKUP(INSCRIPCIÓ!$D$30,$R$2:$S$38,2,0),ranquing!A58,\"\"))","v":""}]
["Sènior PRIMERA",1,3,"Sènior PRIMERA",105,55,"CC SANT ANDREU","43100057","S.ANDR",null,null,null,"43100061",269,"CC SANTS - BERNADÍ",null,null,null,null,57,{"$f":"IF(V58=\"\",\"\",MAX(U$1:U57)+1)","v":""},{"$f":"IF(ISERROR(IF(ranquing!G59=VLOOKUP(INSCRIPCIÓ!$D$30,$R$2:$S$38,2,0),ranquing!A59,\"\")),\"\",IF(ranquing!G59=VLOOKUP(INSCRIPCIÓ!$D$30,$R$2:$S$38,2,0),ranquing!A59,\"\"))","v":""}]
["Sènior SEGONA",1,4,"Sènior SEGONA",90,56,"CATT SANT CELONI","43100078","S.CELO",null,null,null,"43100055","C9055","CTT SANT FELIU DE CODINES",null,null,null,null,58,{"$f":"IF(V59=\"\",\"\",MAX(U$1:U58)+1)","v":""},{"$f":"IF(ISERROR(IF(ranquing!G60=VLOOKUP(INSCRIPCIÓ!$D$30,$R$2:$S$38,2,0),ranquing!A60,\"\")),\"\",IF(ranquing!G60=VLOOKUP(INSCRIPCIÓ!$D$30,$R$2:$S$38,2,0),ranquing!A60,\"\"))","v":""}]
["Sènior TERCERA",1,5,"Sènior TERCERA",75,57,"UE SANT CUGAT","43100058","S.CUGA",null,null,null,"43100060","C9060","CTT DELS HORTS 2000",null,null,null,null,59,{"$f":"IF(V60=\"\",\"\",MAX(U$1:U59)+1)","v":""},{"$f":"IF(ISERROR(IF(ranquing!G61=VLOOKUP(INSCRIPCIÓ!$D$30,$R$2:$S$38,2,0),ranquing!A61,\"\")),\"\",IF(ranquing!G61=VLOOKUP(INSCRIPCIÓ!$D$30,$R$2:$S$38,2,0),ranquing!A61,\"\"))","v":""}]
["VETERANS 1ª",null,6,"VETERANS 1ª",80,58,"CTT SALLENT","43100056","SALLEN",null,null,null,"43100137","C9137","CTT SANT VICENÇ DE TORELLO",null,null,null,null,60,{"$f":"IF(V61=\"\",\"\",MAX(U$1:U60)+1)","v":""},{"$f":"IF(ISERROR(IF(ranquing!G62=VLOOKUP(INSCRIPCIÓ!$D$30,$R$2:$S$38,2,0),ranquing!A62,\"\")),\"\",IF(ranquing!G62=VLOOKUP(INSCRIPCIÓ!$D$30,$R$2:$S$38,2,0),ranquing!A62,\"\"))","v":""}]
["VETERANS 2ª",null,7,"VETERANS 2ª",80,59,"CC SANTS","43100061","SANTS",null,null,null,"43100072",599,"CTT LA TENDA",null,null,null,null,61,{"$f":"IF(V62=\"\",\"\",MAX(U$1:U61)+1)","v":""},{"$f":"IF(ISERROR(IF(ranquing!G63=VLOOKUP(INSCRIPCIÓ!$D$30,$R$2:$S$38,2,0),ranquing!A63,\"\")),\"\",IF(ranquing!G63=VLOOKUP(INSCRIPCIÓ!$D$30,$R$2:$S$38,2,0),ranquing!A63,\"\"))","v":""}]
["VETERANS 3ª",null,8,"VETERANS 3ª",80,60,"CTT SANT FELIU DE CODINES","43100055","SFCODI",null,null,null,"43100063",298,"CTT TONA-SEVA",null,null,null,null,62,{"$f":"IF(V63=\"\",\"\",MAX(U$1:U62)+1)","v":""},{"$f":"IF(ISERROR(IF(ranquing!G64=VLOOKUP(INSCRIPCIÓ!$D$30,$R$2:$S$38,2,0),ranquing!A64,\"\")),\"\",IF(ranquing!G64=VLOOKUP(INSCRIPCIÓ!$D$30,$R$2:$S$38,2,0),ranquing!A64,\"\"))","v":""}]
["FEMENÍ",null,9,"FEMENÍ",75,61,"CTT DELS HORTS 2000","43100060","SVHORT",null,null,null,"43100064",299,"TT TORELLÓ",null,null,null,null,63,{"$f":"IF(V64=\"\",\"\",MAX(U$1:U63)+1)","v":""},{"$f":"IF(ISERROR(IF(ranquing!G65=VLOOKUP(INSCRIPCIÓ!$D$30,$R$2:$S$38,2,0),ranquing!A65,\"\")),\"\",IF(ranquing!G65=VLOOKUP(INSCRIPCIÓ!$D$30,$R$2:$S$38,2,0),ranquing!A65,\"\"))","v":""}]
["VET +50",null,10,"VET +50",80,62,"CPE TARADELL",43100212,"TARAD",null,null,null,"43100065","C9065","CE UNIVERSITARI",null,null,null,null,64,{"$f":"IF(V65=\"\",\"\",MAX(U$1:U64)+1)","v":""},{"$f":"IF(ISERROR(IF(ranquing!G66=VLOOKUP(INSCRIPCIÓ!$D$30,$R$2:$S$38,2,0),ranquing!A66,\"\")),\"\",IF(ranquing!G66=VLOOKUP(INSCRIPCIÓ!$D$30,$R$2:$S$38,2,0),ranquing!A66,\"\"))","v":""}]
[null,null,null,null,null,63,"CTT TONA","43100063","TONA",null,null,null,"43100073",59,"VIC TT",null,null,null,null,65,{"$f":"IF(V66=\"\",\"\",MAX(U$1:U65)+1)","v":""},{"$f":"IF(ISERROR(IF(ranquing!G67=VLOOKUP(INSCRIPCIÓ!$D$30,$R$2:$S$38,2,0),ranquing!A67,\"\")),\"\",IF(ranquing!G67=VLOOKUP(INSCRIPCIÓ!$D$30,$R$2:$S$38,2,0),ranquing!A67,\"\"))","v":""}]
[null,null,null,null,null,64,"TT TORELLÓ","43100064","TORELL",null,null,null,"43100067",425,"CTT VILAFRANCA",null,null,null,null,{"$f":"T66+1","v":66},{"$f":"IF(V67=\"\",\"\",MAX(U$1:U66)+1)","v":""},{"$f":"IF(ISERROR(IF(ranquing!G68=VLOOKUP(INSCRIPCIÓ!$D$30,$R$2:$S$38,2,0),ranquing!A68,\"\")),\"\",IF(ranquing!G68=VLOOKUP(INSCRIPCIÓ!$D$30,$R$2:$S$38,2,0),ranquing!A68,\"\"))","v":""}]
[null,null,null,null,null,65,"CTT LA UNIÓ MONTCADA I REIXAC","43100201","UNIO",null,null,null,"43100068",130,"CTT VILANOVA",null,null,null,null,67,{"$f":"IF(V68=\"\",\"\",MAX(U$1:U67)+1)","v":""},{"$f":"IF(ISERROR(IF(ranquing!G69=VLOOKUP(INSCRIPCIÓ!$D$30,$R$2:$S$38,2,0),ranquing!A69,\"\")),\"\",IF(ranquing!G69=VLOOKUP(INSCRIPCIÓ!$D$30,$R$2:$S$38,2,0),ranquing!A69,\"\"))","v":""}]
[null,{"$f":"VLOOKUP(B56,_cat40,3,0)","v":0},null,null,null,66,"VIC TT","43100073","VICTT",null,null,null,"43100070",620,"CTT VILASSAR DE DALT",null,null,null,null,68,{"$f":"IF(V69=\"\",\"\",MAX(U$1:U68)+1)","v":""},{"$f":"IF(ISERROR(IF(ranquing!G70=VLOOKUP(INSCRIPCIÓ!$D$30,$R$2:$S$38,2,0),ranquing!A70,\"\")),\"\",IF(ranquing!G70=VLOOKUP(INSCRIPCIÓ!$D$30,$R$2:$S$38,2,0),ranquing!A70,\"\"))","v":""}]
[null,{"$f":"VLOOKUP(B56,_cat40,3,0)","v":0},null,null,null,67,"CTT VILAFRANCA","43100067","VILAFR",null,null,null,"43100069","C9069","CTT VILANOVA DEL CAMI",null,null,null,null,69,{"$f":"IF(V70=\"\",\"\",MAX(U$1:U69)+1)","v":""},{"$f":"IF(ISERROR(IF(ranquing!G71=VLOOKUP(INSCRIPCIÓ!$D$30,$R$2:$S$38,2,0),ranquing!A71,\"\")),\"\",IF(ranquing!G71=VLOOKUP(INSCRIPCIÓ!$D$30,$R$2:$S$38,2,0),ranquing!A71,\"\"))","v":""}]
[null,null,null,null,null,68,"CTT VILANOVA I LA GELTRU","43100068","VILANO",null,null,null,"43100071",258,"CTT XARXA MALGRAT",null,null,null,null,70,{"$f":"IF(V71=\"\",\"\",MAX(U$1:U70)+1)","v":""},{"$f":"IF(ISERROR(IF(ranquing!G72=VLOOKUP(INSCRIPCIÓ!$D$30,$R$2:$S$38,2,0),ranquing!A72,\"\")),\"\",IF(ranquing!G72=VLOOKUP(INSCRIPCIÓ!$D$30,$R$2:$S$38,2,0),ranquing!A72,\"\"))","v":""}]
[null,null,null,null,null,69,"CTT VILASSAR DE DALT","43100070","VILASS",null,null,null,"43400000",390,"INDEPENDENT",null,null,null,null,71,{"$f":"IF(V72=\"\",\"\",MAX(U$1:U71)+1)","v":""},{"$f":"IF(ISERROR(IF(ranquing!G73=VLOOKUP(INSCRIPCIÓ!$D$30,$R$2:$S$38,2,0),ranquing!A73,\"\")),\"\",IF(ranquing!G73=VLOOKUP(INSCRIPCIÓ!$D$30,$R$2:$S$38,2,0),ranquing!A73,\"\"))","v":""}]
[null,null,null,null,null,70,"CTT VILANOVA DEL CAMI","43100069","VILCA",null,null,null,null,null,null,null,null,null,null,72,{"$f":"IF(V73=\"\",\"\",MAX(U$1:U72)+1)","v":""},{"$f":"IF(ISERROR(IF(ranquing!G74=VLOOKUP(INSCRIPCIÓ!$D$30,$R$2:$S$38,2,0),ranquing!A74,\"\")),\"\",IF(ranquing!G74=VLOOKUP(INSCRIPCIÓ!$D$30,$R$2:$S$38,2,0),ranquing!A74,\"\"))","v":""}]
[null,null,null,null,null,71,"CTT XARXA MALGRAT","43100071","XARXA",null,null,null,null,null,null,null,null,null,null,73,{"$f":"IF(V74=\"\",\"\",MAX(U$1:U73)+1)","v":""},{"$f":"IF(ISERROR(IF(ranquing!G75=VLOOKUP(INSCRIPCIÓ!$D$30,$R$2:$S$38,2,0),ranquing!A75,\"\")),\"\",IF(ranquing!G75=VLOOKUP(INSCRIPCIÓ!$D$30,$R$2:$S$38,2,0),ranquing!A75,\"\"))","v":""}]
[null,null,null,null,null,72,null,null,null,null,null,null,null,null,null,null,null,null,null,74,{"$f":"IF(V75=\"\",\"\",MAX(U$1:U74)+1)","v":""},{"$f":"IF(ISERROR(IF(ranquing!G76=VLOOKUP(INSCRIPCIÓ!$D$30,$R$2:$S$38,2,0),ranquing!A76,\"\")),\"\",IF(ranquing!G76=VLOOKUP(INSCRIPCIÓ!$D$30,$R$2:$S$38,2,0),ranquing!A76,\"\"))","v":""}]
[null,null,null,null,null,73,null,null,null,null,null,null,null,null,null,null,null,null,null,75,{"$f":"IF(V76=\"\",\"\",MAX(U$1:U75)+1)","v":""},{"$f":"IF(ISERROR(IF(ranquing!G77=VLOOKUP(INSCRIPCIÓ!$D$30,$R$2:$S$38,2,0),ranquing!A77,\"\")),\"\",IF(ranquing!G77=VLOOKUP(INSCRIPCIÓ!$D$30,$R$2:$S$38,2,0),ranquing!A77,\"\"))","v":""}]
[null,null,null,null,null,74,null,null,null,null,null,null,null,null,null,null,null,null,null,76,{"$f":"IF(V77=\"\",\"\",MAX(U$1:U76)+1)","v":""},{"$f":"IF(ISERROR(IF(ranquing!G78=VLOOKUP(INSCRIPCIÓ!$D$30,$R$2:$S$38,2,0),ranquing!A78,\"\")),\"\",IF(ranquing!G78=VLOOKUP(INSCRIPCIÓ!$D$30,$R$2:$S$38,2,0),ranquing!A78,\"\"))","v":""}]
[null,null,null,null,null,75,null,null,null,null,null,null,null,null,null,null,null,null,null,77,{"$f":"IF(V78=\"\",\"\",MAX(U$1:U77)+1)","v":""},{"$f":"IF(ISERROR(IF(ranquing!G79=VLOOKUP(INSCRIPCIÓ!$D$30,$R$2:$S$38,2,0),ranquing!A79,\"\")),\"\",IF(ranquing!G79=VLOOKUP(INSCRIPCIÓ!$D$30,$R$2:$S$38,2,0),ranquing!A79,\"\"))","v":""}]
[null,null,null,null,null,76,null,null,null,null,null,null,null,null,null,null,null,null,null,78,{"$f":"IF(V79=\"\",\"\",MAX(U$1:U78)+1)","v":""},{"$f":"IF(ISERROR(IF(ranquing!G80=VLOOKUP(INSCRIPCIÓ!$D$30,$R$2:$S$38,2,0),ranquing!A80,\"\")),\"\",IF(ranquing!G80=VLOOKUP(INSCRIPCIÓ!$D$30,$R$2:$S$38,2,0),ranquing!A80,\"\"))","v":""}]
[null,null,null,null,null,null,null,null,null,null,null,null,null,null,null,null,null,null,null,79,{"$f":"IF(V80=\"\",\"\",MAX(U$1:U79)+1)","v":""},{"$f":"IF(ISERROR(IF(ranquing!G81=VLOOKUP(INSCRIPCIÓ!$D$30,$R$2:$S$38,2,0),ranquing!A81,\"\")),\"\",IF(ranquing!G81=VLOOKUP(INSCRIPCIÓ!$D$30,$R$2:$S$38,2,0),ranquing!A81,\"\"))","v":""}]
[null,null,null,null,null,null,null,null,null,null,null,null,null,null,null,null,null,null,null,80,{"$f":"IF(V81=\"\",\"\",MAX(U$1:U80)+1)","v":""},{"$f":"IF(ISERROR(IF(ranquing!G82=VLOOKUP(INSCRIPCIÓ!$D$30,$R$2:$S$38,2,0),ranquing!A82,\"\")),\"\",IF(ranquing!G82=VLOOKUP(INSCRIPCIÓ!$D$30,$R$2:$S$38,2,0),ranquing!A82,\"\"))","v":""}]
[null,null,null,null,null,null,null,null,null,null,null,null,null,null,null,null,null,null,null,81,{"$f":"IF(V82=\"\",\"\",MAX(U$1:U81)+1)","v":""},{"$f":"IF(ISERROR(IF(ranquing!G83=VLOOKUP(INSCRIPCIÓ!$D$30,$R$2:$S$38,2,0),ranquing!A83,\"\")),\"\",IF(ranquing!G83=VLOOKUP(INSCRIPCIÓ!$D$30,$R$2:$S$38,2,0),ranquing!A83,\"\"))","v":""}]
[null,null,null,null,null,null,null,null,null,null,null,null,null,null,null,null,null,null,null,82,{"$f":"IF(V83=\"\",\"\",MAX(U$1:U82)+1)","v":""},{"$f":"IF(ISERROR(IF(ranquing!G84=VLOOKUP(INSCRIPCIÓ!$D$30,$R$2:$S$38,2,0),ranquing!A84,\"\")),\"\",IF(ranquing!G84=VLOOKUP(INSCRIPCIÓ!$D$30,$R$2:$S$38,2,0),ranquing!A84,\"\"))","v":""}]
[null,null,null,null,null,null,null,null,null,null,null,null,null,null,null,null,null,null,null,83,{"$f":"IF(V84=\"\",\"\",MAX(U$1:U83)+1)","v":""},{"$f":"IF(ISERROR(IF(ranquing!G85=VLOOKUP(INSCRIPCIÓ!$D$30,$R$2:$S$38,2,0),ranquing!A85,\"\")),\"\",IF(ranquing!G85=VLOOKUP(INSCRIPCIÓ!$D$30,$R$2:$S$38,2,0),ranquing!A85,\"\"))","v":""}]
[null,null,null,null,null,null,null,null,null,null,null,null,null,null,null,null,null,null,null,84,{"$f":"IF(V85=\"\",\"\",MAX(U$1:U84)+1)","v":""},{"$f":"IF(ISERROR(IF(ranquing!G86=VLOOKUP(INSCRIPCIÓ!$D$30,$R$2:$S$38,2,0),ranquing!A86,\"\")),\"\",IF(ranquing!G86=VLOOKUP(INSCRIPCIÓ!$D$30,$R$2:$S$38,2,0),ranquing!A86,\"\"))","v":""}]
[null,null,null,null,null,null,null,null,null,null,null,null,null,null,null,null,null,null,null,85,{"$f":"IF(V86=\"\",\"\",MAX(U$1:U85)+1)","v":""},{"$f":"IF(ISERROR(IF(ranquing!G87=VLOOKUP(INSCRIPCIÓ!$D$30,$R$2:$S$38,2,0),ranquing!A87,\"\")),\"\",IF(ranquing!G87=VLOOKUP(INSCRIPCIÓ!$D$30,$R$2:$S$38,2,0),ranquing!A87,\"\"))","v":""}]
[null,null,null,null,null,null,null,null,null,null,null,null,null,null,null,null,null,null,null,86,{"$f":"IF(V87=\"\",\"\",MAX(U$1:U86)+1)","v":""},{"$f":"IF(ISERROR(IF(ranquing!G88=VLOOKUP(INSCRIPCIÓ!$D$30,$R$2:$S$38,2,0),ranquing!A88,\"\")),\"\",IF(ranquing!G88=VLOOKUP(INSCRIPCIÓ!$D$30,$R$2:$S$38,2,0),ranquing!A88,\"\"))","v":""}]
[null,null,null,null,null,null,null,null,null,null,null,null,null,null,null,null,null,null,null,87,{"$f":"IF(V88=\"\",\"\",MAX(U$1:U87)+1)","v":""},{"$f":"IF(ISERROR(IF(ranquing!G89=VLOOKUP(INSCRIPCIÓ!$D$30,$R$2:$S$38,2,0),ranquing!A89,\"\")),\"\",IF(ranquing!G89=VLOOKUP(INSCRIPCIÓ!$D$30,$R$2:$S$38,2,0),ranquing!A89,\"\"))","v":""}]
[null,null,null,null,null,null,null,null,null,null,null,null,null,null,null,null,null,null,null,88,{"$f":"IF(V89=\"\",\"\",MAX(U$1:U88)+1)","v":""},{"$f":"IF(ISERROR(IF(ranquing!G90=VLOOKUP(INSCRIPCIÓ!$D$30,$R$2:$S$38,2,0),ranquing!A90,\"\")),\"\",IF(ranquing!G90=VLOOKUP(INSCRIPCIÓ!$D$30,$R$2:$S$38,2,0),ranquing!A90,\"\"))","v":""}]
[null,null,null,null,null,null,null,null,null,null,null,null,null,null,null,null,null,null,null,89,{"$f":"IF(V90=\"\",\"\",MAX(U$1:U89)+1)","v":""},{"$f":"IF(ISERROR(IF(ranquing!G91=VLOOKUP(INSCRIPCIÓ!$D$30,$R$2:$S$38,2,0),ranquing!A91,\"\")),\"\",IF(ranquing!G91=VLOOKUP(INSCRIPCIÓ!$D$30,$R$2:$S$38,2,0),ranquing!A91,\"\"))","v":""}]
[null,null,null,null,null,null,null,null,null,null,null,null,null,null,null,null,null,null,null,90,{"$f":"IF(V91=\"\",\"\",MAX(U$1:U90)+1)","v":""},{"$f":"IF(ISERROR(IF(ranquing!G92=VLOOKUP(INSCRIPCIÓ!$D$30,$R$2:$S$38,2,0),ranquing!A92,\"\")),\"\",IF(ranquing!G92=VLOOKUP(INSCRIPCIÓ!$D$30,$R$2:$S$38,2,0),ranquing!A92,\"\"))","v":""}]
[null,null,null,null,null,null,null,null,null,null,null,null,null,null,null,null,null,null,null,91,{"$f":"IF(V92=\"\",\"\",MAX(U$1:U91)+1)","v":""},{"$f":"IF(ISERROR(IF(ranquing!G93=VLOOKUP(INSCRIPCIÓ!$D$30,$R$2:$S$38,2,0),ranquing!A93,\"\")),\"\",IF(ranquing!G93=VLOOKUP(INSCRIPCIÓ!$D$30,$R$2:$S$38,2,0),ranquing!A93,\"\"))","v":""}]
[null,null,null,null,null,null,null,null,null,null,null,null,null,null,null,null,null,null,null,92,{"$f":"IF(V93=\"\",\"\",MAX(U$1:U92)+1)","v":""},{"$f":"IF(ISERROR(IF(ranquing!G94=VLOOKUP(INSCRIPCIÓ!$D$30,$R$2:$S$38,2,0),ranquing!A94,\"\")),\"\",IF(ranquing!G94=VLOOKUP(INSCRIPCIÓ!$D$30,$R$2:$S$38,2,0),ranquing!A94,\"\"))","v":""}]
[null,null,null,null,null,null,null,null,null,null,null,null,null,null,null,null,null,null,null,93,{"$f":"IF(V94=\"\",\"\",MAX(U$1:U93)+1)","v":""},{"$f":"IF(ISERROR(IF(ranquing!G95=VLOOKUP(INSCRIPCIÓ!$D$30,$R$2:$S$38,2,0),ranquing!A95,\"\")),\"\",IF(ranquing!G95=VLOOKUP(INSCRIPCIÓ!$D$30,$R$2:$S$38,2,0),ranquing!A95,\"\"))","v":""}]
[null,null,null,null,null,null,null,null,null,null,null,null,null,null,null,null,null,null,null,94,{"$f":"IF(V95=\"\",\"\",MAX(U$1:U94)+1)","v":""},{"$f":"IF(ISERROR(IF(ranquing!G96=VLOOKUP(INSCRIPCIÓ!$D$30,$R$2:$S$38,2,0),ranquing!A96,\"\")),\"\",IF(ranquing!G96=VLOOKUP(INSCRIPCIÓ!$D$30,$R$2:$S$38,2,0),ranquing!A96,\"\"))","v":""}]
[null,null,null,null,null,null,null,null,null,null,null,null,null,null,null,null,null,null,null,95,{"$f":"IF(V96=\"\",\"\",MAX(U$1:U95)+1)","v":""},{"$f":"IF(ISERROR(IF(ranquing!G97=VLOOKUP(INSCRIPCIÓ!$D$30,$R$2:$S$38,2,0),ranquing!A97,\"\")),\"\",IF(ranquing!G97=VLOOKUP(INSCRIPCIÓ!$D$30,$R$2:$S$38,2,0),ranquing!A97,\"\"))","v":""}]
[null,null,null,null,null,null,null,null,null,null,null,null,null,null,null,null,null,null,null,96,{"$f":"IF(V97=\"\",\"\",MAX(U$1:U96)+1)","v":""},{"$f":"IF(ISERROR(IF(ranquing!G98=VLOOKUP(INSCRIPCIÓ!$D$30,$R$2:$S$38,2,0),ranquing!A98,\"\")),\"\",IF(ranquing!G98=VLOOKUP(INSCRIPCIÓ!$D$30,$R$2:$S$38,2,0),ranquing!A98,\"\"))","v":""}]
[null,null,null,null,null,null,null,null,null,null,null,null,null,null,null,null,null,null,null,97,{"$f":"IF(V98=\"\",\"\",MAX(U$1:U97)+1)","v":""},{"$f":"IF(ISERROR(IF(ranquing!G99=VLOOKUP(INSCRIPCIÓ!$D$30,$R$2:$S$38,2,0),ranquing!A99,\"\")),\"\",IF(ranquing!G99=VLOOKUP(INSCRIPCIÓ!$D$30,$R$2:$S$38,2,0),ranquing!A99,\"\"))","v":""}]
[null,null,null,null,null,null,null,null,null,null,null,null,null,null,null,null,null,null,null,98,{"$f":"IF(V99=\"\",\"\",MAX(U$1:U98)+1)","v":""},{"$f":"IF(ISERROR(IF(ranquing!G100=VLOOKUP(INSCRIPCIÓ!$D$30,$R$2:$S$38,2,0),ranquing!A100,\"\")),\"\",IF(ranquing!G100=VLOOKUP(INSCRIPCIÓ!$D$30,$R$2:$S$38,2,0),ranquing!A100,\"\"))","v":""}]
[null,null,null,null,null,null,null,null,null,null,null,null,null,null,null,null,null,null,null,99,{"$f":"IF(V100=\"\",\"\",MAX(U$1:U99)+1)","v":""},{"$f":"IF(ISERROR(IF(ranquing!G101=VLOOKUP(INSCRIPCIÓ!$D$30,$R$2:$S$38,2,0),ranquing!A101,\"\")),\"\",IF(ranquing!G101=VLOOKUP(INSCRIPCIÓ!$D$30,$R$2:$S$38,2,0),ranquing!A101,\"\"))","v":""}]
[null,null,null,null,null,null,null,null,null,null,null,null,null,null,null,null,null,null,null,100,{"$f":"IF(V101=\"\",\"\",MAX(U$1:U100)+1)","v":""},{"$f":"IF(ISERROR(IF(ranquing!G102=VLOOKUP(INSCRIPCIÓ!$D$30,$R$2:$S$38,2,0),ranquing!A102,\"\")),\"\",IF(ranquing!G102=VLOOKUP(INSCRIPCIÓ!$D$30,$R$2:$S$38,2,0),ranquing!A102,\"\"))","v":""}]
[null,null,null,null,null,null,null,null,null,null,null,null,null,null,null,null,null,null,null,101,{"$f":"IF(V102=\"\",\"\",MAX(U$1:U101)+1)","v":""},{"$f":"IF(ISERROR(IF(ranquing!G103=VLOOKUP(INSCRIPCIÓ!$D$30,$R$2:$S$38,2,0),ranquing!A103,\"\")),\"\",IF(ranquing!G103=VLOOKUP(INSCRIPCIÓ!$D$30,$R$2:$S$38,2,0),ranquing!A103,\"\"))","v":""}]
[null,null,null,null,null,null,null,null,null,null,null,null,null,null,null,null,null,null,null,102,{"$f":"IF(V103=\"\",\"\",MAX(U$1:U102)+1)","v":""},{"$f":"IF(ISERROR(IF(ranquing!G104=VLOOKUP(INSCRIPCIÓ!$D$30,$R$2:$S$38,2,0),ranquing!A104,\"\")),\"\",IF(ranquing!G104=VLOOKUP(INSCRIPCIÓ!$D$30,$R$2:$S$38,2,0),ranquing!A104,\"\"))","v":""}]
[null,null,null,null,null,null,null,null,null,null,null,null,null,null,null,null,null,null,null,103,{"$f":"IF(V104=\"\",\"\",MAX(U$1:U103)+1)","v":""},{"$f":"IF(ISERROR(IF(ranquing!G105=VLOOKUP(INSCRIPCIÓ!$D$30,$R$2:$S$38,2,0),ranquing!A105,\"\")),\"\",IF(ranquing!G105=VLOOKUP(INSCRIPCIÓ!$D$30,$R$2:$S$38,2,0),ranquing!A105,\"\"))","v":""}]
[null,null,null,null,null,null,null,null,null,null,null,null,null,null,null,null,null,null,null,104,{"$f":"IF(V105=\"\",\"\",MAX(U$1:U104)+1)","v":""},{"$f":"IF(ISERROR(IF(ranquing!G106=VLOOKUP(INSCRIPCIÓ!$D$30,$R$2:$S$38,2,0),ranquing!A106,\"\")),\"\",IF(ranquing!G106=VLOOKUP(INSCRIPCIÓ!$D$30,$R$2:$S$38,2,0),ranquing!A106,\"\"))","v":""}]
[null,null,null,null,null,null,null,null,null,null,null,null,null,null,null,null,null,null,null,105,{"$f":"IF(V106=\"\",\"\",MAX(U$1:U105)+1)","v":""},{"$f":"IF(ISERROR(IF(ranquing!G107=VLOOKUP(INSCRIPCIÓ!$D$30,$R$2:$S$38,2,0),ranquing!A107,\"\")),\"\",IF(ranquing!G107=VLOOKUP(INSCRIPCIÓ!$D$30,$R$2:$S$38,2,0),ranquing!A107,\"\"))","v":""}]
[null,null,null,null,null,null,null,null,null,null,null,null,null,null,null,null,null,null,null,106,{"$f":"IF(V107=\"\",\"\",MAX(U$1:U106)+1)","v":""},{"$f":"IF(ISERROR(IF(ranquing!G108=VLOOKUP(INSCRIPCIÓ!$D$30,$R$2:$S$38,2,0),ranquing!A108,\"\")),\"\",IF(ranquing!G108=VLOOKUP(INSCRIPCIÓ!$D$30,$R$2:$S$38,2,0),ranquing!A108,\"\"))","v":""}]
[null,null,null,null,null,null,null,null,null,null,null,null,null,null,null,null,null,null,null,107,{"$f":"IF(V108=\"\",\"\",MAX(U$1:U107)+1)","v":""},{"$f":"IF(ISERROR(IF(ranquing!G109=VLOOKUP(INSCRIPCIÓ!$D$30,$R$2:$S$38,2,0),ranquing!A109,\"\")),\"\",IF(ranquing!G109=VLOOKUP(INSCRIPCIÓ!$D$30,$R$2:$S$38,2,0),ranquing!A109,\"\"))","v":""}]
[null,null,null,null,null,null,null,null,null,null,null,null,null,null,null,null,null,null,null,108,{"$f":"IF(V109=\"\",\"\",MAX(U$1:U108)+1)","v":""},{"$f":"IF(ISERROR(IF(ranquing!G110=VLOOKUP(INSCRIPCIÓ!$D$30,$R$2:$S$38,2,0),ranquing!A110,\"\")),\"\",IF(ranquing!G110=VLOOKUP(INSCRIPCIÓ!$D$30,$R$2:$S$38,2,0),ranquing!A110,\"\"))","v":""}]
[null,null,null,null,null,null,null,null,null,null,null,null,null,null,null,null,null,null,null,109,{"$f":"IF(V110=\"\",\"\",MAX(U$1:U109)+1)","v":""},{"$f":"IF(ISERROR(IF(ranquing!G111=VLOOKUP(INSCRIPCIÓ!$D$30,$R$2:$S$38,2,0),ranquing!A111,\"\")),\"\",IF(ranquing!G111=VLOOKUP(INSCRIPCIÓ!$D$30,$R$2:$S$38,2,0),ranquing!A111,\"\"))","v":""}]
[null,null,null,null,null,null,null,null,null,null,null,null,null,null,null,null,null,null,null,110,{"$f":"IF(V111=\"\",\"\",MAX(U$1:U110)+1)","v":""},{"$f":"IF(ISERROR(IF(ranquing!G112=VLOOKUP(INSCRIPCIÓ!$D$30,$R$2:$S$38,2,0),ranquing!A112,\"\")),\"\",IF(ranquing!G112=VLOOKUP(INSCRIPCIÓ!$D$30,$R$2:$S$38,2,0),ranquing!A112,\"\"))","v":""}]
[null,null,null,null,null,null,null,null,null,null,null,null,null,null,null,null,null,null,null,111,{"$f":"IF(V112=\"\",\"\",MAX(U$1:U111)+1)","v":""},{"$f":"IF(ISERROR(IF(ranquing!G113=VLOOKUP(INSCRIPCIÓ!$D$30,$R$2:$S$38,2,0),ranquing!A113,\"\")),\"\",IF(ranquing!G113=VLOOKUP(INSCRIPCIÓ!$D$30,$R$2:$S$38,2,0),ranquing!A113,\"\"))","v":""}]
[null,null,null,null,null,null,null,null,null,null,null,null,null,null,null,null,null,null,null,112,{"$f":"IF(V113=\"\",\"\",MAX(U$1:U112)+1)","v":""},{"$f":"IF(ISERROR(IF(ranquing!G114=VLOOKUP(INSCRIPCIÓ!$D$30,$R$2:$S$38,2,0),ranquing!A114,\"\")),\"\",IF(ranquing!G114=VLOOKUP(INSCRIPCIÓ!$D$30,$R$2:$S$38,2,0),ranquing!A114,\"\"))","v":""}]
[null,null,null,null,null,null,null,null,null,null,null,null,null,null,null,null,null,null,null,113,{"$f":"IF(V114=\"\",\"\",MAX(U$1:U113)+1)","v":""},{"$f":"IF(ISERROR(IF(ranquing!G115=VLOOKUP(INSCRIPCIÓ!$D$30,$R$2:$S$38,2,0),ranquing!A115,\"\")),\"\",IF(ranquing!G115=VLOOKUP(INSCRIPCIÓ!$D$30,$R$2:$S$38,2,0),ranquing!A115,\"\"))","v":""}]
[null,null,null,null,null,null,null,null,null,null,null,null,null,null,null,null,null,null,null,114,{"$f":"IF(V115=\"\",\"\",MAX(U$1:U114)+1)","v":""},{"$f":"IF(ISERROR(IF(ranquing!G116=VLOOKUP(INSCRIPCIÓ!$D$30,$R$2:$S$38,2,0),ranquing!A116,\"\")),\"\",IF(ranquing!G116=VLOOKUP(INSCRIPCIÓ!$D$30,$R$2:$S$38,2,0),ranquing!A116,\"\"))","v":""}]
[null,null,null,null,null,null,null,null,null,null,null,null,null,null,null,null,null,null,null,115,{"$f":"IF(V116=\"\",\"\",MAX(U$1:U115)+1)","v":""},{"$f":"IF(ISERROR(IF(ranquing!G117=VLOOKUP(INSCRIPCIÓ!$D$30,$R$2:$S$38,2,0),ranquing!A117,\"\")),\"\",IF(ranquing!G117=VLOOKUP(INSCRIPCIÓ!$D$30,$R$2:$S$38,2,0),ranquing!A117,\"\"))","v":""}]
[null,null,null,null,null,null,null,null,null,null,null,null,null,null,null,null,null,null,null,116,{"$f":"IF(V117=\"\",\"\",MAX(U$1:U116)+1)","v":""},{"$f":"IF(ISERROR(IF(ranquing!G118=VLOOKUP(INSCRIPCIÓ!$D$30,$R$2:$S$38,2,0),ranquing!A118,\"\")),\"\",IF(ranquing!G118=VLOOKUP(INSCRIPCIÓ!$D$30,$R$2:$S$38,2,0),ranquing!A118,\"\"))","v":""}]
[null,null,null,null,null,null,null,null,null,null,null,null,null,null,null,null,null,null,null,117,{"$f":"IF(V118=\"\",\"\",MAX(U$1:U117)+1)","v":""},{"$f":"IF(ISERROR(IF(ranquing!G119=VLOOKUP(INSCRIPCIÓ!$D$30,$R$2:$S$38,2,0),ranquing!A119,\"\")),\"\",IF(ranquing!G119=VLOOKUP(INSCRIPCIÓ!$D$30,$R$2:$S$38,2,0),ranquing!A119,\"\"))","v":""}]
[null,null,null,null,null,null,null,null,null,null,null,null,null,null,null,null,null,null,null,118,{"$f":"IF(V119=\"\",\"\",MAX(U$1:U118)+1)","v":""},{"$f":"IF(ISERROR(IF(ranquing!G120=VLOOKUP(INSCRIPCIÓ!$D$30,$R$2:$S$38,2,0),ranquing!A120,\"\")),\"\",IF(ranquing!G120=VLOOKUP(INSCRIPCIÓ!$D$30,$R$2:$S$38,2,0),ranquing!A120,\"\"))","v":""}]
[null,null,null,null,null,null,null,null,null,null,null,null,null,null,null,null,null,null,null,119,{"$f":"IF(V120=\"\",\"\",MAX(U$1:U119)+1)","v":""},{"$f":"IF(ISERROR(IF(ranquing!G121=VLOOKUP(INSCRIPCIÓ!$D$30,$R$2:$S$38,2,0),ranquing!A121,\"\")),\"\",IF(ranquing!G121=VLOOKUP(INSCRIPCIÓ!$D$30,$R$2:$S$38,2,0),ranquing!A121,\"\"))","v":""}]
[null,null,null,null,null,null,null,null,null,null,null,null,null,null,null,null,null,null,null,120,{"$f":"IF(V121=\"\",\"\",MAX(U$1:U120)+1)","v":""},{"$f":"IF(ISERROR(IF(ranquing!G122=VLOOKUP(INSCRIPCIÓ!$D$30,$R$2:$S$38,2,0),ranquing!A122,\"\")),\"\",IF(ranquing!G122=VLOOKUP(INSCRIPCIÓ!$D$30,$R$2:$S$38,2,0),ranquing!A122,\"\"))","v":""}]
[null,null,null,null,null,null,null,null,null,null,null,null,null,null,null,null,null,null,null,121,{"$f":"IF(V122=\"\",\"\",MAX(U$1:U121)+1)","v":""},{"$f":"IF(ISERROR(IF(ranquing!G123=VLOOKUP(INSCRIPCIÓ!$D$30,$R$2:$S$38,2,0),ranquing!A123,\"\")),\"\",IF(ranquing!G123=VLOOKUP(INSCRIPCIÓ!$D$30,$R$2:$S$38,2,0),ranquing!A123,\"\"))","v":""}]
[null,null,null,null,null,null,null,null,null,null,null,null,null,null,null,null,null,null,null,122,{"$f":"IF(V123=\"\",\"\",MAX(U$1:U122)+1)","v":""},{"$f":"IF(ISERROR(IF(ranquing!G124=VLOOKUP(INSCRIPCIÓ!$D$30,$R$2:$S$38,2,0),ranquing!A124,\"\")),\"\",IF(ranquing!G124=VLOOKUP(INSCRIPCIÓ!$D$30,$R$2:$S$38,2,0),ranquing!A124,\"\"))","v":""}]
[null,null,null,null,null,null,null,null,null,null,null,null,null,null,null,null,null,null,null,123,{"$f":"IF(V124=\"\",\"\",MAX(U$1:U123)+1)","v":""},{"$f":"IF(ISERROR(IF(ranquing!G125=VLOOKUP(INSCRIPCIÓ!$D$30,$R$2:$S$38,2,0),ranquing!A125,\"\")),\"\",IF(ranquing!G125=VLOOKUP(INSCRIPCIÓ!$D$30,$R$2:$S$38,2,0),ranquing!A125,\"\"))","v":""}]
[null,null,null,null,null,null,null,null,null,null,null,null,null,null,null,null,null,null,null,124,{"$f":"IF(V125=\"\",\"\",MAX(U$1:U124)+1)","v":""},{"$f":"IF(ISERROR(IF(ranquing!G126=VLOOKUP(INSCRIPCIÓ!$D$30,$R$2:$S$38,2,0),ranquing!A126,\"\")),\"\",IF(ranquing!G126=VLOOKUP(INSCRIPCIÓ!$D$30,$R$2:$S$38,2,0),ranquing!A126,\"\"))","v":""}]
[null,null,null,null,null,null,null,null,null,null,null,null,null,null,null,null,null,null,null,125,{"$f":"IF(V126=\"\",\"\",MAX(U$1:U125)+1)","v":""},{"$f":"IF(ISERROR(IF(ranquing!G127=VLOOKUP(INSCRIPCIÓ!$D$30,$R$2:$S$38,2,0),ranquing!A127,\"\")),\"\",IF(ranquing!G127=VLOOKUP(INSCRIPCIÓ!$D$30,$R$2:$S$38,2,0),ranquing!A127,\"\"))","v":""}]
[null,null,null,null,null,null,null,null,null,null,null,null,null,null,null,null,null,null,null,126,{"$f":"IF(V127=\"\",\"\",MAX(U$1:U126)+1)","v":""},{"$f":"IF(ISERROR(IF(ranquing!G128=VLOOKUP(INSCRIPCIÓ!$D$30,$R$2:$S$38,2,0),ranquing!A128,\"\")),\"\",IF(ranquing!G128=VLOOKUP(INSCRIPCIÓ!$D$30,$R$2:$S$38,2,0),ranquing!A128,\"\"))","v":""}]
[null,null,null,null,null,null,null,null,null,null,null,null,null,null,null,null,null,null,null,127,{"$f":"IF(V128=\"\",\"\",MAX(U$1:U127)+1)","v":""},{"$f":"IF(ISERROR(IF(ranquing!G129=VLOOKUP(INSCRIPCIÓ!$D$30,$R$2:$S$38,2,0),ranquing!A129,\"\")),\"\",IF(ranquing!G129=VLOOKUP(INSCRIPCIÓ!$D$30,$R$2:$S$38,2,0),ranquing!A129,\"\"))","v":""}]
[null,null,null,null,null,null,null,null,null,null,null,null,null,null,null,null,null,null,null,128,{"$f":"IF(V129=\"\",\"\",MAX(U$1:U128)+1)","v":""},{"$f":"IF(ISERROR(IF(ranquing!G130=VLOOKUP(INSCRIPCIÓ!$D$30,$R$2:$S$38,2,0),ranquing!A130,\"\")),\"\",IF(ranquing!G130=VLOOKUP(INSCRIPCIÓ!$D$30,$R$2:$S$38,2,0),ranquing!A130,\"\"))","v":""}]
[null,null,null,null,null,null,null,null,null,null,null,null,null,null,null,null,null,null,null,129,{"$f":"IF(V130=\"\",\"\",MAX(U$1:U129)+1)","v":""},{"$f":"IF(ISERROR(IF(ranquing!G131=VLOOKUP(INSCRIPCIÓ!$D$30,$R$2:$S$38,2,0),ranquing!A131,\"\")),\"\",IF(ranquing!G131=VLOOKUP(INSCRIPCIÓ!$D$30,$R$2:$S$38,2,0),ranquing!A131,\"\"))","v":""}]
[null,null,null,null,null,null,null,null,null,null,null,null,null,null,null,null,null,null,null,{"$f":"T130+1","v":130},{"$f":"IF(V131=\"\",\"\",MAX(U$1:U130)+1)","v":""},{"$f":"IF(ISERROR(IF(ranquing!G132=VLOOKUP(INSCRIPCIÓ!$D$30,$R$2:$S$38,2,0),ranquing!A132,\"\")),\"\",IF(ranquing!G132=VLOOKUP(INSCRIPCIÓ!$D$30,$R$2:$S$38,2,0),ranquing!A132,\"\"))","v":""}]
[null,null,null,null,null,null,null,null,null,null,null,null,null,null,null,null,null,null,null,131,{"$f":"IF(V132=\"\",\"\",MAX(U$1:U131)+1)","v":""},{"$f":"IF(ISERROR(IF(ranquing!G133=VLOOKUP(INSCRIPCIÓ!$D$30,$R$2:$S$38,2,0),ranquing!A133,\"\")),\"\",IF(ranquing!G133=VLOOKUP(INSCRIPCIÓ!$D$30,$R$2:$S$38,2,0),ranquing!A133,\"\"))","v":""}]
[null,null,null,null,null,null,null,null,null,null,null,null,null,null,null,null,null,null,null,132,{"$f":"IF(V133=\"\",\"\",MAX(U$1:U132)+1)","v":""},{"$f":"IF(ISERROR(IF(ranquing!G134=VLOOKUP(INSCRIPCIÓ!$D$30,$R$2:$S$38,2,0),ranquing!A134,\"\")),\"\",IF(ranquing!G134=VLOOKUP(INSCRIPCIÓ!$D$30,$R$2:$S$38,2,0),ranquing!A134,\"\"))","v":""}]
[null,null,null,null,null,null,null,null,null,null,null,null,null,null,null,null,null,null,null,133,{"$f":"IF(V134=\"\",\"\",MAX(U$1:U133)+1)","v":""},{"$f":"IF(ISERROR(IF(ranquing!G135=VLOOKUP(INSCRIPCIÓ!$D$30,$R$2:$S$38,2,0),ranquing!A135,\"\")),\"\",IF(ranquing!G135=VLOOKUP(INSCRIPCIÓ!$D$30,$R$2:$S$38,2,0),ranquing!A135,\"\"))","v":""}]
[null,null,null,null,null,null,null,null,null,null,null,null,null,null,null,null,null,null,null,134,{"$f":"IF(V135=\"\",\"\",MAX(U$1:U134)+1)","v":""},{"$f":"IF(ISERROR(IF(ranquing!G136=VLOOKUP(INSCRIPCIÓ!$D$30,$R$2:$S$38,2,0),ranquing!A136,\"\")),\"\",IF(ranquing!G136=VLOOKUP(INSCRIPCIÓ!$D$30,$R$2:$S$38,2,0),ranquing!A136,\"\"))","v":""}]
[null,null,null,null,null,null,null,null,null,null,null,null,null,null,null,null,null,null,null,135,{"$f":"IF(V136=\"\",\"\",MAX(U$1:U135)+1)","v":""},{"$f":"IF(ISERROR(IF(ranquing!G137=VLOOKUP(INSCRIPCIÓ!$D$30,$R$2:$S$38,2,0),ranquing!A137,\"\")),\"\",IF(ranquing!G137=VLOOKUP(INSCRIPCIÓ!$D$30,$R$2:$S$38,2,0),ranquing!A137,\"\"))","v":""}]
[null,null,null,null,null,null,null,null,null,null,null,null,null,null,null,null,null,null,null,136,{"$f":"IF(V137=\"\",\"\",MAX(U$1:U136)+1)","v":""},{"$f":"IF(ISERROR(IF(ranquing!G138=VLOOKUP(INSCRIPCIÓ!$D$30,$R$2:$S$38,2,0),ranquing!A138,\"\")),\"\",IF(ranquing!G138=VLOOKUP(INSCRIPCIÓ!$D$30,$R$2:$S$38,2,0),ranquing!A138,\"\"))","v":""}]
[null,null,null,null,null,null,null,null,null,null,null,null,null,null,null,null,null,null,null,137,{"$f":"IF(V138=\"\",\"\",MAX(U$1:U137)+1)","v":""},{"$f":"IF(ISERROR(IF(ranquing!G139=VLOOKUP(INSCRIPCIÓ!$D$30,$R$2:$S$38,2,0),ranquing!A139,\"\")),\"\",IF(ranquing!G139=VLOOKUP(INSCRIPCIÓ!$D$30,$R$2:$S$38,2,0),ranquing!A139,\"\"))","v":""}]
[null,null,null,null,null,null,null,null,null,null,null,null,null,null,null,null,null,null,null,138,{"$f":"IF(V139=\"\",\"\",MAX(U$1:U138)+1)","v":""},{"$f":"IF(ISERROR(IF(ranquing!G140=VLOOKUP(INSCRIPCIÓ!$D$30,$R$2:$S$38,2,0),ranquing!A140,\"\")),\"\",IF(ranquing!G140=VLOOKUP(INSCRIPCIÓ!$D$30,$R$2:$S$38,2,0),ranquing!A140,\"\"))","v":""}]
[null,null,null,null,null,null,null,null,null,null,null,null,null,null,null,null,null,null,null,139,{"$f":"IF(V140=\"\",\"\",MAX(U$1:U139)+1)","v":""},{"$f":"IF(ISERROR(IF(ranquing!G141=VLOOKUP(INSCRIPCIÓ!$D$30,$R$2:$S$38,2,0),ranquing!A141,\"\")),\"\",IF(ranquing!G141=VLOOKUP(INSCRIPCIÓ!$D$30,$R$2:$S$38,2,0),ranquing!A141,\"\"))","v":""}]
[null,null,null,null,null,null,null,null,null,null,null,null,null,null,null,null,null,null,null,140,{"$f":"IF(V141=\"\",\"\",MAX(U$1:U140)+1)","v":""},{"$f":"IF(ISERROR(IF(ranquing!G142=VLOOKUP(INSCRIPCIÓ!$D$30,$R$2:$S$38,2,0),ranquing!A142,\"\")),\"\",IF(ranquing!G142=VLOOKUP(INSCRIPCIÓ!$D$30,$R$2:$S$38,2,0),ranquing!A142,\"\"))","v":""}]
[null,null,null,null,null,null,null,null,null,null,null,null,null,null,null,null,null,null,null,141,{"$f":"IF(V142=\"\",\"\",MAX(U$1:U141)+1)","v":""},{"$f":"IF(ISERROR(IF(ranquing!G143=VLOOKUP(INSCRIPCIÓ!$D$30,$R$2:$S$38,2,0),ranquing!A143,\"\")),\"\",IF(ranquing!G143=VLOOKUP(INSCRIPCIÓ!$D$30,$R$2:$S$38,2,0),ranquing!A143,\"\"))","v":""}]
[null,null,null,null,null,null,null,null,null,null,null,null,null,null,null,null,null,null,null,142,{"$f":"IF(V143=\"\",\"\",MAX(U$1:U142)+1)","v":""},{"$f":"IF(ISERROR(IF(ranquing!G144=VLOOKUP(INSCRIPCIÓ!$D$30,$R$2:$S$38,2,0),ranquing!A144,\"\")),\"\",IF(ranquing!G144=VLOOKUP(INSCRIPCIÓ!$D$30,$R$2:$S$38,2,0),ranquing!A144,\"\"))","v":""}]
[null,null,null,null,null,null,null,null,null,null,null,null,null,null,null,null,null,null,null,143,{"$f":"IF(V144=\"\",\"\",MAX(U$1:U143)+1)","v":""},{"$f":"IF(ISERROR(IF(ranquing!G145=VLOOKUP(INSCRIPCIÓ!$D$30,$R$2:$S$38,2,0),ranquing!A145,\"\")),\"\",IF(ranquing!G145=VLOOKUP(INSCRIPCIÓ!$D$30,$R$2:$S$38,2,0),ranquing!A145,\"\"))","v":""}]
[null,null,null,null,null,null,null,null,null,null,null,null,null,null,null,null,null,null,null,144,{"$f":"IF(V145=\"\",\"\",MAX(U$1:U144)+1)","v":""},{"$f":"IF(ISERROR(IF(ranquing!G146=VLOOKUP(INSCRIPCIÓ!$D$30,$R$2:$S$38,2,0),ranquing!A146,\"\")),\"\",IF(ranquing!G146=VLOOKUP(INSCRIPCIÓ!$D$30,$R$2:$S$38,2,0),ranquing!A146,\"\"))","v":""}]
[null,null,null,null,null,null,null,null,null,null,null,null,null,null,null,null,null,null,null,145,{"$f":"IF(V146=\"\",\"\",MAX(U$1:U145)+1)","v":""},{"$f":"IF(ISERROR(IF(ranquing!G147=VLOOKUP(INSCRIPCIÓ!$D$30,$R$2:$S$38,2,0),ranquing!A147,\"\")),\"\",IF(ranquing!G147=VLOOKUP(INSCRIPCIÓ!$D$30,$R$2:$S$38,2,0),ranquing!A147,\"\"))","v":""}]
[null,null,null,null,null,null,null,null,null,null,null,null,null,null,null,null,null,null,null,146,{"$f":"IF(V147=\"\",\"\",MAX(U$1:U146)+1)","v":""},{"$f":"IF(ISERROR(IF(ranquing!G148=VLOOKUP(INSCRIPCIÓ!$D$30,$R$2:$S$38,2,0),ranquing!A148,\"\")),\"\",IF(ranquing!G148=VLOOKUP(INSCRIPCIÓ!$D$30,$R$2:$S$38,2,0),ranquing!A148,\"\"))","v":""}]
[null,null,null,null,null,null,null,null,null,null,null,null,null,null,null,null,null,null,null,147,{"$f":"IF(V148=\"\",\"\",MAX(U$1:U147)+1)","v":""},{"$f":"IF(ISERROR(IF(ranquing!G149=VLOOKUP(INSCRIPCIÓ!$D$30,$R$2:$S$38,2,0),ranquing!A149,\"\")),\"\",IF(ranquing!G149=VLOOKUP(INSCRIPCIÓ!$D$30,$R$2:$S$38,2,0),ranquing!A149,\"\"))","v":""}]
[null,null,null,null,null,null,null,null,null,null,null,null,null,null,null,null,null,null,null,148,{"$f":"IF(V149=\"\",\"\",MAX(U$1:U148)+1)","v":""},{"$f":"IF(ISERROR(IF(ranquing!G150=VLOOKUP(INSCRIPCIÓ!$D$30,$R$2:$S$38,2,0),ranquing!A150,\"\")),\"\",IF(ranquing!G150=VLOOKUP(INSCRIPCIÓ!$D$30,$R$2:$S$38,2,0),ranquing!A150,\"\"))","v":""}]
[null,null,null,null,null,null,null,null,null,null,null,null,null,null,null,null,null,null,null,149,{"$f":"IF(V150=\"\",\"\",MAX(U$1:U149)+1)","v":""},{"$f":"IF(ISERROR(IF(ranquing!G151=VLOOKUP(INSCRIPCIÓ!$D$30,$R$2:$S$38,2,0),ranquing!A151,\"\")),\"\",IF(ranquing!G151=VLOOKUP(INSCRIPCIÓ!$D$30,$R$2:$S$38,2,0),ranquing!A151,\"\"))","v":""}]
[null,null,null,null,null,null,null,null,null,null,null,null,null,null,null,null,null,null,null,150,{"$f":"IF(V151=\"\",\"\",MAX(U$1:U150)+1)","v":""},{"$f":"IF(ISERROR(IF(ranquing!G152=VLOOKUP(INSCRIPCIÓ!$D$30,$R$2:$S$38,2,0),ranquing!A152,\"\")),\"\",IF(ranquing!G152=VLOOKUP(INSCRIPCIÓ!$D$30,$R$2:$S$38,2,0),ranquing!A152,\"\"))","v":""}]
[null,null,null,null,null,null,null,null,null,null,null,null,null,null,null,null,null,null,null,151,{"$f":"IF(V152=\"\",\"\",MAX(U$1:U151)+1)","v":""},{"$f":"IF(ISERROR(IF(ranquing!G153=VLOOKUP(INSCRIPCIÓ!$D$30,$R$2:$S$38,2,0),ranquing!A153,\"\")),\"\",IF(ranquing!G153=VLOOKUP(INSCRIPCIÓ!$D$30,$R$2:$S$38,2,0),ranquing!A153,\"\"))","v":""}]
[null,null,null,null,null,null,null,null,null,null,null,null,null,null,null,null,null,null,null,152,{"$f":"IF(V153=\"\",\"\",MAX(U$1:U152)+1)","v":""},{"$f":"IF(ISERROR(IF(ranquing!G154=VLOOKUP(INSCRIPCIÓ!$D$30,$R$2:$S$38,2,0),ranquing!A154,\"\")),\"\",IF(ranquing!G154=VLOOKUP(INSCRIPCIÓ!$D$30,$R$2:$S$38,2,0),ranquing!A154,\"\"))","v":""}]
[null,null,null,null,null,null,null,null,null,null,null,null,null,null,null,null,null,null,null,153,{"$f":"IF(V154=\"\",\"\",MAX(U$1:U153)+1)","v":""},{"$f":"IF(ISERROR(IF(ranquing!G155=VLOOKUP(INSCRIPCIÓ!$D$30,$R$2:$S$38,2,0),ranquing!A155,\"\")),\"\",IF(ranquing!G155=VLOOKUP(INSCRIPCIÓ!$D$30,$R$2:$S$38,2,0),ranquing!A155,\"\"))","v":""}]
[null,null,null,null,null,null,null,null,null,null,null,null,null,null,null,null,null,null,null,154,{"$f":"IF(V155=\"\",\"\",MAX(U$1:U154)+1)","v":""},{"$f":"IF(ISERROR(IF(ranquing!G156=VLOOKUP(INSCRIPCIÓ!$D$30,$R$2:$S$38,2,0),ranquing!A156,\"\")),\"\",IF(ranquing!G156=VLOOKUP(INSCRIPCIÓ!$D$30,$R$2:$S$38,2,0),ranquing!A156,\"\"))","v":""}]
[null,null,null,null,null,null,null,null,null,null,null,null,null,null,null,null,null,null,null,155,{"$f":"IF(V156=\"\",\"\",MAX(U$1:U155)+1)","v":""},{"$f":"IF(ISERROR(IF(ranquing!G157=VLOOKUP(INSCRIPCIÓ!$D$30,$R$2:$S$38,2,0),ranquing!A157,\"\")),\"\",IF(ranquing!G157=VLOOKUP(INSCRIPCIÓ!$D$30,$R$2:$S$38,2,0),ranquing!A157,\"\"))","v":""}]
[null,null,null,null,null,null,null,null,null,null,null,null,null,null,null,null,null,null,null,156,{"$f":"IF(V157=\"\",\"\",MAX(U$1:U156)+1)","v":""},{"$f":"IF(ISERROR(IF(ranquing!G158=VLOOKUP(INSCRIPCIÓ!$D$30,$R$2:$S$38,2,0),ranquing!A158,\"\")),\"\",IF(ranquing!G158=VLOOKUP(INSCRIPCIÓ!$D$30,$R$2:$S$38,2,0),ranquing!A158,\"\"))","v":""}]
[null,null,null,null,null,null,null,null,null,null,null,null,null,null,null,null,null,null,null,157,{"$f":"IF(V158=\"\",\"\",MAX(U$1:U157)+1)","v":""},{"$f":"IF(ISERROR(IF(ranquing!G159=VLOOKUP(INSCRIPCIÓ!$D$30,$R$2:$S$38,2,0),ranquing!A159,\"\")),\"\",IF(ranquing!G159=VLOOKUP(INSCRIPCIÓ!$D$30,$R$2:$S$38,2,0),ranquing!A159,\"\"))","v":""}]
[null,null,null,null,null,null,null,null,null,null,null,null,null,null,null,null,null,null,null,158,{"$f":"IF(V159=\"\",\"\",MAX(U$1:U158)+1)","v":""},{"$f":"IF(ISERROR(IF(ranquing!G160=VLOOKUP(INSCRIPCIÓ!$D$30,$R$2:$S$38,2,0),ranquing!A160,\"\")),\"\",IF(ranquing!G160=VLOOKUP(INSCRIPCIÓ!$D$30,$R$2:$S$38,2,0),ranquing!A160,\"\"))","v":""}]
[null,null,null,null,null,null,null,null,null,null,null,null,null,null,null,null,null,null,null,159,{"$f":"IF(V160=\"\",\"\",MAX(U$1:U159)+1)","v":""},{"$f":"IF(ISERROR(IF(ranquing!G161=VLOOKUP(INSCRIPCIÓ!$D$30,$R$2:$S$38,2,0),ranquing!A161,\"\")),\"\",IF(ranquing!G161=VLOOKUP(INSCRIPCIÓ!$D$30,$R$2:$S$38,2,0),ranquing!A161,\"\"))","v":""}]
[null,null,null,null,null,null,null,null,null,null,null,null,null,null,null,null,null,null,null,160,{"$f":"IF(V161=\"\",\"\",MAX(U$1:U160)+1)","v":""},{"$f":"IF(ISERROR(IF(ranquing!G162=VLOOKUP(INSCRIPCIÓ!$D$30,$R$2:$S$38,2,0),ranquing!A162,\"\")),\"\",IF(ranquing!G162=VLOOKUP(INSCRIPCIÓ!$D$30,$R$2:$S$38,2,0),ranquing!A162,\"\"))","v":""}]
[null,null,null,null,null,null,null,null,null,null,null,null,null,null,null,null,null,null,null,161,{"$f":"IF(V162=\"\",\"\",MAX(U$1:U161)+1)","v":""},{"$f":"IF(ISERROR(IF(ranquing!G163=VLOOKUP(INSCRIPCIÓ!$D$30,$R$2:$S$38,2,0),ranquing!A163,\"\")),\"\",IF(ranquing!G163=VLOOKUP(INSCRIPCIÓ!$D$30,$R$2:$S$38,2,0),ranquing!A163,\"\"))","v":""}]
[null,null,null,null,null,null,null,null,null,null,null,null,null,null,null,null,null,null,null,162,{"$f":"IF(V163=\"\",\"\",MAX(U$1:U162)+1)","v":""},{"$f":"IF(ISERROR(IF(ranquing!G164=VLOOKUP(INSCRIPCIÓ!$D$30,$R$2:$S$38,2,0),ranquing!A164,\"\")),\"\",IF(ranquing!G164=VLOOKUP(INSCRIPCIÓ!$D$30,$R$2:$S$38,2,0),ranquing!A164,\"\"))","v":""}]
[null,null,null,null,null,null,null,null,null,null,null,null,null,null,null,null,null,null,null,163,{"$f":"IF(V164=\"\",\"\",MAX(U$1:U163)+1)","v":""},{"$f":"IF(ISERROR(IF(ranquing!G165=VLOOKUP(INSCRIPCIÓ!$D$30,$R$2:$S$38,2,0),ranquing!A165,\"\")),\"\",IF(ranquing!G165=VLOOKUP(INSCRIPCIÓ!$D$30,$R$2:$S$38,2,0),ranquing!A165,\"\"))","v":""}]
[null,null,null,null,null,null,null,null,null,null,null,null,null,null,null,null,null,null,null,164,{"$f":"IF(V165=\"\",\"\",MAX(U$1:U164)+1)","v":""},{"$f":"IF(ISERROR(IF(ranquing!G166=VLOOKUP(INSCRIPCIÓ!$D$30,$R$2:$S$38,2,0),ranquing!A166,\"\")),\"\",IF(ranquing!G166=VLOOKUP(INSCRIPCIÓ!$D$30,$R$2:$S$38,2,0),ranquing!A166,\"\"))","v":""}]
[null,null,null,null,null,null,null,null,null,null,null,null,null,null,null,null,null,null,null,165,{"$f":"IF(V166=\"\",\"\",MAX(U$1:U165)+1)","v":""},{"$f":"IF(ISERROR(IF(ranquing!G167=VLOOKUP(INSCRIPCIÓ!$D$30,$R$2:$S$38,2,0),ranquing!A167,\"\")),\"\",IF(ranquing!G167=VLOOKUP(INSCRIPCIÓ!$D$30,$R$2:$S$38,2,0),ranquing!A167,\"\"))","v":""}]
[null,null,null,null,null,null,null,null,null,null,null,null,null,null,null,null,null,null,null,166,{"$f":"IF(V167=\"\",\"\",MAX(U$1:U166)+1)","v":""},{"$f":"IF(ISERROR(IF(ranquing!G168=VLOOKUP(INSCRIPCIÓ!$D$30,$R$2:$S$38,2,0),ranquing!A168,\"\")),\"\",IF(ranquing!G168=VLOOKUP(INSCRIPCIÓ!$D$30,$R$2:$S$38,2,0),ranquing!A168,\"\"))","v":""}]
[null,null,null,null,null,null,null,null,null,null,null,null,null,null,null,null,null,null,null,167,{"$f":"IF(V168=\"\",\"\",MAX(U$1:U167)+1)","v":""},{"$f":"IF(ISERROR(IF(ranquing!G169=VLOOKUP(INSCRIPCIÓ!$D$30,$R$2:$S$38,2,0),ranquing!A169,\"\")),\"\",IF(ranquing!G169=VLOOKUP(INSCRIPCIÓ!$D$30,$R$2:$S$38,2,0),ranquing!A169,\"\"))","v":""}]
[null,null,null,null,null,null,null,null,null,null,null,null,null,null,null,null,null,null,null,168,{"$f":"IF(V169=\"\",\"\",MAX(U$1:U168)+1)","v":""},{"$f":"IF(ISERROR(IF(ranquing!G170=VLOOKUP(INSCRIPCIÓ!$D$30,$R$2:$S$38,2,0),ranquing!A170,\"\")),\"\",IF(ranquing!G170=VLOOKUP(INSCRIPCIÓ!$D$30,$R$2:$S$38,2,0),ranquing!A170,\"\"))","v":""}]
[null,null,null,null,null,null,null,null,null,null,null,null,null,null,null,null,null,null,null,169,{"$f":"IF(V170=\"\",\"\",MAX(U$1:U169)+1)","v":""},{"$f":"IF(ISERROR(IF(ranquing!G171=VLOOKUP(INSCRIPCIÓ!$D$30,$R$2:$S$38,2,0),ranquing!A171,\"\")),\"\",IF(ranquing!G171=VLOOKUP(INSCRIPCIÓ!$D$30,$R$2:$S$38,2,0),ranquing!A171,\"\"))","v":""}]
[null,null,null,null,null,null,null,null,null,null,null,null,null,null,null,null,null,null,null,170,{"$f":"IF(V171=\"\",\"\",MAX(U$1:U170)+1)","v":""},{"$f":"IF(ISERROR(IF(ranquing!G172=VLOOKUP(INSCRIPCIÓ!$D$30,$R$2:$S$38,2,0),ranquing!A172,\"\")),\"\",IF(ranquing!G172=VLOOKUP(INSCRIPCIÓ!$D$30,$R$2:$S$38,2,0),ranquing!A172,\"\"))","v":""}]
[null,null,null,null,null,null,null,null,null,null,null,null,null,null,null,null,null,null,null,171,{"$f":"IF(V172=\"\",\"\",MAX(U$1:U171)+1)","v":""},{"$f":"IF(ISERROR(IF(ranquing!G173=VLOOKUP(INSCRIPCIÓ!$D$30,$R$2:$S$38,2,0),ranquing!A173,\"\")),\"\",IF(ranquing!G173=VLOOKUP(INSCRIPCIÓ!$D$30,$R$2:$S$38,2,0),ranquing!A173,\"\"))","v":""}]
[null,null,null,null,null,null,null,null,null,null,null,null,null,null,null,null,null,null,null,172,{"$f":"IF(V173=\"\",\"\",MAX(U$1:U172)+1)","v":""},{"$f":"IF(ISERROR(IF(ranquing!G174=VLOOKUP(INSCRIPCIÓ!$D$30,$R$2:$S$38,2,0),ranquing!A174,\"\")),\"\",IF(ranquing!G174=VLOOKUP(INSCRIPCIÓ!$D$30,$R$2:$S$38,2,0),ranquing!A174,\"\"))","v":""}]
[null,null,null,null,null,null,null,null,null,null,null,null,null,null,null,null,null,null,null,173,{"$f":"IF(V174=\"\",\"\",MAX(U$1:U173)+1)","v":""},{"$f":"IF(ISERROR(IF(ranquing!G175=VLOOKUP(INSCRIPCIÓ!$D$30,$R$2:$S$38,2,0),ranquing!A175,\"\")),\"\",IF(ranquing!G175=VLOOKUP(INSCRIPCIÓ!$D$30,$R$2:$S$38,2,0),ranquing!A175,\"\"))","v":""}]
[null,null,null,null,null,null,null,null,null,null,null,null,null,null,null,null,null,null,null,174,{"$f":"IF(V175=\"\",\"\",MAX(U$1:U174)+1)","v":""},{"$f":"IF(ISERROR(IF(ranquing!G176=VLOOKUP(INSCRIPCIÓ!$D$30,$R$2:$S$38,2,0),ranquing!A176,\"\")),\"\",IF(ranquing!G176=VLOOKUP(INSCRIPCIÓ!$D$30,$R$2:$S$38,2,0),ranquing!A176,\"\"))","v":""}]
[null,null,null,null,null,null,null,null,null,null,null,null,null,null,null,null,null,null,null,175,{"$f":"IF(V176=\"\",\"\",MAX(U$1:U175)+1)","v":""},{"$f":"IF(ISERROR(IF(ranquing!G177=VLOOKUP(INSCRIPCIÓ!$D$30,$R$2:$S$38,2,0),ranquing!A177,\"\")),\"\",IF(ranquing!G177=VLOOKUP(INSCRIPCIÓ!$D$30,$R$2:$S$38,2,0),ranquing!A177,\"\"))","v":""}]
[null,null,null,null,null,null,null,null,null,null,null,null,null,null,null,null,null,null,null,176,{"$f":"IF(V177=\"\",\"\",MAX(U$1:U176)+1)","v":""},{"$f":"IF(ISERROR(IF(ranquing!G178=VLOOKUP(INSCRIPCIÓ!$D$30,$R$2:$S$38,2,0),ranquing!A178,\"\")),\"\",IF(ranquing!G178=VLOOKUP(INSCRIPCIÓ!$D$30,$R$2:$S$38,2,0),ranquing!A178,\"\"))","v":""}]
[null,null,null,null,null,null,null,null,null,null,null,null,null,null,null,null,null,null,null,177,{"$f":"IF(V178=\"\",\"\",MAX(U$1:U177)+1)","v":""},{"$f":"IF(ISERROR(IF(ranquing!G179=VLOOKUP(INSCRIPCIÓ!$D$30,$R$2:$S$38,2,0),ranquing!A179,\"\")),\"\",IF(ranquing!G179=VLOOKUP(INSCRIPCIÓ!$D$30,$R$2:$S$38,2,0),ranquing!A179,\"\"))","v":""}]
[null,null,null,null,null,null,null,null,null,null,null,null,null,null,null,null,null,null,null,178,{"$f":"IF(V179=\"\",\"\",MAX(U$1:U178)+1)","v":""},{"$f":"IF(ISERROR(IF(ranquing!G180=VLOOKUP(INSCRIPCIÓ!$D$30,$R$2:$S$38,2,0),ranquing!A180,\"\")),\"\",IF(ranquing!G180=VLOOKUP(INSCRIPCIÓ!$D$30,$R$2:$S$38,2,0),ranquing!A180,\"\"))","v":""}]
[null,null,null,null,null,null,null,null,null,null,null,null,null,null,null,null,null,null,null,179,{"$f":"IF(V180=\"\",\"\",MAX(U$1:U179)+1)","v":""},{"$f":"IF(ISERROR(IF(ranquing!G181=VLOOKUP(INSCRIPCIÓ!$D$30,$R$2:$S$38,2,0),ranquing!A181,\"\")),\"\",IF(ranquing!G181=VLOOKUP(INSCRIPCIÓ!$D$30,$R$2:$S$38,2,0),ranquing!A181,\"\"))","v":""}]
[null,null,null,null,null,null,null,null,null,null,null,null,null,null,null,null,null,null,null,180,{"$f":"IF(V181=\"\",\"\",MAX(U$1:U180)+1)","v":""},{"$f":"IF(ISERROR(IF(ranquing!G182=VLOOKUP(INSCRIPCIÓ!$D$30,$R$2:$S$38,2,0),ranquing!A182,\"\")),\"\",IF(ranquing!G182=VLOOKUP(INSCRIPCIÓ!$D$30,$R$2:$S$38,2,0),ranquing!A182,\"\"))","v":""}]
[null,null,null,null,null,null,null,null,null,null,null,null,null,null,null,null,null,null,null,181,{"$f":"IF(V182=\"\",\"\",MAX(U$1:U181)+1)","v":""},{"$f":"IF(ISERROR(IF(ranquing!G183=VLOOKUP(INSCRIPCIÓ!$D$30,$R$2:$S$38,2,0),ranquing!A183,\"\")),\"\",IF(ranquing!G183=VLOOKUP(INSCRIPCIÓ!$D$30,$R$2:$S$38,2,0),ranquing!A183,\"\"))","v":""}]
[null,null,null,null,null,null,null,null,null,null,null,null,null,null,null,null,null,null,null,182,{"$f":"IF(V183=\"\",\"\",MAX(U$1:U182)+1)","v":""},{"$f":"IF(ISERROR(IF(ranquing!G184=VLOOKUP(INSCRIPCIÓ!$D$30,$R$2:$S$38,2,0),ranquing!A184,\"\")),\"\",IF(ranquing!G184=VLOOKUP(INSCRIPCIÓ!$D$30,$R$2:$S$38,2,0),ranquing!A184,\"\"))","v":""}]
[null,null,null,null,null,null,null,null,null,null,null,null,null,null,null,null,null,null,null,183,{"$f":"IF(V184=\"\",\"\",MAX(U$1:U183)+1)","v":""},{"$f":"IF(ISERROR(IF(ranquing!G185=VLOOKUP(INSCRIPCIÓ!$D$30,$R$2:$S$38,2,0),ranquing!A185,\"\")),\"\",IF(ranquing!G185=VLOOKUP(INSCRIPCIÓ!$D$30,$R$2:$S$38,2,0),ranquing!A185,\"\"))","v":""}]
[null,null,null,null,null,null,null,null,null,null,null,null,null,null,null,null,null,null,null,184,{"$f":"IF(V185=\"\",\"\",MAX(U$1:U184)+1)","v":""},{"$f":"IF(ISERROR(IF(ranquing!G186=VLOOKUP(INSCRIPCIÓ!$D$30,$R$2:$S$38,2,0),ranquing!A186,\"\")),\"\",IF(ranquing!G186=VLOOKUP(INSCRIPCIÓ!$D$30,$R$2:$S$38,2,0),ranquing!A186,\"\"))","v":""}]
[null,null,null,null,null,null,null,null,null,null,null,null,null,null,null,null,null,null,null,185,{"$f":"IF(V186=\"\",\"\",MAX(U$1:U185)+1)","v":""},{"$f":"IF(ISERROR(IF(ranquing!G187=VLOOKUP(INSCRIPCIÓ!$D$30,$R$2:$S$38,2,0),ranquing!A187,\"\")),\"\",IF(ranquing!G187=VLOOKUP(INSCRIPCIÓ!$D$30,$R$2:$S$38,2,0),ranquing!A187,\"\"))","v":""}]
[null,null,null,null,null,null,null,null,null,null,null,null,null,null,null,null,null,null,null,186,{"$f":"IF(V187=\"\",\"\",MAX(U$1:U186)+1)","v":""},{"$f":"IF(ISERROR(IF(ranquing!G188=VLOOKUP(INSCRIPCIÓ!$D$30,$R$2:$S$38,2,0),ranquing!A188,\"\")),\"\",IF(ranquing!G188=VLOOKUP(INSCRIPCIÓ!$D$30,$R$2:$S$38,2,0),ranquing!A188,\"\"))","v":""}]
[null,null,null,null,null,null,null,null,null,null,null,null,null,null,null,null,null,null,null,187,{"$f":"IF(V188=\"\",\"\",MAX(U$1:U187)+1)","v":""},{"$f":"IF(ISERROR(IF(ranquing!G189=VLOOKUP(INSCRIPCIÓ!$D$30,$R$2:$S$38,2,0),ranquing!A189,\"\")),\"\",IF(ranquing!G189=VLOOKUP(INSCRIPCIÓ!$D$30,$R$2:$S$38,2,0),ranquing!A189,\"\"))","v":""}]
[null,null,null,null,null,null,null,null,null,null,null,null,null,null,null,null,null,null,null,188,{"$f":"IF(V189=\"\",\"\",MAX(U$1:U188)+1)","v":""},{"$f":"IF(ISERROR(IF(ranquing!G190=VLOOKUP(INSCRIPCIÓ!$D$30,$R$2:$S$38,2,0),ranquing!A190,\"\")),\"\",IF(ranquing!G190=VLOOKUP(INSCRIPCIÓ!$D$30,$R$2:$S$38,2,0),ranquing!A190,\"\"))","v":""}]
[null,null,null,null,null,null,null,null,null,null,null,null,null,null,null,null,null,null,null,189,{"$f":"IF(V190=\"\",\"\",MAX(U$1:U189)+1)","v":""},{"$f":"IF(ISERROR(IF(ranquing!G191=VLOOKUP(INSCRIPCIÓ!$D$30,$R$2:$S$38,2,0),ranquing!A191,\"\")),\"\",IF(ranquing!G191=VLOOKUP(INSCRIPCIÓ!$D$30,$R$2:$S$38,2,0),ranquing!A191,\"\"))","v":""}]
[null,null,null,null,null,null,null,null,null,null,null,null,null,null,null,null,null,null,null,190,{"$f":"IF(V191=\"\",\"\",MAX(U$1:U190)+1)","v":""},{"$f":"IF(ISERROR(IF(ranquing!G192=VLOOKUP(INSCRIPCIÓ!$D$30,$R$2:$S$38,2,0),ranquing!A192,\"\")),\"\",IF(ranquing!G192=VLOOKUP(INSCRIPCIÓ!$D$30,$R$2:$S$38,2,0),ranquing!A192,\"\"))","v":""}]
[null,null,null,null,null,null,null,null,null,null,null,null,null,null,null,null,null,null,null,191,{"$f":"IF(V192=\"\",\"\",MAX(U$1:U191)+1)","v":""},{"$f":"IF(ISERROR(IF(ranquing!G193=VLOOKUP(INSCRIPCIÓ!$D$30,$R$2:$S$38,2,0),ranquing!A193,\"\")),\"\",IF(ranquing!G193=VLOOKUP(INSCRIPCIÓ!$D$30,$R$2:$S$38,2,0),ranquing!A193,\"\"))","v":""}]
[null,null,null,null,null,null,null,null,null,null,null,null,null,null,null,null,null,null,null,192,{"$f":"IF(V193=\"\",\"\",MAX(U$1:U192)+1)","v":""},{"$f":"IF(ISERROR(IF(ranquing!G194=VLOOKUP(INSCRIPCIÓ!$D$30,$R$2:$S$38,2,0),ranquing!A194,\"\")),\"\",IF(ranquing!G194=VLOOKUP(INSCRIPCIÓ!$D$30,$R$2:$S$38,2,0),ranquing!A194,\"\"))","v":""}]
[null,null,null,null,null,null,null,null,null,null,null,null,null,null,null,null,null,null,null,193,{"$f":"IF(V194=\"\",\"\",MAX(U$1:U193)+1)","v":""},{"$f":"IF(ISERROR(IF(ranquing!G195=VLOOKUP(INSCRIPCIÓ!$D$30,$R$2:$S$38,2,0),ranquing!A195,\"\")),\"\",IF(ranquing!G195=VLOOKUP(INSCRIPCIÓ!$D$30,$R$2:$S$38,2,0),ranquing!A195,\"\"))","v":""}]
[null,null,null,null,null,null,null,null,null,null,null,null,null,null,null,null,null,null,null,{"$f":"T194+1","v":194},{"$f":"IF(V195=\"\",\"\",MAX(U$1:U194)+1)","v":""},{"$f":"IF(ISERROR(IF(ranquing!G196=VLOOKUP(INSCRIPCIÓ!$D$30,$R$2:$S$38,2,0),ranquing!A196,\"\")),\"\",IF(ranquing!G196=VLOOKUP(INSCRIPCIÓ!$D$30,$R$2:$S$38,2,0),ranquing!A196,\"\"))","v":""}]
[null,null,null,null,null,null,null,null,null,null,null,null,null,null,null,null,null,null,null,195,{"$f":"IF(V196=\"\",\"\",MAX(U$1:U195)+1)","v":""},{"$f":"IF(ISERROR(IF(ranquing!G197=VLOOKUP(INSCRIPCIÓ!$D$30,$R$2:$S$38,2,0),ranquing!A197,\"\")),\"\",IF(ranquing!G197=VLOOKUP(INSCRIPCIÓ!$D$30,$R$2:$S$38,2,0),ranquing!A197,\"\"))","v":""}]
[null,null,null,null,null,null,null,null,null,null,null,null,null,null,null,null,null,null,null,196,{"$f":"IF(V197=\"\",\"\",MAX(U$1:U196)+1)","v":""},{"$f":"IF(ISERROR(IF(ranquing!G198=VLOOKUP(INSCRIPCIÓ!$D$30,$R$2:$S$38,2,0),ranquing!A198,\"\")),\"\",IF(ranquing!G198=VLOOKUP(INSCRIPCIÓ!$D$30,$R$2:$S$38,2,0),ranquing!A198,\"\"))","v":""}]
[null,null,null,null,null,null,null,null,null,null,null,null,null,null,null,null,null,null,null,197,{"$f":"IF(V198=\"\",\"\",MAX(U$1:U197)+1)","v":""},{"$f":"IF(ISERROR(IF(ranquing!G199=VLOOKUP(INSCRIPCIÓ!$D$30,$R$2:$S$38,2,0),ranquing!A199,\"\")),\"\",IF(ranquing!G199=VLOOKUP(INSCRIPCIÓ!$D$30,$R$2:$S$38,2,0),ranquing!A199,\"\"))","v":""}]
[null,null,null,null,null,null,null,null,null,null,null,null,null,null,null,null,null,null,null,198,{"$f":"IF(V199=\"\",\"\",MAX(U$1:U198)+1)","v":""},{"$f":"IF(ISERROR(IF(ranquing!G200=VLOOKUP(INSCRIPCIÓ!$D$30,$R$2:$S$38,2,0),ranquing!A200,\"\")),\"\",IF(ranquing!G200=VLOOKUP(INSCRIPCIÓ!$D$30,$R$2:$S$38,2,0),ranquing!A200,\"\"))","v":""}]
[null,null,null,null,null,null,null,null,null,null,null,null,null,null,null,null,null,null,null,199,{"$f":"IF(V200=\"\",\"\",MAX(U$1:U199)+1)","v":""},{"$f":"IF(ISERROR(IF(ranquing!G201=VLOOKUP(INSCRIPCIÓ!$D$30,$R$2:$S$38,2,0),ranquing!A201,\"\")),\"\",IF(ranquing!G201=VLOOKUP(INSCRIPCIÓ!$D$30,$R$2:$S$38,2,0),ranquing!A201,\"\"))","v":""}]
[null,null,null,null,null,null,null,null,null,null,null,null,null,null,null,null,null,null,null,200,{"$f":"IF(V201=\"\",\"\",MAX(U$1:U200)+1)","v":""},{"$f":"IF(ISERROR(IF(ranquing!G202=VLOOKUP(INSCRIPCIÓ!$D$30,$R$2:$S$38,2,0),ranquing!A202,\"\")),\"\",IF(ranquing!G202=VLOOKUP(INSCRIPCIÓ!$D$30,$R$2:$S$38,2,0),ranquing!A202,\"\"))","v":""}]
[null,null,null,null,null,null,null,null,null,null,null,null,null,null,null,null,null,null,null,201,{"$f":"IF(V202=\"\",\"\",MAX(U$1:U201)+1)","v":""},{"$f":"IF(ISERROR(IF(ranquing!G203=VLOOKUP(INSCRIPCIÓ!$D$30,$R$2:$S$38,2,0),ranquing!A203,\"\")),\"\",IF(ranquing!G203=VLOOKUP(INSCRIPCIÓ!$D$30,$R$2:$S$38,2,0),ranquing!A203,\"\"))","v":""}]
[null,null,null,null,null,null,null,null,null,null,null,null,null,null,null,null,null,null,null,202,{"$f":"IF(V203=\"\",\"\",MAX(U$1:U202)+1)","v":""},{"$f":"IF(ISERROR(IF(ranquing!G204=VLOOKUP(INSCRIPCIÓ!$D$30,$R$2:$S$38,2,0),ranquing!A204,\"\")),\"\",IF(ranquing!G204=VLOOKUP(INSCRIPCIÓ!$D$30,$R$2:$S$38,2,0),ranquing!A204,\"\"))","v":""}]
[null,null,null,null,null,null,null,null,null,null,null,null,null,null,null,null,null,null,null,203,{"$f":"IF(V204=\"\",\"\",MAX(U$1:U203)+1)","v":""},{"$f":"IF(ISERROR(IF(ranquing!G205=VLOOKUP(INSCRIPCIÓ!$D$30,$R$2:$S$38,2,0),ranquing!A205,\"\")),\"\",IF(ranquing!G205=VLOOKUP(INSCRIPCIÓ!$D$30,$R$2:$S$38,2,0),ranquing!A205,\"\"))","v":""}]
[null,null,null,null,null,null,null,null,null,null,null,null,null,null,null,null,null,null,null,204,{"$f":"IF(V205=\"\",\"\",MAX(U$1:U204)+1)","v":""},{"$f":"IF(ISERROR(IF(ranquing!G206=VLOOKUP(INSCRIPCIÓ!$D$30,$R$2:$S$38,2,0),ranquing!A206,\"\")),\"\",IF(ranquing!G206=VLOOKUP(INSCRIPCIÓ!$D$30,$R$2:$S$38,2,0),ranquing!A206,\"\"))","v":""}]
[null,null,null,null,null,null,null,null,null,null,null,null,null,null,null,null,null,null,null,205,{"$f":"IF(V206=\"\",\"\",MAX(U$1:U205)+1)","v":""},{"$f":"IF(ISERROR(IF(ranquing!G207=VLOOKUP(INSCRIPCIÓ!$D$30,$R$2:$S$38,2,0),ranquing!A207,\"\")),\"\",IF(ranquing!G207=VLOOKUP(INSCRIPCIÓ!$D$30,$R$2:$S$38,2,0),ranquing!A207,\"\"))","v":""}]
[null,null,null,null,null,null,null,null,null,null,null,null,null,null,null,null,null,null,null,206,{"$f":"IF(V207=\"\",\"\",MAX(U$1:U206)+1)","v":""},{"$f":"IF(ISERROR(IF(ranquing!G208=VLOOKUP(INSCRIPCIÓ!$D$30,$R$2:$S$38,2,0),ranquing!A208,\"\")),\"\",IF(ranquing!G208=VLOOKUP(INSCRIPCIÓ!$D$30,$R$2:$S$38,2,0),ranquing!A208,\"\"))","v":""}]
[null,null,null,null,null,null,null,null,null,null,null,null,null,null,null,null,null,null,null,207,{"$f":"IF(V208=\"\",\"\",MAX(U$1:U207)+1)","v":""},{"$f":"IF(ISERROR(IF(ranquing!G209=VLOOKUP(INSCRIPCIÓ!$D$30,$R$2:$S$38,2,0),ranquing!A209,\"\")),\"\",IF(ranquing!G209=VLOOKUP(INSCRIPCIÓ!$D$30,$R$2:$S$38,2,0),ranquing!A209,\"\"))","v":""}]
[null,null,null,null,null,null,null,null,null,null,null,null,null,null,null,null,null,null,null,208,{"$f":"IF(V209=\"\",\"\",MAX(U$1:U208)+1)","v":""},{"$f":"IF(ISERROR(IF(ranquing!G210=VLOOKUP(INSCRIPCIÓ!$D$30,$R$2:$S$38,2,0),ranquing!A210,\"\")),\"\",IF(ranquing!G210=VLOOKUP(INSCRIPCIÓ!$D$30,$R$2:$S$38,2,0),ranquing!A210,\"\"))","v":""}]
[null,null,null,null,null,null,null,null,null,null,null,null,null,null,null,null,null,null,null,209,{"$f":"IF(V210=\"\",\"\",MAX(U$1:U209)+1)","v":""},{"$f":"IF(ISERROR(IF(ranquing!G211=VLOOKUP(INSCRIPCIÓ!$D$30,$R$2:$S$38,2,0),ranquing!A211,\"\")),\"\",IF(ranquing!G211=VLOOKUP(INSCRIPCIÓ!$D$30,$R$2:$S$38,2,0),ranquing!A211,\"\"))","v":""}]
[null,null,null,null,null,null,null,null,null,null,null,null,null,null,null,null,null,null,null,210,{"$f":"IF(V211=\"\",\"\",MAX(U$1:U210)+1)","v":""},{"$f":"IF(ISERROR(IF(ranquing!G212=VLOOKUP(INSCRIPCIÓ!$D$30,$R$2:$S$38,2,0),ranquing!A212,\"\")),\"\",IF(ranquing!G212=VLOOKUP(INSCRIPCIÓ!$D$30,$R$2:$S$38,2,0),ranquing!A212,\"\"))","v":""}]
[null,null,null,null,null,null,null,null,null,null,null,null,null,null,null,null,null,null,null,211,{"$f":"IF(V212=\"\",\"\",MAX(U$1:U211)+1)","v":""},{"$f":"IF(ISERROR(IF(ranquing!G213=VLOOKUP(INSCRIPCIÓ!$D$30,$R$2:$S$38,2,0),ranquing!A213,\"\")),\"\",IF(ranquing!G213=VLOOKUP(INSCRIPCIÓ!$D$30,$R$2:$S$38,2,0),ranquing!A213,\"\"))","v":""}]
[null,null,null,null,null,null,null,null,null,null,null,null,null,null,null,null,null,null,null,212,{"$f":"IF(V213=\"\",\"\",MAX(U$1:U212)+1)","v":""},{"$f":"IF(ISERROR(IF(ranquing!G214=VLOOKUP(INSCRIPCIÓ!$D$30,$R$2:$S$38,2,0),ranquing!A214,\"\")),\"\",IF(ranquing!G214=VLOOKUP(INSCRIPCIÓ!$D$30,$R$2:$S$38,2,0),ranquing!A214,\"\"))","v":""}]
[null,null,null,null,null,null,null,null,null,null,null,null,null,null,null,null,null,null,null,213,{"$f":"IF(V214=\"\",\"\",MAX(U$1:U213)+1)","v":""},{"$f":"IF(ISERROR(IF(ranquing!G215=VLOOKUP(INSCRIPCIÓ!$D$30,$R$2:$S$38,2,0),ranquing!A215,\"\")),\"\",IF(ranquing!G215=VLOOKUP(INSCRIPCIÓ!$D$30,$R$2:$S$38,2,0),ranquing!A215,\"\"))","v":""}]
[null,null,null,null,null,null,null,null,null,null,null,null,null,null,null,null,null,null,null,214,{"$f":"IF(V215=\"\",\"\",MAX(U$1:U214)+1)","v":""},{"$f":"IF(ISERROR(IF(ranquing!G216=VLOOKUP(INSCRIPCIÓ!$D$30,$R$2:$S$38,2,0),ranquing!A216,\"\")),\"\",IF(ranquing!G216=VLOOKUP(INSCRIPCIÓ!$D$30,$R$2:$S$38,2,0),ranquing!A216,\"\"))","v":""}]
[null,null,null,null,null,null,null,null,null,null,null,null,null,null,null,null,null,null,null,215,{"$f":"IF(V216=\"\",\"\",MAX(U$1:U215)+1)","v":""},{"$f":"IF(ISERROR(IF(ranquing!G217=VLOOKUP(INSCRIPCIÓ!$D$30,$R$2:$S$38,2,0),ranquing!A217,\"\")),\"\",IF(ranquing!G217=VLOOKUP(INSCRIPCIÓ!$D$30,$R$2:$S$38,2,0),ranquing!A217,\"\"))","v":""}]
[null,null,null,null,null,null,null,null,null,null,null,null,null,null,null,null,null,null,null,216,{"$f":"IF(V217=\"\",\"\",MAX(U$1:U216)+1)","v":""},{"$f":"IF(ISERROR(IF(ranquing!G218=VLOOKUP(INSCRIPCIÓ!$D$30,$R$2:$S$38,2,0),ranquing!A218,\"\")),\"\",IF(ranquing!G218=VLOOKUP(INSCRIPCIÓ!$D$30,$R$2:$S$38,2,0),ranquing!A218,\"\"))","v":""}]
[null,null,null,null,null,null,null,null,null,null,null,null,null,null,null,null,null,null,null,217,{"$f":"IF(V218=\"\",\"\",MAX(U$1:U217)+1)","v":""},{"$f":"IF(ISERROR(IF(ranquing!G219=VLOOKUP(INSCRIPCIÓ!$D$30,$R$2:$S$38,2,0),ranquing!A219,\"\")),\"\",IF(ranquing!G219=VLOOKUP(INSCRIPCIÓ!$D$30,$R$2:$S$38,2,0),ranquing!A219,\"\"))","v":""}]
[null,null,null,null,null,null,null,null,null,null,null,null,null,null,null,null,null,null,null,218,{"$f":"IF(V219=\"\",\"\",MAX(U$1:U218)+1)","v":""},{"$f":"IF(ISERROR(IF(ranquing!G220=VLOOKUP(INSCRIPCIÓ!$D$30,$R$2:$S$38,2,0),ranquing!A220,\"\")),\"\",IF(ranquing!G220=VLOOKUP(INSCRIPCIÓ!$D$30,$R$2:$S$38,2,0),ranquing!A220,\"\"))","v":""}]
[null,null,null,null,null,null,null,null,null,null,null,null,null,null,null,null,null,null,null,219,{"$f":"IF(V220=\"\",\"\",MAX(U$1:U219)+1)","v":""},{"$f":"IF(ISERROR(IF(ranquing!G221=VLOOKUP(INSCRIPCIÓ!$D$30,$R$2:$S$38,2,0),ranquing!A221,\"\")),\"\",IF(ranquing!G221=VLOOKUP(INSCRIPCIÓ!$D$30,$R$2:$S$38,2,0),ranquing!A221,\"\"))","v":""}]
[null,null,null,null,null,null,null,null,null,null,null,null,null,null,null,null,null,null,null,220,{"$f":"IF(V221=\"\",\"\",MAX(U$1:U220)+1)","v":""},{"$f":"IF(ISERROR(IF(ranquing!G222=VLOOKUP(INSCRIPCIÓ!$D$30,$R$2:$S$38,2,0),ranquing!A222,\"\")),\"\",IF(ranquing!G222=VLOOKUP(INSCRIPCIÓ!$D$30,$R$2:$S$38,2,0),ranquing!A222,\"\"))","v":""}]
[null,null,null,null,null,null,null,null,null,null,null,null,null,null,null,null,null,null,null,221,{"$f":"IF(V222=\"\",\"\",MAX(U$1:U221)+1)","v":""},{"$f":"IF(ISERROR(IF(ranquing!G223=VLOOKUP(INSCRIPCIÓ!$D$30,$R$2:$S$38,2,0),ranquing!A223,\"\")),\"\",IF(ranquing!G223=VLOOKUP(INSCRIPCIÓ!$D$30,$R$2:$S$38,2,0),ranquing!A223,\"\"))","v":""}]
[null,null,null,null,null,null,null,null,null,null,null,null,null,null,null,null,null,null,null,222,{"$f":"IF(V223=\"\",\"\",MAX(U$1:U222)+1)","v":""},{"$f":"IF(ISERROR(IF(ranquing!G224=VLOOKUP(INSCRIPCIÓ!$D$30,$R$2:$S$38,2,0),ranquing!A224,\"\")),\"\",IF(ranquing!G224=VLOOKUP(INSCRIPCIÓ!$D$30,$R$2:$S$38,2,0),ranquing!A224,\"\"))","v":""}]
[null,null,null,null,null,null,null,null,null,null,null,null,null,null,null,null,null,null,null,223,{"$f":"IF(V224=\"\",\"\",MAX(U$1:U223)+1)","v":""},{"$f":"IF(ISERROR(IF(ranquing!G225=VLOOKUP(INSCRIPCIÓ!$D$30,$R$2:$S$38,2,0),ranquing!A225,\"\")),\"\",IF(ranquing!G225=VLOOKUP(INSCRIPCIÓ!$D$30,$R$2:$S$38,2,0),ranquing!A225,\"\"))","v":""}]
[null,null,null,null,null,null,null,null,null,null,null,null,null,null,null,null,null,null,null,224,{"$f":"IF(V225=\"\",\"\",MAX(U$1:U224)+1)","v":""},{"$f":"IF(ISERROR(IF(ranquing!G226=VLOOKUP(INSCRIPCIÓ!$D$30,$R$2:$S$38,2,0),ranquing!A226,\"\")),\"\",IF(ranquing!G226=VLOOKUP(INSCRIPCIÓ!$D$30,$R$2:$S$38,2,0),ranquing!A226,\"\"))","v":""}]
[null,null,null,null,null,null,null,null,null,null,null,null,null,null,null,null,null,null,null,225,{"$f":"IF(V226=\"\",\"\",MAX(U$1:U225)+1)","v":""},{"$f":"IF(ISERROR(IF(ranquing!G227=VLOOKUP(INSCRIPCIÓ!$D$30,$R$2:$S$38,2,0),ranquing!A227,\"\")),\"\",IF(ranquing!G227=VLOOKUP(INSCRIPCIÓ!$D$30,$R$2:$S$38,2,0),ranquing!A227,\"\"))","v":""}]
[null,null,null,null,null,null,null,null,null,null,null,null,null,null,null,null,null,null,null,226,{"$f":"IF(V227=\"\",\"\",MAX(U$1:U226)+1)","v":""},{"$f":"IF(ISERROR(IF(ranquing!G228=VLOOKUP(INSCRIPCIÓ!$D$30,$R$2:$S$38,2,0),ranquing!A228,\"\")),\"\",IF(ranquing!G228=VLOOKUP(INSCRIPCIÓ!$D$30,$R$2:$S$38,2,0),ranquing!A228,\"\"))","v":""}]
[null,null,null,null,null,null,null,null,null,null,null,null,null,null,null,null,null,null,null,227,{"$f":"IF(V228=\"\",\"\",MAX(U$1:U227)+1)","v":""},{"$f":"IF(ISERROR(IF(ranquing!G229=VLOOKUP(INSCRIPCIÓ!$D$30,$R$2:$S$38,2,0),ranquing!A229,\"\")),\"\",IF(ranquing!G229=VLOOKUP(INSCRIPCIÓ!$D$30,$R$2:$S$38,2,0),ranquing!A229,\"\"))","v":""}]
[null,null,null,null,null,null,null,null,null,null,null,null,null,null,null,null,null,null,null,228,{"$f":"IF(V229=\"\",\"\",MAX(U$1:U228)+1)","v":""},{"$f":"IF(ISERROR(IF(ranquing!G230=VLOOKUP(INSCRIPCIÓ!$D$30,$R$2:$S$38,2,0),ranquing!A230,\"\")),\"\",IF(ranquing!G230=VLOOKUP(INSCRIPCIÓ!$D$30,$R$2:$S$38,2,0),ranquing!A230,\"\"))","v":""}]
[null,null,null,null,null,null,null,null,null,null,null,null,null,null,null,null,null,null,null,229,{"$f":"IF(V230=\"\",\"\",MAX(U$1:U229)+1)","v":""},{"$f":"IF(ISERROR(IF(ranquing!G231=VLOOKUP(INSCRIPCIÓ!$D$30,$R$2:$S$38,2,0),ranquing!A231,\"\")),\"\",IF(ranquing!G231=VLOOKUP(INSCRIPCIÓ!$D$30,$R$2:$S$38,2,0),ranquing!A231,\"\"))","v":""}]
[null,null,null,null,null,null,null,null,null,null,null,null,null,null,null,null,null,null,null,230,{"$f":"IF(V231=\"\",\"\",MAX(U$1:U230)+1)","v":""},{"$f":"IF(ISERROR(IF(ranquing!G232=VLOOKUP(INSCRIPCIÓ!$D$30,$R$2:$S$38,2,0),ranquing!A232,\"\")),\"\",IF(ranquing!G232=VLOOKUP(INSCRIPCIÓ!$D$30,$R$2:$S$38,2,0),ranquing!A232,\"\"))","v":""}]
[null,null,null,null,null,null,null,null,null,null,null,null,null,null,null,null,null,null,null,231,{"$f":"IF(V232=\"\",\"\",MAX(U$1:U231)+1)","v":""},{"$f":"IF(ISERROR(IF(ranquing!G233=VLOOKUP(INSCRIPCIÓ!$D$30,$R$2:$S$38,2,0),ranquing!A233,\"\")),\"\",IF(ranquing!G233=VLOOKUP(INSCRIPCIÓ!$D$30,$R$2:$S$38,2,0),ranquing!A233,\"\"))","v":""}]
[null,null,null,null,null,null,null,null,null,null,null,null,null,null,null,null,null,null,null,232,{"$f":"IF(V233=\"\",\"\",MAX(U$1:U232)+1)","v":""},{"$f":"IF(ISERROR(IF(ranquing!G234=VLOOKUP(INSCRIPCIÓ!$D$30,$R$2:$S$38,2,0),ranquing!A234,\"\")),\"\",IF(ranquing!G234=VLOOKUP(INSCRIPCIÓ!$D$30,$R$2:$S$38,2,0),ranquing!A234,\"\"))","v":""}]
[null,null,null,null,null,null,null,null,null,null,null,null,null,null,null,null,null,null,null,233,{"$f":"IF(V234=\"\",\"\",MAX(U$1:U233)+1)","v":""},{"$f":"IF(ISERROR(IF(ranquing!G235=VLOOKUP(INSCRIPCIÓ!$D$30,$R$2:$S$38,2,0),ranquing!A235,\"\")),\"\",IF(ranquing!G235=VLOOKUP(INSCRIPCIÓ!$D$30,$R$2:$S$38,2,0),ranquing!A235,\"\"))","v":""}]
[null,null,null,null,null,null,null,null,null,null,null,null,null,null,null,null,null,null,null,234,{"$f":"IF(V235=\"\",\"\",MAX(U$1:U234)+1)","v":""},{"$f":"IF(ISERROR(IF(ranquing!G236=VLOOKUP(INSCRIPCIÓ!$D$30,$R$2:$S$38,2,0),ranquing!A236,\"\")),\"\",IF(ranquing!G236=VLOOKUP(INSCRIPCIÓ!$D$30,$R$2:$S$38,2,0),ranquing!A236,\"\"))","v":""}]
[null,null,null,null,null,null,null,null,null,null,null,null,null,null,null,null,null,null,null,235,{"$f":"IF(V236=\"\",\"\",MAX(U$1:U235)+1)","v":""},{"$f":"IF(ISERROR(IF(ranquing!G237=VLOOKUP(INSCRIPCIÓ!$D$30,$R$2:$S$38,2,0),ranquing!A237,\"\")),\"\",IF(ranquing!G237=VLOOKUP(INSCRIPCIÓ!$D$30,$R$2:$S$38,2,0),ranquing!A237,\"\"))","v":""}]
[null,null,null,null,null,null,null,null,null,null,null,null,null,null,null,null,null,null,null,236,{"$f":"IF(V237=\"\",\"\",MAX(U$1:U236)+1)","v":""},{"$f":"IF(ISERROR(IF(ranquing!G238=VLOOKUP(INSCRIPCIÓ!$D$30,$R$2:$S$38,2,0),ranquing!A238,\"\")),\"\",IF(ranquing!G238=VLOOKUP(INSCRIPCIÓ!$D$30,$R$2:$S$38,2,0),ranquing!A238,\"\"))","v":""}]
[null,null,null,null,null,null,null,null,null,null,null,null,null,null,null,null,null,null,null,237,{"$f":"IF(V238=\"\",\"\",MAX(U$1:U237)+1)","v":""},{"$f":"IF(ISERROR(IF(ranquing!G239=VLOOKUP(INSCRIPCIÓ!$D$30,$R$2:$S$38,2,0),ranquing!A239,\"\")),\"\",IF(ranquing!G239=VLOOKUP(INSCRIPCIÓ!$D$30,$R$2:$S$38,2,0),ranquing!A239,\"\"))","v":""}]
[null,null,null,null,null,null,null,null,null,null,null,null,null,null,null,null,null,null,null,238,{"$f":"IF(V239=\"\",\"\",MAX(U$1:U238)+1)","v":""},{"$f":"IF(ISERROR(IF(ranquing!G240=VLOOKUP(INSCRIPCIÓ!$D$30,$R$2:$S$38,2,0),ranquing!A240,\"\")),\"\",IF(ranquing!G240=VLOOKUP(INSCRIPCIÓ!$D$30,$R$2:$S$38,2,0),ranquing!A240,\"\"))","v":""}]
[null,null,null,null,null,null,null,null,null,null,null,null,null,null,null,null,null,null,null,239,{"$f":"IF(V240=\"\",\"\",MAX(U$1:U239)+1)","v":""},{"$f":"IF(ISERROR(IF(ranquing!G241=VLOOKUP(INSCRIPCIÓ!$D$30,$R$2:$S$38,2,0),ranquing!A241,\"\")),\"\",IF(ranquing!G241=VLOOKUP(INSCRIPCIÓ!$D$30,$R$2:$S$38,2,0),ranquing!A241,\"\"))","v":""}]
[null,null,null,null,null,null,null,null,null,null,null,null,null,null,null,null,null,null,null,240,{"$f":"IF(V241=\"\",\"\",MAX(U$1:U240)+1)","v":""},{"$f":"IF(ISERROR(IF(ranquing!G242=VLOOKUP(INSCRIPCIÓ!$D$30,$R$2:$S$38,2,0),ranquing!A242,\"\")),\"\",IF(ranquing!G242=VLOOKUP(INSCRIPCIÓ!$D$30,$R$2:$S$38,2,0),ranquing!A242,\"\"))","v":""}]
[null,null,null,null,null,null,null,null,null,null,null,null,null,null,null,null,null,null,null,241,{"$f":"IF(V242=\"\",\"\",MAX(U$1:U241)+1)","v":""},{"$f":"IF(ISERROR(IF(ranquing!G243=VLOOKUP(INSCRIPCIÓ!$D$30,$R$2:$S$38,2,0),ranquing!A243,\"\")),\"\",IF(ranquing!G243=VLOOKUP(INSCRIPCIÓ!$D$30,$R$2:$S$38,2,0),ranquing!A243,\"\"))","v":""}]
[null,null,null,null,null,null,null,null,null,null,null,null,null,null,null,null,null,null,null,242,{"$f":"IF(V243=\"\",\"\",MAX(U$1:U242)+1)","v":""},{"$f":"IF(ISERROR(IF(ranquing!G244=VLOOKUP(INSCRIPCIÓ!$D$30,$R$2:$S$38,2,0),ranquing!A244,\"\")),\"\",IF(ranquing!G244=VLOOKUP(INSCRIPCIÓ!$D$30,$R$2:$S$38,2,0),ranquing!A244,\"\"))","v":""}]
[null,null,null,null,null,null,null,null,null,null,null,null,null,null,null,null,null,null,null,243,{"$f":"IF(V244=\"\",\"\",MAX(U$1:U243)+1)","v":""},{"$f":"IF(ISERROR(IF(ranquing!G245=VLOOKUP(INSCRIPCIÓ!$D$30,$R$2:$S$38,2,0),ranquing!A245,\"\")),\"\",IF(ranquing!G245=VLOOKUP(INSCRIPCIÓ!$D$30,$R$2:$S$38,2,0),ranquing!A245,\"\"))","v":""}]
[null,null,null,null,null,null,null,null,null,null,null,null,null,null,null,null,null,null,null,244,{"$f":"IF(V245=\"\",\"\",MAX(U$1:U244)+1)","v":""},{"$f":"IF(ISERROR(IF(ranquing!G246=VLOOKUP(INSCRIPCIÓ!$D$30,$R$2:$S$38,2,0),ranquing!A246,\"\")),\"\",IF(ranquing!G246=VLOOKUP(INSCRIPCIÓ!$D$30,$R$2:$S$38,2,0),ranquing!A246,\"\"))","v":""}]
[null,null,null,null,null,null,null,null,null,null,null,null,null,null,null,null,null,null,null,245,{"$f":"IF(V246=\"\",\"\",MAX(U$1:U245)+1)","v":""},{"$f":"IF(ISERROR(IF(ranquing!G247=VLOOKUP(INSCRIPCIÓ!$D$30,$R$2:$S$38,2,0),ranquing!A247,\"\")),\"\",IF(ranquing!G247=VLOOKUP(INSCRIPCIÓ!$D$30,$R$2:$S$38,2,0),ranquing!A247,\"\"))","v":""}]
[null,null,null,null,null,null,null,null,null,null,null,null,null,null,null,null,null,null,null,246,{"$f":"IF(V247=\"\",\"\",MAX(U$1:U246)+1)","v":""},{"$f":"IF(ISERROR(IF(ranquing!G248=VLOOKUP(INSCRIPCIÓ!$D$30,$R$2:$S$38,2,0),ranquing!A248,\"\")),\"\",IF(ranquing!G248=VLOOKUP(INSCRIPCIÓ!$D$30,$R$2:$S$38,2,0),ranquing!A248,\"\"))","v":""}]
[null,null,null,null,null,null,null,null,null,null,null,null,null,null,null,null,null,null,null,247,{"$f":"IF(V248=\"\",\"\",MAX(U$1:U247)+1)","v":""},{"$f":"IF(ISERROR(IF(ranquing!G249=VLOOKUP(INSCRIPCIÓ!$D$30,$R$2:$S$38,2,0),ranquing!A249,\"\")),\"\",IF(ranquing!G249=VLOOKUP(INSCRIPCIÓ!$D$30,$R$2:$S$38,2,0),ranquing!A249,\"\"))","v":""}]
[null,null,null,null,null,null,null,null,null,null,null,null,null,null,null,null,null,null,null,248,{"$f":"IF(V249=\"\",\"\",MAX(U$1:U248)+1)","v":""},{"$f":"IF(ISERROR(IF(ranquing!G250=VLOOKUP(INSCRIPCIÓ!$D$30,$R$2:$S$38,2,0),ranquing!A250,\"\")),\"\",IF(ranquing!G250=VLOOKUP(INSCRIPCIÓ!$D$30,$R$2:$S$38,2,0),ranquing!A250,\"\"))","v":""}]
[null,null,null,null,null,null,null,null,null,null,null,null,null,null,null,null,null,null,null,249,{"$f":"IF(V250=\"\",\"\",MAX(U$1:U249)+1)","v":""},{"$f":"IF(ISERROR(IF(ranquing!G251=VLOOKUP(INSCRIPCIÓ!$D$30,$R$2:$S$38,2,0),ranquing!A251,\"\")),\"\",IF(ranquing!G251=VLOOKUP(INSCRIPCIÓ!$D$30,$R$2:$S$38,2,0),ranquing!A251,\"\"))","v":""}]
[null,null,null,null,null,null,null,null,null,null,null,null,null,null,null,null,null,null,null,250,{"$f":"IF(V251=\"\",\"\",MAX(U$1:U250)+1)","v":""},{"$f":"IF(ISERROR(IF(ranquing!G252=VLOOKUP(INSCRIPCIÓ!$D$30,$R$2:$S$38,2,0),ranquing!A252,\"\")),\"\",IF(ranquing!G252=VLOOKUP(INSCRIPCIÓ!$D$30,$R$2:$S$38,2,0),ranquing!A252,\"\"))","v":""}]
[null,null,null,null,null,null,null,null,null,null,null,null,null,null,null,null,null,null,null,251,{"$f":"IF(V252=\"\",\"\",MAX(U$1:U251)+1)","v":""},{"$f":"IF(ISERROR(IF(ranquing!G253=VLOOKUP(INSCRIPCIÓ!$D$30,$R$2:$S$38,2,0),ranquing!A253,\"\")),\"\",IF(ranquing!G253=VLOOKUP(INSCRIPCIÓ!$D$30,$R$2:$S$38,2,0),ranquing!A253,\"\"))","v":""}]
[null,null,null,null,null,null,null,null,null,null,null,null,null,null,null,null,null,null,null,252,{"$f":"IF(V253=\"\",\"\",MAX(U$1:U252)+1)","v":""},{"$f":"IF(ISERROR(IF(ranquing!G254=VLOOKUP(INSCRIPCIÓ!$D$30,$R$2:$S$38,2,0),ranquing!A254,\"\")),\"\",IF(ranquing!G254=VLOOKUP(INSCRIPCIÓ!$D$30,$R$2:$S$38,2,0),ranquing!A254,\"\"))","v":""}]
[null,null,null,null,null,null,null,null,null,null,null,null,null,null,null,null,null,null,null,253,{"$f":"IF(V254=\"\",\"\",MAX(U$1:U253)+1)","v":""},{"$f":"IF(ISERROR(IF(ranquing!G255=VLOOKUP(INSCRIPCIÓ!$D$30,$R$2:$S$38,2,0),ranquing!A255,\"\")),\"\",IF(ranquing!G255=VLOOKUP(INSCRIPCIÓ!$D$30,$R$2:$S$38,2,0),ranquing!A255,\"\"))","v":""}]
[null,null,null,null,null,null,null,null,null,null,null,null,null,null,null,null,null,null,null,254,{"$f":"IF(V255=\"\",\"\",MAX(U$1:U254)+1)","v":""},{"$f":"IF(ISERROR(IF(ranquing!G256=VLOOKUP(INSCRIPCIÓ!$D$30,$R$2:$S$38,2,0),ranquing!A256,\"\")),\"\",IF(ranquing!G256=VLOOKUP(INSCRIPCIÓ!$D$30,$R$2:$S$38,2,0),ranquing!A256,\"\"))","v":""}]
[null,null,null,null,null,null,null,null,null,null,null,null,null,null,null,null,null,null,null,255,{"$f":"IF(V256=\"\",\"\",MAX(U$1:U255)+1)","v":""},{"$f":"IF(ISERROR(IF(ranquing!G257=VLOOKUP(INSCRIPCIÓ!$D$30,$R$2:$S$38,2,0),ranquing!A257,\"\")),\"\",IF(ranquing!G257=VLOOKUP(INSCRIPCIÓ!$D$30,$R$2:$S$38,2,0),ranquing!A257,\"\"))","v":""}]
[null,null,null,null,null,null,null,null,null,null,null,null,null,null,null,null,null,null,null,256,{"$f":"IF(V257=\"\",\"\",MAX(U$1:U256)+1)","v":""},{"$f":"IF(ISERROR(IF(ranquing!G258=VLOOKUP(INSCRIPCIÓ!$D$30,$R$2:$S$38,2,0),ranquing!A258,\"\")),\"\",IF(ranquing!G258=VLOOKUP(INSCRIPCIÓ!$D$30,$R$2:$S$38,2,0),ranquing!A258,\"\"))","v":""}]
[null,null,null,null,null,null,null,null,null,null,null,null,null,null,null,null,null,null,null,257,{"$f":"IF(V258=\"\",\"\",MAX(U$1:U257)+1)","v":""},{"$f":"IF(ISERROR(IF(ranquing!G259=VLOOKUP(INSCRIPCIÓ!$D$30,$R$2:$S$38,2,0),ranquing!A259,\"\")),\"\",IF(ranquing!G259=VLOOKUP(INSCRIPCIÓ!$D$30,$R$2:$S$38,2,0),ranquing!A259,\"\"))","v":""}]
[null,null,null,null,null,null,null,null,null,null,null,null,null,null,null,null,null,null,null,{"$f":"T258+1","v":258},{"$f":"IF(V259=\"\",\"\",MAX(U$1:U258)+1)","v":""},{"$f":"IF(ISERROR(IF(ranquing!G260=VLOOKUP(INSCRIPCIÓ!$D$30,$R$2:$S$38,2,0),ranquing!A260,\"\")),\"\",IF(ranquing!G260=VLOOKUP(INSCRIPCIÓ!$D$30,$R$2:$S$38,2,0),ranquing!A260,\"\"))","v":""}]
[null,null,null,null,null,null,null,null,null,null,null,null,null,null,null,null,null,null,null,259,{"$f":"IF(V260=\"\",\"\",MAX(U$1:U259)+1)","v":""},{"$f":"IF(ISERROR(IF(ranquing!G261=VLOOKUP(INSCRIPCIÓ!$D$30,$R$2:$S$38,2,0),ranquing!A261,\"\")),\"\",IF(ranquing!G261=VLOOKUP(INSCRIPCIÓ!$D$30,$R$2:$S$38,2,0),ranquing!A261,\"\"))","v":""}]
[null,null,null,null,null,null,null,null,null,null,null,null,null,null,null,null,null,null,null,260,{"$f":"IF(V261=\"\",\"\",MAX(U$1:U260)+1)","v":""},{"$f":"IF(ISERROR(IF(ranquing!G262=VLOOKUP(INSCRIPCIÓ!$D$30,$R$2:$S$38,2,0),ranquing!A262,\"\")),\"\",IF(ranquing!G262=VLOOKUP(INSCRIPCIÓ!$D$30,$R$2:$S$38,2,0),ranquing!A262,\"\"))","v":""}]
[null,null,null,null,null,null,null,null,null,null,null,null,null,null,null,null,null,null,null,261,{"$f":"IF(V262=\"\",\"\",MAX(U$1:U261)+1)","v":""},{"$f":"IF(ISERROR(IF(ranquing!G263=VLOOKUP(INSCRIPCIÓ!$D$30,$R$2:$S$38,2,0),ranquing!A263,\"\")),\"\",IF(ranquing!G263=VLOOKUP(INSCRIPCIÓ!$D$30,$R$2:$S$38,2,0),ranquing!A263,\"\"))","v":""}]
[null,null,null,null,null,null,null,null,null,null,null,null,null,null,null,null,null,null,null,262,{"$f":"IF(V263=\"\",\"\",MAX(U$1:U262)+1)","v":""},{"$f":"IF(ISERROR(IF(ranquing!G264=VLOOKUP(INSCRIPCIÓ!$D$30,$R$2:$S$38,2,0),ranquing!A264,\"\")),\"\",IF(ranquing!G264=VLOOKUP(INSCRIPCIÓ!$D$30,$R$2:$S$38,2,0),ranquing!A264,\"\"))","v":""}]
[null,null,null,null,null,null,null,null,null,null,null,null,null,null,null,null,null,null,null,263,{"$f":"IF(V264=\"\",\"\",MAX(U$1:U263)+1)","v":""},{"$f":"IF(ISERROR(IF(ranquing!G265=VLOOKUP(INSCRIPCIÓ!$D$30,$R$2:$S$38,2,0),ranquing!A265,\"\")),\"\",IF(ranquing!G265=VLOOKUP(INSCRIPCIÓ!$D$30,$R$2:$S$38,2,0),ranquing!A265,\"\"))","v":""}]
[null,null,null,null,null,null,null,null,null,null,null,null,null,null,null,null,null,null,null,264,{"$f":"IF(V265=\"\",\"\",MAX(U$1:U264)+1)","v":""},{"$f":"IF(ISERROR(IF(ranquing!G266=VLOOKUP(INSCRIPCIÓ!$D$30,$R$2:$S$38,2,0),ranquing!A266,\"\")),\"\",IF(ranquing!G266=VLOOKUP(INSCRIPCIÓ!$D$30,$R$2:$S$38,2,0),ranquing!A266,\"\"))","v":""}]
[null,null,null,null,null,null,null,null,null,null,null,null,null,null,null,null,null,null,null,265,{"$f":"IF(V266=\"\",\"\",MAX(U$1:U265)+1)","v":""},{"$f":"IF(ISERROR(IF(ranquing!G267=VLOOKUP(INSCRIPCIÓ!$D$30,$R$2:$S$38,2,0),ranquing!A267,\"\")),\"\",IF(ranquing!G267=VLOOKUP(INSCRIPCIÓ!$D$30,$R$2:$S$38,2,0),ranquing!A267,\"\"))","v":""}]
[null,null,null,null,null,null,null,null,null,null,null,null,null,null,null,null,null,null,null,266,{"$f":"IF(V267=\"\",\"\",MAX(U$1:U266)+1)","v":""},{"$f":"IF(ISERROR(IF(ranquing!G268=VLOOKUP(INSCRIPCIÓ!$D$30,$R$2:$S$38,2,0),ranquing!A268,\"\")),\"\",IF(ranquing!G268=VLOOKUP(INSCRIPCIÓ!$D$30,$R$2:$S$38,2,0),ranquing!A268,\"\"))","v":""}]
[null,null,null,null,null,null,null,null,null,null,null,null,null,null,null,null,null,null,null,267,{"$f":"IF(V268=\"\",\"\",MAX(U$1:U267)+1)","v":""},{"$f":"IF(ISERROR(IF(ranquing!G269=VLOOKUP(INSCRIPCIÓ!$D$30,$R$2:$S$38,2,0),ranquing!A269,\"\")),\"\",IF(ranquing!G269=VLOOKUP(INSCRIPCIÓ!$D$30,$R$2:$S$38,2,0),ranquing!A269,\"\"))","v":""}]
[null,null,null,null,null,null,null,null,null,null,null,null,null,null,null,null,null,null,null,268,{"$f":"IF(V269=\"\",\"\",MAX(U$1:U268)+1)","v":""},{"$f":"IF(ISERROR(IF(ranquing!G270=VLOOKUP(INSCRIPCIÓ!$D$30,$R$2:$S$38,2,0),ranquing!A270,\"\")),\"\",IF(ranquing!G270=VLOOKUP(INSCRIPCIÓ!$D$30,$R$2:$S$38,2,0),ranquing!A270,\"\"))","v":""}]
[null,null,null,null,null,null,null,null,null,null,null,null,null,null,null,null,null,null,null,269,{"$f":"IF(V270=\"\",\"\",MAX(U$1:U269)+1)","v":""},{"$f":"IF(ISERROR(IF(ranquing!G271=VLOOKUP(INSCRIPCIÓ!$D$30,$R$2:$S$38,2,0),ranquing!A271,\"\")),\"\",IF(ranquing!G271=VLOOKUP(INSCRIPCIÓ!$D$30,$R$2:$S$38,2,0),ranquing!A271,\"\"))","v":""}]
[null,null,null,null,null,null,null,null,null,null,null,null,null,null,null,null,null,null,null,270,{"$f":"IF(V271=\"\",\"\",MAX(U$1:U270)+1)","v":""},{"$f":"IF(ISERROR(IF(ranquing!G272=VLOOKUP(INSCRIPCIÓ!$D$30,$R$2:$S$38,2,0),ranquing!A272,\"\")),\"\",IF(ranquing!G272=VLOOKUP(INSCRIPCIÓ!$D$30,$R$2:$S$38,2,0),ranquing!A272,\"\"))","v":""}]
[null,null,null,null,null,null,null,null,null,null,null,null,null,null,null,null,null,null,null,271,{"$f":"IF(V272=\"\",\"\",MAX(U$1:U271)+1)","v":""},{"$f":"IF(ISERROR(IF(ranquing!G273=VLOOKUP(INSCRIPCIÓ!$D$30,$R$2:$S$38,2,0),ranquing!A273,\"\")),\"\",IF(ranquing!G273=VLOOKUP(INSCRIPCIÓ!$D$30,$R$2:$S$38,2,0),ranquing!A273,\"\"))","v":""}]
[null,null,null,null,null,null,null,null,null,null,null,null,null,null,null,null,null,null,null,272,{"$f":"IF(V273=\"\",\"\",MAX(U$1:U272)+1)","v":""},{"$f":"IF(ISERROR(IF(ranquing!G274=VLOOKUP(INSCRIPCIÓ!$D$30,$R$2:$S$38,2,0),ranquing!A274,\"\")),\"\",IF(ranquing!G274=VLOOKUP(INSCRIPCIÓ!$D$30,$R$2:$S$38,2,0),ranquing!A274,\"\"))","v":""}]
[null,null,null,null,null,null,null,null,null,null,null,null,null,null,null,null,null,null,null,273,{"$f":"IF(V274=\"\",\"\",MAX(U$1:U273)+1)","v":""},{"$f":"IF(ISERROR(IF(ranquing!G275=VLOOKUP(INSCRIPCIÓ!$D$30,$R$2:$S$38,2,0),ranquing!A275,\"\")),\"\",IF(ranquing!G275=VLOOKUP(INSCRIPCIÓ!$D$30,$R$2:$S$38,2,0),ranquing!A275,\"\"))","v":""}]
[null,null,null,null,null,null,null,null,null,null,null,null,null,null,null,null,null,null,null,274,{"$f":"IF(V275=\"\",\"\",MAX(U$1:U274)+1)","v":""},{"$f":"IF(ISERROR(IF(ranquing!G276=VLOOKUP(INSCRIPCIÓ!$D$30,$R$2:$S$38,2,0),ranquing!A276,\"\")),\"\",IF(ranquing!G276=VLOOKUP(INSCRIPCIÓ!$D$30,$R$2:$S$38,2,0),ranquing!A276,\"\"))","v":""}]
[null,null,null,null,null,null,null,null,null,null,null,null,null,null,null,null,null,null,null,275,{"$f":"IF(V276=\"\",\"\",MAX(U$1:U275)+1)","v":""},{"$f":"IF(ISERROR(IF(ranquing!G277=VLOOKUP(INSCRIPCIÓ!$D$30,$R$2:$S$38,2,0),ranquing!A277,\"\")),\"\",IF(ranquing!G277=VLOOKUP(INSCRIPCIÓ!$D$30,$R$2:$S$38,2,0),ranquing!A277,\"\"))","v":""}]
[null,null,null,null,null,null,null,null,null,null,null,null,null,null,null,null,null,null,null,276,{"$f":"IF(V277=\"\",\"\",MAX(U$1:U276)+1)","v":""},{"$f":"IF(ISERROR(IF(ranquing!G278=VLOOKUP(INSCRIPCIÓ!$D$30,$R$2:$S$38,2,0),ranquing!A278,\"\")),\"\",IF(ranquing!G278=VLOOKUP(INSCRIPCIÓ!$D$30,$R$2:$S$38,2,0),ranquing!A278,\"\"))","v":""}]
[null,null,null,null,null,null,null,null,null,null,null,null,null,null,null,null,null,null,null,277,{"$f":"IF(V278=\"\",\"\",MAX(U$1:U277)+1)","v":""},{"$f":"IF(ISERROR(IF(ranquing!G279=VLOOKUP(INSCRIPCIÓ!$D$30,$R$2:$S$38,2,0),ranquing!A279,\"\")),\"\",IF(ranquing!G279=VLOOKUP(INSCRIPCIÓ!$D$30,$R$2:$S$38,2,0),ranquing!A279,\"\"))","v":""}]
[null,null,null,null,null,null,null,null,null,null,null,null,null,null,null,null,null,null,null,278,{"$f":"IF(V279=\"\",\"\",MAX(U$1:U278)+1)","v":""},{"$f":"IF(ISERROR(IF(ranquing!G280=VLOOKUP(INSCRIPCIÓ!$D$30,$R$2:$S$38,2,0),ranquing!A280,\"\")),\"\",IF(ranquing!G280=VLOOKUP(INSCRIPCIÓ!$D$30,$R$2:$S$38,2,0),ranquing!A280,\"\"))","v":""}]
[null,null,null,null,null,null,null,null,null,null,null,null,null,null,null,null,null,null,null,279,{"$f":"IF(V280=\"\",\"\",MAX(U$1:U279)+1)","v":""},{"$f":"IF(ISERROR(IF(ranquing!G281=VLOOKUP(INSCRIPCIÓ!$D$30,$R$2:$S$38,2,0),ranquing!A281,\"\")),\"\",IF(ranquing!G281=VLOOKUP(INSCRIPCIÓ!$D$30,$R$2:$S$38,2,0),ranquing!A281,\"\"))","v":""}]
[null,null,null,null,null,null,null,null,null,null,null,null,null,null,null,null,null,null,null,280,{"$f":"IF(V281=\"\",\"\",MAX(U$1:U280)+1)","v":""},{"$f":"IF(ISERROR(IF(ranquing!G282=VLOOKUP(INSCRIPCIÓ!$D$30,$R$2:$S$38,2,0),ranquing!A282,\"\")),\"\",IF(ranquing!G282=VLOOKUP(INSCRIPCIÓ!$D$30,$R$2:$S$38,2,0),ranquing!A282,\"\"))","v":""}]
[null,null,null,null,null,null,null,null,null,null,null,null,null,null,null,null,null,null,null,281,{"$f":"IF(V282=\"\",\"\",MAX(U$1:U281)+1)","v":""},{"$f":"IF(ISERROR(IF(ranquing!G283=VLOOKUP(INSCRIPCIÓ!$D$30,$R$2:$S$38,2,0),ranquing!A283,\"\")),\"\",IF(ranquing!G283=VLOOKUP(INSCRIPCIÓ!$D$30,$R$2:$S$38,2,0),ranquing!A283,\"\"))","v":""}]
[null,null,null,null,null,null,null,null,null,null,null,null,null,null,null,null,null,null,null,282,{"$f":"IF(V283=\"\",\"\",MAX(U$1:U282)+1)","v":""},{"$f":"IF(ISERROR(IF(ranquing!G284=VLOOKUP(INSCRIPCIÓ!$D$30,$R$2:$S$38,2,0),ranquing!A284,\"\")),\"\",IF(ranquing!G284=VLOOKUP(INSCRIPCIÓ!$D$30,$R$2:$S$38,2,0),ranquing!A284,\"\"))","v":""}]
[null,null,null,null,null,null,null,null,null,null,null,null,null,null,null,null,null,null,null,283,{"$f":"IF(V284=\"\",\"\",MAX(U$1:U283)+1)","v":""},{"$f":"IF(ISERROR(IF(ranquing!G285=VLOOKUP(INSCRIPCIÓ!$D$30,$R$2:$S$38,2,0),ranquing!A285,\"\")),\"\",IF(ranquing!G285=VLOOKUP(INSCRIPCIÓ!$D$30,$R$2:$S$38,2,0),ranquing!A285,\"\"))","v":""}]
[null,null,null,null,null,null,null,null,null,null,null,null,null,null,null,null,null,null,null,284,{"$f":"IF(V285=\"\",\"\",MAX(U$1:U284)+1)","v":""},{"$f":"IF(ISERROR(IF(ranquing!G286=VLOOKUP(INSCRIPCIÓ!$D$30,$R$2:$S$38,2,0),ranquing!A286,\"\")),\"\",IF(ranquing!G286=VLOOKUP(INSCRIPCIÓ!$D$30,$R$2:$S$38,2,0),ranquing!A286,\"\"))","v":""}]
[null,null,null,null,null,null,null,null,null,null,null,null,null,null,null,null,null,null,null,285,{"$f":"IF(V286=\"\",\"\",MAX(U$1:U285)+1)","v":""},{"$f":"IF(ISERROR(IF(ranquing!G287=VLOOKUP(INSCRIPCIÓ!$D$30,$R$2:$S$38,2,0),ranquing!A287,\"\")),\"\",IF(ranquing!G287=VLOOKUP(INSCRIPCIÓ!$D$30,$R$2:$S$38,2,0),ranquing!A287,\"\"))","v":""}]
[null,null,null,null,null,null,null,null,null,null,null,null,null,null,null,null,null,null,null,286,{"$f":"IF(V287=\"\",\"\",MAX(U$1:U286)+1)","v":""},{"$f":"IF(ISERROR(IF(ranquing!G288=VLOOKUP(INSCRIPCIÓ!$D$30,$R$2:$S$38,2,0),ranquing!A288,\"\")),\"\",IF(ranquing!G288=VLOOKUP(INSCRIPCIÓ!$D$30,$R$2:$S$38,2,0),ranquing!A288,\"\"))","v":""}]
[null,null,null,null,null,null,null,null,null,null,null,null,null,null,null,null,null,null,null,287,{"$f":"IF(V288=\"\",\"\",MAX(U$1:U287)+1)","v":""},{"$f":"IF(ISERROR(IF(ranquing!G289=VLOOKUP(INSCRIPCIÓ!$D$30,$R$2:$S$38,2,0),ranquing!A289,\"\")),\"\",IF(ranquing!G289=VLOOKUP(INSCRIPCIÓ!$D$30,$R$2:$S$38,2,0),ranquing!A289,\"\"))","v":""}]
[null,null,null,null,null,null,null,null,null,null,null,null,null,null,null,null,null,null,null,288,{"$f":"IF(V289=\"\",\"\",MAX(U$1:U288)+1)","v":""},{"$f":"IF(ISERROR(IF(ranquing!G290=VLOOKUP(INSCRIPCIÓ!$D$30,$R$2:$S$38,2,0),ranquing!A290,\"\")),\"\",IF(ranquing!G290=VLOOKUP(INSCRIPCIÓ!$D$30,$R$2:$S$38,2,0),ranquing!A290,\"\"))","v":""}]
[null,null,null,null,null,null,null,null,null,null,null,null,null,null,null,null,null,null,null,289,{"$f":"IF(V290=\"\",\"\",MAX(U$1:U289)+1)","v":""},{"$f":"IF(ISERROR(IF(ranquing!G291=VLOOKUP(INSCRIPCIÓ!$D$30,$R$2:$S$38,2,0),ranquing!A291,\"\")),\"\",IF(ranquing!G291=VLOOKUP(INSCRIPCIÓ!$D$30,$R$2:$S$38,2,0),ranquing!A291,\"\"))","v":""}]
[null,null,null,null,null,null,null,null,null,null,null,null,null,null,null,null,null,null,null,290,{"$f":"IF(V291=\"\",\"\",MAX(U$1:U290)+1)","v":""},{"$f":"IF(ISERROR(IF(ranquing!G292=VLOOKUP(INSCRIPCIÓ!$D$30,$R$2:$S$38,2,0),ranquing!A292,\"\")),\"\",IF(ranquing!G292=VLOOKUP(INSCRIPCIÓ!$D$30,$R$2:$S$38,2,0),ranquing!A292,\"\"))","v":""}]
[null,null,null,null,null,null,null,null,null,null,null,null,null,null,null,null,null,null,null,291,{"$f":"IF(V292=\"\",\"\",MAX(U$1:U291)+1)","v":""},{"$f":"IF(ISERROR(IF(ranquing!G293=VLOOKUP(INSCRIPCIÓ!$D$30,$R$2:$S$38,2,0),ranquing!A293,\"\")),\"\",IF(ranquing!G293=VLOOKUP(INSCRIPCIÓ!$D$30,$R$2:$S$38,2,0),ranquing!A293,\"\"))","v":""}]
[null,null,null,null,null,null,null,null,null,null,null,null,null,null,null,null,null,null,null,292,{"$f":"IF(V293=\"\",\"\",MAX(U$1:U292)+1)","v":""},{"$f":"IF(ISERROR(IF(ranquing!G294=VLOOKUP(INSCRIPCIÓ!$D$30,$R$2:$S$38,2,0),ranquing!A294,\"\")),\"\",IF(ranquing!G294=VLOOKUP(INSCRIPCIÓ!$D$30,$R$2:$S$38,2,0),ranquing!A294,\"\"))","v":""}]
[null,null,null,null,null,null,null,null,null,null,null,null,null,null,null,null,null,null,null,293,{"$f":"IF(V294=\"\",\"\",MAX(U$1:U293)+1)","v":""},{"$f":"IF(ISERROR(IF(ranquing!G295=VLOOKUP(INSCRIPCIÓ!$D$30,$R$2:$S$38,2,0),ranquing!A295,\"\")),\"\",IF(ranquing!G295=VLOOKUP(INSCRIPCIÓ!$D$30,$R$2:$S$38,2,0),ranquing!A295,\"\"))","v":""}]
[null,null,null,null,null,null,null,null,null,null,null,null,null,null,null,null,null,null,null,294,{"$f":"IF(V295=\"\",\"\",MAX(U$1:U294)+1)","v":""},{"$f":"IF(ISERROR(IF(ranquing!G296=VLOOKUP(INSCRIPCIÓ!$D$30,$R$2:$S$38,2,0),ranquing!A296,\"\")),\"\",IF(ranquing!G296=VLOOKUP(INSCRIPCIÓ!$D$30,$R$2:$S$38,2,0),ranquing!A296,\"\"))","v":""}]
[null,null,null,null,null,null,null,null,null,null,null,null,null,null,null,null,null,null,null,295,{"$f":"IF(V296=\"\",\"\",MAX(U$1:U295)+1)","v":""},{"$f":"IF(ISERROR(IF(ranquing!G297=VLOOKUP(INSCRIPCIÓ!$D$30,$R$2:$S$38,2,0),ranquing!A297,\"\")),\"\",IF(ranquing!G297=VLOOKUP(INSCRIPCIÓ!$D$30,$R$2:$S$38,2,0),ranquing!A297,\"\"))","v":""}]
[null,null,null,null,null,null,null,null,null,null,null,null,null,null,null,null,null,null,null,296,{"$f":"IF(V297=\"\",\"\",MAX(U$1:U296)+1)","v":""},{"$f":"IF(ISERROR(IF(ranquing!G298=VLOOKUP(INSCRIPCIÓ!$D$30,$R$2:$S$38,2,0),ranquing!A298,\"\")),\"\",IF(ranquing!G298=VLOOKUP(INSCRIPCIÓ!$D$30,$R$2:$S$38,2,0),ranquing!A298,\"\"))","v":""}]
[null,null,null,null,null,null,null,null,null,null,null,null,null,null,null,null,null,null,null,297,{"$f":"IF(V298=\"\",\"\",MAX(U$1:U297)+1)","v":""},{"$f":"IF(ISERROR(IF(ranquing!G299=VLOOKUP(INSCRIPCIÓ!$D$30,$R$2:$S$38,2,0),ranquing!A299,\"\")),\"\",IF(ranquing!G299=VLOOKUP(INSCRIPCIÓ!$D$30,$R$2:$S$38,2,0),ranquing!A299,\"\"))","v":""}]
[null,null,null,null,null,null,null,null,null,null,null,null,null,null,null,null,null,null,null,298,{"$f":"IF(V299=\"\",\"\",MAX(U$1:U298)+1)","v":""},{"$f":"IF(ISERROR(IF(ranquing!G300=VLOOKUP(INSCRIPCIÓ!$D$30,$R$2:$S$38,2,0),ranquing!A300,\"\")),\"\",IF(ranquing!G300=VLOOKUP(INSCRIPCIÓ!$D$30,$R$2:$S$38,2,0),ranquing!A300,\"\"))","v":""}]
[null,null,null,null,null,null,null,null,null,null,null,null,null,null,null,null,null,null,null,299,{"$f":"IF(V300=\"\",\"\",MAX(U$1:U299)+1)","v":""},{"$f":"IF(ISERROR(IF(ranquing!G301=VLOOKUP(INSCRIPCIÓ!$D$30,$R$2:$S$38,2,0),ranquing!A301,\"\")),\"\",IF(ranquing!G301=VLOOKUP(INSCRIPCIÓ!$D$30,$R$2:$S$38,2,0),ranquing!A301,\"\"))","v":""}]
[null,null,null,null,null,null,null,null,null,null,null,null,null,null,null,null,null,null,null,300,{"$f":"IF(V301=\"\",\"\",MAX(U$1:U300)+1)","v":""},{"$f":"IF(ISERROR(IF(ranquing!G302=VLOOKUP(INSCRIPCIÓ!$D$30,$R$2:$S$38,2,0),ranquing!A302,\"\")),\"\",IF(ranquing!G302=VLOOKUP(INSCRIPCIÓ!$D$30,$R$2:$S$38,2,0),ranquing!A302,\"\"))","v":""}]
[null,null,null,null,null,null,null,null,null,null,null,null,null,null,null,null,null,null,null,301,{"$f":"IF(V302=\"\",\"\",MAX(U$1:U301)+1)","v":""},{"$f":"IF(ISERROR(IF(ranquing!G303=VLOOKUP(INSCRIPCIÓ!$D$30,$R$2:$S$38,2,0),ranquing!A303,\"\")),\"\",IF(ranquing!G303=VLOOKUP(INSCRIPCIÓ!$D$30,$R$2:$S$38,2,0),ranquing!A303,\"\"))","v":""}]
[null,null,null,null,null,null,null,null,null,null,null,null,null,null,null,null,null,null,null,302,{"$f":"IF(V303=\"\",\"\",MAX(U$1:U302)+1)","v":""},{"$f":"IF(ISERROR(IF(ranquing!G304=VLOOKUP(INSCRIPCIÓ!$D$30,$R$2:$S$38,2,0),ranquing!A304,\"\")),\"\",IF(ranquing!G304=VLOOKUP(INSCRIPCIÓ!$D$30,$R$2:$S$38,2,0),ranquing!A304,\"\"))","v":""}]
[null,null,null,null,null,null,null,null,null,null,null,null,null,null,null,null,null,null,null,303,{"$f":"IF(V304=\"\",\"\",MAX(U$1:U303)+1)","v":""},{"$f":"IF(ISERROR(IF(ranquing!G305=VLOOKUP(INSCRIPCIÓ!$D$30,$R$2:$S$38,2,0),ranquing!A305,\"\")),\"\",IF(ranquing!G305=VLOOKUP(INSCRIPCIÓ!$D$30,$R$2:$S$38,2,0),ranquing!A305,\"\"))","v":""}]
[null,null,null,null,null,null,null,null,null,null,null,null,null,null,null,null,null,null,null,304,{"$f":"IF(V305=\"\",\"\",MAX(U$1:U304)+1)","v":""},{"$f":"IF(ISERROR(IF(ranquing!G306=VLOOKUP(INSCRIPCIÓ!$D$30,$R$2:$S$38,2,0),ranquing!A306,\"\")),\"\",IF(ranquing!G306=VLOOKUP(INSCRIPCIÓ!$D$30,$R$2:$S$38,2,0),ranquing!A306,\"\"))","v":""}]
[null,null,null,null,null,null,null,null,null,null,null,null,null,null,null,null,null,null,null,305,{"$f":"IF(V306=\"\",\"\",MAX(U$1:U305)+1)","v":""},{"$f":"IF(ISERROR(IF(ranquing!G307=VLOOKUP(INSCRIPCIÓ!$D$30,$R$2:$S$38,2,0),ranquing!A307,\"\")),\"\",IF(ranquing!G307=VLOOKUP(INSCRIPCIÓ!$D$30,$R$2:$S$38,2,0),ranquing!A307,\"\"))","v":""}]
[null,null,null,null,null,null,null,null,null,null,null,null,null,null,null,null,null,null,null,306,{"$f":"IF(V307=\"\",\"\",MAX(U$1:U306)+1)","v":""},{"$f":"IF(ISERROR(IF(ranquing!G308=VLOOKUP(INSCRIPCIÓ!$D$30,$R$2:$S$38,2,0),ranquing!A308,\"\")),\"\",IF(ranquing!G308=VLOOKUP(INSCRIPCIÓ!$D$30,$R$2:$S$38,2,0),ranquing!A308,\"\"))","v":""}]
[null,null,null,null,null,null,null,null,null,null,null,null,null,null,null,null,null,null,null,307,{"$f":"IF(V308=\"\",\"\",MAX(U$1:U307)+1)","v":""},{"$f":"IF(ISERROR(IF(ranquing!G309=VLOOKUP(INSCRIPCIÓ!$D$30,$R$2:$S$38,2,0),ranquing!A309,\"\")),\"\",IF(ranquing!G309=VLOOKUP(INSCRIPCIÓ!$D$30,$R$2:$S$38,2,0),ranquing!A309,\"\"))","v":""}]
[null,null,null,null,null,null,null,null,null,null,null,null,null,null,null,null,null,null,null,308,{"$f":"IF(V309=\"\",\"\",MAX(U$1:U308)+1)","v":""},{"$f":"IF(ISERROR(IF(ranquing!G310=VLOOKUP(INSCRIPCIÓ!$D$30,$R$2:$S$38,2,0),ranquing!A310,\"\")),\"\",IF(ranquing!G310=VLOOKUP(INSCRIPCIÓ!$D$30,$R$2:$S$38,2,0),ranquing!A310,\"\"))","v":""}]
[null,null,null,null,null,null,null,null,null,null,null,null,null,null,null,null,null,null,null,309,{"$f":"IF(V310=\"\",\"\",MAX(U$1:U309)+1)","v":""},{"$f":"IF(ISERROR(IF(ranquing!G311=VLOOKUP(INSCRIPCIÓ!$D$30,$R$2:$S$38,2,0),ranquing!A311,\"\")),\"\",IF(ranquing!G311=VLOOKUP(INSCRIPCIÓ!$D$30,$R$2:$S$38,2,0),ranquing!A311,\"\"))","v":""}]
[null,null,null,null,null,null,null,null,null,null,null,null,null,null,null,null,null,null,null,310,{"$f":"IF(V311=\"\",\"\",MAX(U$1:U310)+1)","v":""},{"$f":"IF(ISERROR(IF(ranquing!G312=VLOOKUP(INSCRIPCIÓ!$D$30,$R$2:$S$38,2,0),ranquing!A312,\"\")),\"\",IF(ranquing!G312=VLOOKUP(INSCRIPCIÓ!$D$30,$R$2:$S$38,2,0),ranquing!A312,\"\"))","v":""}]
[null,null,null,null,null,null,null,null,null,null,null,null,null,null,null,null,null,null,null,311,{"$f":"IF(V312=\"\",\"\",MAX(U$1:U311)+1)","v":""},{"$f":"IF(ISERROR(IF(ranquing!G313=VLOOKUP(INSCRIPCIÓ!$D$30,$R$2:$S$38,2,0),ranquing!A313,\"\")),\"\",IF(ranquing!G313=VLOOKUP(INSCRIPCIÓ!$D$30,$R$2:$S$38,2,0),ranquing!A313,\"\"))","v":""}]
[null,null,null,null,null,null,null,null,null,null,null,null,null,null,null,null,null,null,null,312,{"$f":"IF(V313=\"\",\"\",MAX(U$1:U312)+1)","v":""},{"$f":"IF(ISERROR(IF(ranquing!G314=VLOOKUP(INSCRIPCIÓ!$D$30,$R$2:$S$38,2,0),ranquing!A314,\"\")),\"\",IF(ranquing!G314=VLOOKUP(INSCRIPCIÓ!$D$30,$R$2:$S$38,2,0),ranquing!A314,\"\"))","v":""}]
[null,null,null,null,null,null,null,null,null,null,null,null,null,null,null,null,null,null,null,313,{"$f":"IF(V314=\"\",\"\",MAX(U$1:U313)+1)","v":""},{"$f":"IF(ISERROR(IF(ranquing!G315=VLOOKUP(INSCRIPCIÓ!$D$30,$R$2:$S$38,2,0),ranquing!A315,\"\")),\"\",IF(ranquing!G315=VLOOKUP(INSCRIPCIÓ!$D$30,$R$2:$S$38,2,0),ranquing!A315,\"\"))","v":""}]
[null,null,null,null,null,null,null,null,null,null,null,null,null,null,null,null,null,null,null,314,{"$f":"IF(V315=\"\",\"\",MAX(U$1:U314)+1)","v":""},{"$f":"IF(ISERROR(IF(ranquing!G316=VLOOKUP(INSCRIPCIÓ!$D$30,$R$2:$S$38,2,0),ranquing!A316,\"\")),\"\",IF(ranquing!G316=VLOOKUP(INSCRIPCIÓ!$D$30,$R$2:$S$38,2,0),ranquing!A316,\"\"))","v":""}]
[null,null,null,null,null,null,null,null,null,null,null,null,null,null,null,null,null,null,null,315,{"$f":"IF(V316=\"\",\"\",MAX(U$1:U315)+1)","v":""},{"$f":"IF(ISERROR(IF(ranquing!G317=VLOOKUP(INSCRIPCIÓ!$D$30,$R$2:$S$38,2,0),ranquing!A317,\"\")),\"\",IF(ranquing!G317=VLOOKUP(INSCRIPCIÓ!$D$30,$R$2:$S$38,2,0),ranquing!A317,\"\"))","v":""}]
[null,null,null,null,null,null,null,null,null,null,null,null,null,null,null,null,null,null,null,316,{"$f":"IF(V317=\"\",\"\",MAX(U$1:U316)+1)","v":""},{"$f":"IF(ISERROR(IF(ranquing!G318=VLOOKUP(INSCRIPCIÓ!$D$30,$R$2:$S$38,2,0),ranquing!A318,\"\")),\"\",IF(ranquing!G318=VLOOKUP(INSCRIPCIÓ!$D$30,$R$2:$S$38,2,0),ranquing!A318,\"\"))","v":""}]
[null,null,null,null,null,null,null,null,null,null,null,null,null,null,null,null,null,null,null,317,{"$f":"IF(V318=\"\",\"\",MAX(U$1:U317)+1)","v":""},{"$f":"IF(ISERROR(IF(ranquing!G319=VLOOKUP(INSCRIPCIÓ!$D$30,$R$2:$S$38,2,0),ranquing!A319,\"\")),\"\",IF(ranquing!G319=VLOOKUP(INSCRIPCIÓ!$D$30,$R$2:$S$38,2,0),ranquing!A319,\"\"))","v":""}]
[null,null,null,null,null,null,null,null,null,null,null,null,null,null,null,null,null,null,null,318,{"$f":"IF(V319=\"\",\"\",MAX(U$1:U318)+1)","v":""},{"$f":"IF(ISERROR(IF(ranquing!G320=VLOOKUP(INSCRIPCIÓ!$D$30,$R$2:$S$38,2,0),ranquing!A320,\"\")),\"\",IF(ranquing!G320=VLOOKUP(INSCRIPCIÓ!$D$30,$R$2:$S$38,2,0),ranquing!A320,\"\"))","v":""}]
[null,null,null,null,null,null,null,null,null,null,null,null,null,null,null,null,null,null,null,319,{"$f":"IF(V320=\"\",\"\",MAX(U$1:U319)+1)","v":""},{"$f":"IF(ISERROR(IF(ranquing!G321=VLOOKUP(INSCRIPCIÓ!$D$30,$R$2:$S$38,2,0),ranquing!A321,\"\")),\"\",IF(ranquing!G321=VLOOKUP(INSCRIPCIÓ!$D$30,$R$2:$S$38,2,0),ranquing!A321,\"\"))","v":""}]
[null,null,null,null,null,null,null,null,null,null,null,null,null,null,null,null,null,null,null,320,{"$f":"IF(V321=\"\",\"\",MAX(U$1:U320)+1)","v":""},{"$f":"IF(ISERROR(IF(ranquing!G322=VLOOKUP(INSCRIPCIÓ!$D$30,$R$2:$S$38,2,0),ranquing!A322,\"\")),\"\",IF(ranquing!G322=VLOOKUP(INSCRIPCIÓ!$D$30,$R$2:$S$38,2,0),ranquing!A322,\"\"))","v":""}]
[null,null,null,null,null,null,null,null,null,null,null,null,null,null,null,null,null,null,null,321,{"$f":"IF(V322=\"\",\"\",MAX(U$1:U321)+1)","v":""},{"$f":"IF(ISERROR(IF(ranquing!G323=VLOOKUP(INSCRIPCIÓ!$D$30,$R$2:$S$38,2,0),ranquing!A323,\"\")),\"\",IF(ranquing!G323=VLOOKUP(INSCRIPCIÓ!$D$30,$R$2:$S$38,2,0),ranquing!A323,\"\"))","v":""}]
[null,null,null,null,null,null,null,null,null,null,null,null,null,null,null,null,null,null,null,{"$f":"T322+1","v":322},{"$f":"IF(V323=\"\",\"\",MAX(U$1:U322)+1)","v":""},{"$f":"IF(ISERROR(IF(ranquing!G324=VLOOKUP(INSCRIPCIÓ!$D$30,$R$2:$S$38,2,0),ranquing!A324,\"\")),\"\",IF(ranquing!G324=VLOOKUP(INSCRIPCIÓ!$D$30,$R$2:$S$38,2,0),ranquing!A324,\"\"))","v":""}]
[null,null,null,null,null,null,null,null,null,null,null,null,null,null,null,null,null,null,null,323,{"$f":"IF(V324=\"\",\"\",MAX(U$1:U323)+1)","v":""},{"$f":"IF(ISERROR(IF(ranquing!G325=VLOOKUP(INSCRIPCIÓ!$D$30,$R$2:$S$38,2,0),ranquing!A325,\"\")),\"\",IF(ranquing!G325=VLOOKUP(INSCRIPCIÓ!$D$30,$R$2:$S$38,2,0),ranquing!A325,\"\"))","v":""}]
[null,null,null,null,null,null,null,null,null,null,null,null,null,null,null,null,null,null,null,324,{"$f":"IF(V325=\"\",\"\",MAX(U$1:U324)+1)","v":""},{"$f":"IF(ISERROR(IF(ranquing!G326=VLOOKUP(INSCRIPCIÓ!$D$30,$R$2:$S$38,2,0),ranquing!A326,\"\")),\"\",IF(ranquing!G326=VLOOKUP(INSCRIPCIÓ!$D$30,$R$2:$S$38,2,0),ranquing!A326,\"\"))","v":""}]
[null,null,null,null,null,null,null,null,null,null,null,null,null,null,null,null,null,null,null,325,{"$f":"IF(V326=\"\",\"\",MAX(U$1:U325)+1)","v":""},{"$f":"IF(ISERROR(IF(ranquing!G327=VLOOKUP(INSCRIPCIÓ!$D$30,$R$2:$S$38,2,0),ranquing!A327,\"\")),\"\",IF(ranquing!G327=VLOOKUP(INSCRIPCIÓ!$D$30,$R$2:$S$38,2,0),ranquing!A327,\"\"))","v":""}]
[null,null,null,null,null,null,null,null,null,null,null,null,null,null,null,null,null,null,null,326,{"$f":"IF(V327=\"\",\"\",MAX(U$1:U326)+1)","v":""},{"$f":"IF(ISERROR(IF(ranquing!G328=VLOOKUP(INSCRIPCIÓ!$D$30,$R$2:$S$38,2,0),ranquing!A328,\"\")),\"\",IF(ranquing!G328=VLOOKUP(INSCRIPCIÓ!$D$30,$R$2:$S$38,2,0),ranquing!A328,\"\"))","v":""}]
[null,null,null,null,null,null,null,null,null,null,null,null,null,null,null,null,null,null,null,327,{"$f":"IF(V328=\"\",\"\",MAX(U$1:U327)+1)","v":""},{"$f":"IF(ISERROR(IF(ranquing!G329=VLOOKUP(INSCRIPCIÓ!$D$30,$R$2:$S$38,2,0),ranquing!A329,\"\")),\"\",IF(ranquing!G329=VLOOKUP(INSCRIPCIÓ!$D$30,$R$2:$S$38,2,0),ranquing!A329,\"\"))","v":""}]
[null,null,null,null,null,null,null,null,null,null,null,null,null,null,null,null,null,null,null,328,{"$f":"IF(V329=\"\",\"\",MAX(U$1:U328)+1)","v":""},{"$f":"IF(ISERROR(IF(ranquing!G330=VLOOKUP(INSCRIPCIÓ!$D$30,$R$2:$S$38,2,0),ranquing!A330,\"\")),\"\",IF(ranquing!G330=VLOOKUP(INSCRIPCIÓ!$D$30,$R$2:$S$38,2,0),ranquing!A330,\"\"))","v":""}]
[null,null,null,null,null,null,null,null,null,null,null,null,null,null,null,null,null,null,null,329,{"$f":"IF(V330=\"\",\"\",MAX(U$1:U329)+1)","v":""},{"$f":"IF(ISERROR(IF(ranquing!G331=VLOOKUP(INSCRIPCIÓ!$D$30,$R$2:$S$38,2,0),ranquing!A331,\"\")),\"\",IF(ranquing!G331=VLOOKUP(INSCRIPCIÓ!$D$30,$R$2:$S$38,2,0),ranquing!A331,\"\"))","v":""}]
[null,null,null,null,null,null,null,null,null,null,null,null,null,null,null,null,null,null,null,330,{"$f":"IF(V331=\"\",\"\",MAX(U$1:U330)+1)","v":""},{"$f":"IF(ISERROR(IF(ranquing!G332=VLOOKUP(INSCRIPCIÓ!$D$30,$R$2:$S$38,2,0),ranquing!A332,\"\")),\"\",IF(ranquing!G332=VLOOKUP(INSCRIPCIÓ!$D$30,$R$2:$S$38,2,0),ranquing!A332,\"\"))","v":""}]
[null,null,null,null,null,null,null,null,null,null,null,null,null,null,null,null,null,null,null,331,{"$f":"IF(V332=\"\",\"\",MAX(U$1:U331)+1)","v":""},{"$f":"IF(ISERROR(IF(ranquing!G333=VLOOKUP(INSCRIPCIÓ!$D$30,$R$2:$S$38,2,0),ranquing!A333,\"\")),\"\",IF(ranquing!G333=VLOOKUP(INSCRIPCIÓ!$D$30,$R$2:$S$38,2,0),ranquing!A333,\"\"))","v":""}]
[null,null,null,null,null,null,null,null,null,null,null,null,null,null,null,null,null,null,null,332,{"$f":"IF(V333=\"\",\"\",MAX(U$1:U332)+1)","v":""},{"$f":"IF(ISERROR(IF(ranquing!G334=VLOOKUP(INSCRIPCIÓ!$D$30,$R$2:$S$38,2,0),ranquing!A334,\"\")),\"\",IF(ranquing!G334=VLOOKUP(INSCRIPCIÓ!$D$30,$R$2:$S$38,2,0),ranquing!A334,\"\"))","v":""}]
[null,null,null,null,null,null,null,null,null,null,null,null,null,null,null,null,null,null,null,333,{"$f":"IF(V334=\"\",\"\",MAX(U$1:U333)+1)","v":""},{"$f":"IF(ISERROR(IF(ranquing!G335=VLOOKUP(INSCRIPCIÓ!$D$30,$R$2:$S$38,2,0),ranquing!A335,\"\")),\"\",IF(ranquing!G335=VLOOKUP(INSCRIPCIÓ!$D$30,$R$2:$S$38,2,0),ranquing!A335,\"\"))","v":""}]
[null,null,null,null,null,null,null,null,null,null,null,null,null,null,null,null,null,null,null,334,{"$f":"IF(V335=\"\",\"\",MAX(U$1:U334)+1)","v":""},{"$f":"IF(ISERROR(IF(ranquing!G336=VLOOKUP(INSCRIPCIÓ!$D$30,$R$2:$S$38,2,0),ranquing!A336,\"\")),\"\",IF(ranquing!G336=VLOOKUP(INSCRIPCIÓ!$D$30,$R$2:$S$38,2,0),ranquing!A336,\"\"))","v":""}]
[null,null,null,null,null,null,null,null,null,null,null,null,null,null,null,null,null,null,null,335,{"$f":"IF(V336=\"\",\"\",MAX(U$1:U335)+1)","v":""},{"$f":"IF(ISERROR(IF(ranquing!G337=VLOOKUP(INSCRIPCIÓ!$D$30,$R$2:$S$38,2,0),ranquing!A337,\"\")),\"\",IF(ranquing!G337=VLOOKUP(INSCRIPCIÓ!$D$30,$R$2:$S$38,2,0),ranquing!A337,\"\"))","v":""}]
[null,null,null,null,null,null,null,null,null,null,null,null,null,null,null,null,null,null,null,336,{"$f":"IF(V337=\"\",\"\",MAX(U$1:U336)+1)","v":""},{"$f":"IF(ISERROR(IF(ranquing!G338=VLOOKUP(INSCRIPCIÓ!$D$30,$R$2:$S$38,2,0),ranquing!A338,\"\")),\"\",IF(ranquing!G338=VLOOKUP(INSCRIPCIÓ!$D$30,$R$2:$S$38,2,0),ranquing!A338,\"\"))","v":""}]
[null,null,null,null,null,null,null,null,null,null,null,null,null,null,null,null,null,null,null,337,{"$f":"IF(V338=\"\",\"\",MAX(U$1:U337)+1)","v":""},{"$f":"IF(ISERROR(IF(ranquing!G339=VLOOKUP(INSCRIPCIÓ!$D$30,$R$2:$S$38,2,0),ranquing!A339,\"\")),\"\",IF(ranquing!G339=VLOOKUP(INSCRIPCIÓ!$D$30,$R$2:$S$38,2,0),ranquing!A339,\"\"))","v":""}]
[null,null,null,null,null,null,null,null,null,null,null,null,null,null,null,null,null,null,null,338,{"$f":"IF(V339=\"\",\"\",MAX(U$1:U338)+1)","v":""},{"$f":"IF(ISERROR(IF(ranquing!G340=VLOOKUP(INSCRIPCIÓ!$D$30,$R$2:$S$38,2,0),ranquing!A340,\"\")),\"\",IF(ranquing!G340=VLOOKUP(INSCRIPCIÓ!$D$30,$R$2:$S$38,2,0),ranquing!A340,\"\"))","v":""}]
[null,null,null,null,null,null,null,null,null,null,null,null,null,null,null,null,null,null,null,339,{"$f":"IF(V340=\"\",\"\",MAX(U$1:U339)+1)","v":""},{"$f":"IF(ISERROR(IF(ranquing!G341=VLOOKUP(INSCRIPCIÓ!$D$30,$R$2:$S$38,2,0),ranquing!A341,\"\")),\"\",IF(ranquing!G341=VLOOKUP(INSCRIPCIÓ!$D$30,$R$2:$S$38,2,0),ranquing!A341,\"\"))","v":""}]
[null,null,null,null,null,null,null,null,null,null,null,null,null,null,null,null,null,null,null,340,{"$f":"IF(V341=\"\",\"\",MAX(U$1:U340)+1)","v":""},{"$f":"IF(ISERROR(IF(ranquing!G342=VLOOKUP(INSCRIPCIÓ!$D$30,$R$2:$S$38,2,0),ranquing!A342,\"\")),\"\",IF(ranquing!G342=VLOOKUP(INSCRIPCIÓ!$D$30,$R$2:$S$38,2,0),ranquing!A342,\"\"))","v":""}]
[null,null,null,null,null,null,null,null,null,null,null,null,null,null,null,null,null,null,null,341,{"$f":"IF(V342=\"\",\"\",MAX(U$1:U341)+1)","v":""},{"$f":"IF(ISERROR(IF(ranquing!G343=VLOOKUP(INSCRIPCIÓ!$D$30,$R$2:$S$38,2,0),ranquing!A343,\"\")),\"\",IF(ranquing!G343=VLOOKUP(INSCRIPCIÓ!$D$30,$R$2:$S$38,2,0),ranquing!A343,\"\"))","v":""}]
[null,null,null,null,null,null,null,null,null,null,null,null,null,null,null,null,null,null,null,342,{"$f":"IF(V343=\"\",\"\",MAX(U$1:U342)+1)","v":""},{"$f":"IF(ISERROR(IF(ranquing!G344=VLOOKUP(INSCRIPCIÓ!$D$30,$R$2:$S$38,2,0),ranquing!A344,\"\")),\"\",IF(ranquing!G344=VLOOKUP(INSCRIPCIÓ!$D$30,$R$2:$S$38,2,0),ranquing!A344,\"\"))","v":""}]
[null,null,null,null,null,null,null,null,null,null,null,null,null,null,null,null,null,null,null,343,{"$f":"IF(V344=\"\",\"\",MAX(U$1:U343)+1)","v":""},{"$f":"IF(ISERROR(IF(ranquing!G345=VLOOKUP(INSCRIPCIÓ!$D$30,$R$2:$S$38,2,0),ranquing!A345,\"\")),\"\",IF(ranquing!G345=VLOOKUP(INSCRIPCIÓ!$D$30,$R$2:$S$38,2,0),ranquing!A345,\"\"))","v":""}]
[null,null,null,null,null,null,null,null,null,null,null,null,null,null,null,null,null,null,null,344,{"$f":"IF(V345=\"\",\"\",MAX(U$1:U344)+1)","v":""},{"$f":"IF(ISERROR(IF(ranquing!G346=VLOOKUP(INSCRIPCIÓ!$D$30,$R$2:$S$38,2,0),ranquing!A346,\"\")),\"\",IF(ranquing!G346=VLOOKUP(INSCRIPCIÓ!$D$30,$R$2:$S$38,2,0),ranquing!A346,\"\"))","v":""}]
[null,null,null,null,null,null,null,null,null,null,null,null,null,null,null,null,null,null,null,345,{"$f":"IF(V346=\"\",\"\",MAX(U$1:U345)+1)","v":""},{"$f":"IF(ISERROR(IF(ranquing!G347=VLOOKUP(INSCRIPCIÓ!$D$30,$R$2:$S$38,2,0),ranquing!A347,\"\")),\"\",IF(ranquing!G347=VLOOKUP(INSCRIPCIÓ!$D$30,$R$2:$S$38,2,0),ranquing!A347,\"\"))","v":""}]
[null,null,null,null,null,null,null,null,null,null,null,null,null,null,null,null,null,null,null,346,{"$f":"IF(V347=\"\",\"\",MAX(U$1:U346)+1)","v":""},{"$f":"IF(ISERROR(IF(ranquing!G348=VLOOKUP(INSCRIPCIÓ!$D$30,$R$2:$S$38,2,0),ranquing!A348,\"\")),\"\",IF(ranquing!G348=VLOOKUP(INSCRIPCIÓ!$D$30,$R$2:$S$38,2,0),ranquing!A348,\"\"))","v":""}]
[null,null,null,null,null,null,null,null,null,null,null,null,null,null,null,null,null,null,null,347,{"$f":"IF(V348=\"\",\"\",MAX(U$1:U347)+1)","v":""},{"$f":"IF(ISERROR(IF(ranquing!G349=VLOOKUP(INSCRIPCIÓ!$D$30,$R$2:$S$38,2,0),ranquing!A349,\"\")),\"\",IF(ranquing!G349=VLOOKUP(INSCRIPCIÓ!$D$30,$R$2:$S$38,2,0),ranquing!A349,\"\"))","v":""}]
[null,null,null,null,null,null,null,null,null,null,null,null,null,null,null,null,null,null,null,348,{"$f":"IF(V349=\"\",\"\",MAX(U$1:U348)+1)","v":""},{"$f":"IF(ISERROR(IF(ranquing!G350=VLOOKUP(INSCRIPCIÓ!$D$30,$R$2:$S$38,2,0),ranquing!A350,\"\")),\"\",IF(ranquing!G350=VLOOKUP(INSCRIPCIÓ!$D$30,$R$2:$S$38,2,0),ranquing!A350,\"\"))","v":""}]
[null,null,null,null,null,null,null,null,null,null,null,null,null,null,null,null,null,null,null,349,{"$f":"IF(V350=\"\",\"\",MAX(U$1:U349)+1)","v":""},{"$f":"IF(ISERROR(IF(ranquing!G351=VLOOKUP(INSCRIPCIÓ!$D$30,$R$2:$S$38,2,0),ranquing!A351,\"\")),\"\",IF(ranquing!G351=VLOOKUP(INSCRIPCIÓ!$D$30,$R$2:$S$38,2,0),ranquing!A351,\"\"))","v":""}]
[null,null,null,null,null,null,null,null,null,null,null,null,null,null,null,null,null,null,null,350,{"$f":"IF(V351=\"\",\"\",MAX(U$1:U350)+1)","v":""},{"$f":"IF(ISERROR(IF(ranquing!G352=VLOOKUP(INSCRIPCIÓ!$D$30,$R$2:$S$38,2,0),ranquing!A352,\"\")),\"\",IF(ranquing!G352=VLOOKUP(INSCRIPCIÓ!$D$30,$R$2:$S$38,2,0),ranquing!A352,\"\"))","v":""}]
[null,null,null,null,null,null,null,null,null,null,null,null,null,null,null,null,null,null,null,351,{"$f":"IF(V352=\"\",\"\",MAX(U$1:U351)+1)","v":""},{"$f":"IF(ISERROR(IF(ranquing!G353=VLOOKUP(INSCRIPCIÓ!$D$30,$R$2:$S$38,2,0),ranquing!A353,\"\")),\"\",IF(ranquing!G353=VLOOKUP(INSCRIPCIÓ!$D$30,$R$2:$S$38,2,0),ranquing!A353,\"\"))","v":""}]
[null,null,null,null,null,null,null,null,null,null,null,null,null,null,null,null,null,null,null,352,{"$f":"IF(V353=\"\",\"\",MAX(U$1:U352)+1)","v":""},{"$f":"IF(ISERROR(IF(ranquing!G354=VLOOKUP(INSCRIPCIÓ!$D$30,$R$2:$S$38,2,0),ranquing!A354,\"\")),\"\",IF(ranquing!G354=VLOOKUP(INSCRIPCIÓ!$D$30,$R$2:$S$38,2,0),ranquing!A354,\"\"))","v":""}]
[null,null,null,null,null,null,null,null,null,null,null,null,null,null,null,null,null,null,null,353,{"$f":"IF(V354=\"\",\"\",MAX(U$1:U353)+1)","v":""},{"$f":"IF(ISERROR(IF(ranquing!G355=VLOOKUP(INSCRIPCIÓ!$D$30,$R$2:$S$38,2,0),ranquing!A355,\"\")),\"\",IF(ranquing!G355=VLOOKUP(INSCRIPCIÓ!$D$30,$R$2:$S$38,2,0),ranquing!A355,\"\"))","v":""}]
[null,null,null,null,null,null,null,null,null,null,null,null,null,null,null,null,null,null,null,354,{"$f":"IF(V355=\"\",\"\",MAX(U$1:U354)+1)","v":""},{"$f":"IF(ISERROR(IF(ranquing!G356=VLOOKUP(INSCRIPCIÓ!$D$30,$R$2:$S$38,2,0),ranquing!A356,\"\")),\"\",IF(ranquing!G356=VLOOKUP(INSCRIPCIÓ!$D$30,$R$2:$S$38,2,0),ranquing!A356,\"\"))","v":""}]
[null,null,null,null,null,null,null,null,null,null,null,null,null,null,null,null,null,null,null,355,{"$f":"IF(V356=\"\",\"\",MAX(U$1:U355)+1)","v":""},{"$f":"IF(ISERROR(IF(ranquing!G357=VLOOKUP(INSCRIPCIÓ!$D$30,$R$2:$S$38,2,0),ranquing!A357,\"\")),\"\",IF(ranquing!G357=VLOOKUP(INSCRIPCIÓ!$D$30,$R$2:$S$38,2,0),ranquing!A357,\"\"))","v":""}]
[null,null,null,null,null,null,null,null,null,null,null,null,null,null,null,null,null,null,null,356,{"$f":"IF(V357=\"\",\"\",MAX(U$1:U356)+1)","v":""},{"$f":"IF(ISERROR(IF(ranquing!G358=VLOOKUP(INSCRIPCIÓ!$D$30,$R$2:$S$38,2,0),ranquing!A358,\"\")),\"\",IF(ranquing!G358=VLOOKUP(INSCRIPCIÓ!$D$30,$R$2:$S$38,2,0),ranquing!A358,\"\"))","v":""}]
[null,null,null,null,null,null,null,null,null,null,null,null,null,null,null,null,null,null,null,357,{"$f":"IF(V358=\"\",\"\",MAX(U$1:U357)+1)","v":""},{"$f":"IF(ISERROR(IF(ranquing!G359=VLOOKUP(INSCRIPCIÓ!$D$30,$R$2:$S$38,2,0),ranquing!A359,\"\")),\"\",IF(ranquing!G359=VLOOKUP(INSCRIPCIÓ!$D$30,$R$2:$S$38,2,0),ranquing!A359,\"\"))","v":""}]
[null,null,null,null,null,null,null,null,null,null,null,null,null,null,null,null,null,null,null,358,{"$f":"IF(V359=\"\",\"\",MAX(U$1:U358)+1)","v":""},{"$f":"IF(ISERROR(IF(ranquing!G360=VLOOKUP(INSCRIPCIÓ!$D$30,$R$2:$S$38,2,0),ranquing!A360,\"\")),\"\",IF(ranquing!G360=VLOOKUP(INSCRIPCIÓ!$D$30,$R$2:$S$38,2,0),ranquing!A360,\"\"))","v":""}]
[null,null,null,null,null,null,null,null,null,null,null,null,null,null,null,null,null,null,null,359,{"$f":"IF(V360=\"\",\"\",MAX(U$1:U359)+1)","v":""},{"$f":"IF(ISERROR(IF(ranquing!G361=VLOOKUP(INSCRIPCIÓ!$D$30,$R$2:$S$38,2,0),ranquing!A361,\"\")),\"\",IF(ranquing!G361=VLOOKUP(INSCRIPCIÓ!$D$30,$R$2:$S$38,2,0),ranquing!A361,\"\"))","v":""}]
[null,null,null,null,null,null,null,null,null,null,null,null,null,null,null,null,null,null,null,360,{"$f":"IF(V361=\"\",\"\",MAX(U$1:U360)+1)","v":""},{"$f":"IF(ISERROR(IF(ranquing!G362=VLOOKUP(INSCRIPCIÓ!$D$30,$R$2:$S$38,2,0),ranquing!A362,\"\")),\"\",IF(ranquing!G362=VLOOKUP(INSCRIPCIÓ!$D$30,$R$2:$S$38,2,0),ranquing!A362,\"\"))","v":""}]
[null,null,null,null,null,null,null,null,null,null,null,null,null,null,null,null,null,null,null,361,{"$f":"IF(V362=\"\",\"\",MAX(U$1:U361)+1)","v":""},{"$f":"IF(ISERROR(IF(ranquing!G363=VLOOKUP(INSCRIPCIÓ!$D$30,$R$2:$S$38,2,0),ranquing!A363,\"\")),\"\",IF(ranquing!G363=VLOOKUP(INSCRIPCIÓ!$D$30,$R$2:$S$38,2,0),ranquing!A363,\"\"))","v":""}]
[null,null,null,null,null,null,null,null,null,null,null,null,null,null,null,null,null,null,null,362,{"$f":"IF(V363=\"\",\"\",MAX(U$1:U362)+1)","v":""},{"$f":"IF(ISERROR(IF(ranquing!G364=VLOOKUP(INSCRIPCIÓ!$D$30,$R$2:$S$38,2,0),ranquing!A364,\"\")),\"\",IF(ranquing!G364=VLOOKUP(INSCRIPCIÓ!$D$30,$R$2:$S$38,2,0),ranquing!A364,\"\"))","v":""}]
[null,null,null,null,null,null,null,null,null,null,null,null,null,null,null,null,null,null,null,363,{"$f":"IF(V364=\"\",\"\",MAX(U$1:U363)+1)","v":""},{"$f":"IF(ISERROR(IF(ranquing!G365=VLOOKUP(INSCRIPCIÓ!$D$30,$R$2:$S$38,2,0),ranquing!A365,\"\")),\"\",IF(ranquing!G365=VLOOKUP(INSCRIPCIÓ!$D$30,$R$2:$S$38,2,0),ranquing!A365,\"\"))","v":""}]
[null,null,null,null,null,null,null,null,null,null,null,null,null,null,null,null,null,null,null,364,{"$f":"IF(V365=\"\",\"\",MAX(U$1:U364)+1)","v":""},{"$f":"IF(ISERROR(IF(ranquing!G366=VLOOKUP(INSCRIPCIÓ!$D$30,$R$2:$S$38,2,0),ranquing!A366,\"\")),\"\",IF(ranquing!G366=VLOOKUP(INSCRIPCIÓ!$D$30,$R$2:$S$38,2,0),ranquing!A366,\"\"))","v":""}]
[null,null,null,null,null,null,null,null,null,null,null,null,null,null,null,null,null,null,null,365,{"$f":"IF(V366=\"\",\"\",MAX(U$1:U365)+1)","v":""},{"$f":"IF(ISERROR(IF(ranquing!G367=VLOOKUP(INSCRIPCIÓ!$D$30,$R$2:$S$38,2,0),ranquing!A367,\"\")),\"\",IF(ranquing!G367=VLOOKUP(INSCRIPCIÓ!$D$30,$R$2:$S$38,2,0),ranquing!A367,\"\"))","v":""}]
[null,null,null,null,null,null,null,null,null,null,null,null,null,null,null,null,null,null,null,366,{"$f":"IF(V367=\"\",\"\",MAX(U$1:U366)+1)","v":""},{"$f":"IF(ISERROR(IF(ranquing!G368=VLOOKUP(INSCRIPCIÓ!$D$30,$R$2:$S$38,2,0),ranquing!A368,\"\")),\"\",IF(ranquing!G368=VLOOKUP(INSCRIPCIÓ!$D$30,$R$2:$S$38,2,0),ranquing!A368,\"\"))","v":""}]
[null,null,null,null,null,null,null,null,null,null,null,null,null,null,null,null,null,null,null,367,{"$f":"IF(V368=\"\",\"\",MAX(U$1:U367)+1)","v":""},{"$f":"IF(ISERROR(IF(ranquing!G369=VLOOKUP(INSCRIPCIÓ!$D$30,$R$2:$S$38,2,0),ranquing!A369,\"\")),\"\",IF(ranquing!G369=VLOOKUP(INSCRIPCIÓ!$D$30,$R$2:$S$38,2,0),ranquing!A369,\"\"))","v":""}]
[null,null,null,null,null,null,null,null,null,null,null,null,null,null,null,null,null,null,null,368,{"$f":"IF(V369=\"\",\"\",MAX(U$1:U368)+1)","v":""},{"$f":"IF(ISERROR(IF(ranquing!G370=VLOOKUP(INSCRIPCIÓ!$D$30,$R$2:$S$38,2,0),ranquing!A370,\"\")),\"\",IF(ranquing!G370=VLOOKUP(INSCRIPCIÓ!$D$30,$R$2:$S$38,2,0),ranquing!A370,\"\"))","v":""}]
[null,null,null,null,null,null,null,null,null,null,null,null,null,null,null,null,null,null,null,369,{"$f":"IF(V370=\"\",\"\",MAX(U$1:U369)+1)","v":""},{"$f":"IF(ISERROR(IF(ranquing!G371=VLOOKUP(INSCRIPCIÓ!$D$30,$R$2:$S$38,2,0),ranquing!A371,\"\")),\"\",IF(ranquing!G371=VLOOKUP(INSCRIPCIÓ!$D$30,$R$2:$S$38,2,0),ranquing!A371,\"\"))","v":""}]
[null,null,null,null,null,null,null,null,null,null,null,null,null,null,null,null,null,null,null,370,{"$f":"IF(V371=\"\",\"\",MAX(U$1:U370)+1)","v":""},{"$f":"IF(ISERROR(IF(ranquing!G372=VLOOKUP(INSCRIPCIÓ!$D$30,$R$2:$S$38,2,0),ranquing!A372,\"\")),\"\",IF(ranquing!G372=VLOOKUP(INSCRIPCIÓ!$D$30,$R$2:$S$38,2,0),ranquing!A372,\"\"))","v":""}]
[null,null,null,null,null,null,null,null,null,null,null,null,null,null,null,null,null,null,null,371,{"$f":"IF(V372=\"\",\"\",MAX(U$1:U371)+1)","v":""},{"$f":"IF(ISERROR(IF(ranquing!G373=VLOOKUP(INSCRIPCIÓ!$D$30,$R$2:$S$38,2,0),ranquing!A373,\"\")),\"\",IF(ranquing!G373=VLOOKUP(INSCRIPCIÓ!$D$30,$R$2:$S$38,2,0),ranquing!A373,\"\"))","v":""}]
[null,null,null,null,null,null,null,null,null,null,null,null,null,null,null,null,null,null,null,372,{"$f":"IF(V373=\"\",\"\",MAX(U$1:U372)+1)","v":""},{"$f":"IF(ISERROR(IF(ranquing!G374=VLOOKUP(INSCRIPCIÓ!$D$30,$R$2:$S$38,2,0),ranquing!A374,\"\")),\"\",IF(ranquing!G374=VLOOKUP(INSCRIPCIÓ!$D$30,$R$2:$S$38,2,0),ranquing!A374,\"\"))","v":""}]
[null,null,null,null,null,null,null,null,null,null,null,null,null,null,null,null,null,null,null,373,{"$f":"IF(V374=\"\",\"\",MAX(U$1:U373)+1)","v":""},{"$f":"IF(ISERROR(IF(ranquing!G375=VLOOKUP(INSCRIPCIÓ!$D$30,$R$2:$S$38,2,0),ranquing!A375,\"\")),\"\",IF(ranquing!G375=VLOOKUP(INSCRIPCIÓ!$D$30,$R$2:$S$38,2,0),ranquing!A375,\"\"))","v":""}]
[null,null,null,null,null,null,null,null,null,null,null,null,null,null,null,null,null,null,null,374,{"$f":"IF(V375=\"\",\"\",MAX(U$1:U374)+1)","v":""},{"$f":"IF(ISERROR(IF(ranquing!G376=VLOOKUP(INSCRIPCIÓ!$D$30,$R$2:$S$38,2,0),ranquing!A376,\"\")),\"\",IF(ranquing!G376=VLOOKUP(INSCRIPCIÓ!$D$30,$R$2:$S$38,2,0),ranquing!A376,\"\"))","v":""}]
[null,null,null,null,null,null,null,null,null,null,null,null,null,null,null,null,null,null,null,375,{"$f":"IF(V376=\"\",\"\",MAX(U$1:U375)+1)","v":""},{"$f":"IF(ISERROR(IF(ranquing!G377=VLOOKUP(INSCRIPCIÓ!$D$30,$R$2:$S$38,2,0),ranquing!A377,\"\")),\"\",IF(ranquing!G377=VLOOKUP(INSCRIPCIÓ!$D$30,$R$2:$S$38,2,0),ranquing!A377,\"\"))","v":""}]
[null,null,null,null,null,null,null,null,null,null,null,null,null,null,null,null,null,null,null,376,{"$f":"IF(V377=\"\",\"\",MAX(U$1:U376)+1)","v":""},{"$f":"IF(ISERROR(IF(ranquing!G378=VLOOKUP(INSCRIPCIÓ!$D$30,$R$2:$S$38,2,0),ranquing!A378,\"\")),\"\",IF(ranquing!G378=VLOOKUP(INSCRIPCIÓ!$D$30,$R$2:$S$38,2,0),ranquing!A378,\"\"))","v":""}]
[null,null,null,null,null,null,null,null,null,null,null,null,null,null,null,null,null,null,null,377,{"$f":"IF(V378=\"\",\"\",MAX(U$1:U377)+1)","v":""},{"$f":"IF(ISERROR(IF(ranquing!G379=VLOOKUP(INSCRIPCIÓ!$D$30,$R$2:$S$38,2,0),ranquing!A379,\"\")),\"\",IF(ranquing!G379=VLOOKUP(INSCRIPCIÓ!$D$30,$R$2:$S$38,2,0),ranquing!A379,\"\"))","v":""}]
[null,null,null,null,null,null,null,null,null,null,null,null,null,null,null,null,null,null,null,378,{"$f":"IF(V379=\"\",\"\",MAX(U$1:U378)+1)","v":""},{"$f":"IF(ISERROR(IF(ranquing!G380=VLOOKUP(INSCRIPCIÓ!$D$30,$R$2:$S$38,2,0),ranquing!A380,\"\")),\"\",IF(ranquing!G380=VLOOKUP(INSCRIPCIÓ!$D$30,$R$2:$S$38,2,0),ranquing!A380,\"\"))","v":""}]
[null,null,null,null,null,null,null,null,null,null,null,null,null,null,null,null,null,null,null,379,{"$f":"IF(V380=\"\",\"\",MAX(U$1:U379)+1)","v":""},{"$f":"IF(ISERROR(IF(ranquing!G381=VLOOKUP(INSCRIPCIÓ!$D$30,$R$2:$S$38,2,0),ranquing!A381,\"\")),\"\",IF(ranquing!G381=VLOOKUP(INSCRIPCIÓ!$D$30,$R$2:$S$38,2,0),ranquing!A381,\"\"))","v":""}]
[null,null,null,null,null,null,null,null,null,null,null,null,null,null,null,null,null,null,null,380,{"$f":"IF(V381=\"\",\"\",MAX(U$1:U380)+1)","v":""},{"$f":"IF(ISERROR(IF(ranquing!G382=VLOOKUP(INSCRIPCIÓ!$D$30,$R$2:$S$38,2,0),ranquing!A382,\"\")),\"\",IF(ranquing!G382=VLOOKUP(INSCRIPCIÓ!$D$30,$R$2:$S$38,2,0),ranquing!A382,\"\"))","v":""}]
[null,null,null,null,null,null,null,null,null,null,null,null,null,null,null,null,null,null,null,381,{"$f":"IF(V382=\"\",\"\",MAX(U$1:U381)+1)","v":""},{"$f":"IF(ISERROR(IF(ranquing!G383=VLOOKUP(INSCRIPCIÓ!$D$30,$R$2:$S$38,2,0),ranquing!A383,\"\")),\"\",IF(ranquing!G383=VLOOKUP(INSCRIPCIÓ!$D$30,$R$2:$S$38,2,0),ranquing!A383,\"\"))","v":""}]
[null,null,null,null,null,null,null,null,null,null,null,null,null,null,null,null,null,null,null,382,{"$f":"IF(V383=\"\",\"\",MAX(U$1:U382)+1)","v":""},{"$f":"IF(ISERROR(IF(ranquing!G384=VLOOKUP(INSCRIPCIÓ!$D$30,$R$2:$S$38,2,0),ranquing!A384,\"\")),\"\",IF(ranquing!G384=VLOOKUP(INSCRIPCIÓ!$D$30,$R$2:$S$38,2,0),ranquing!A384,\"\"))","v":""}]
[null,null,null,null,null,null,null,null,null,null,null,null,null,null,null,null,null,null,null,383,{"$f":"IF(V384=\"\",\"\",MAX(U$1:U383)+1)","v":""},{"$f":"IF(ISERROR(IF(ranquing!G385=VLOOKUP(INSCRIPCIÓ!$D$30,$R$2:$S$38,2,0),ranquing!A385,\"\")),\"\",IF(ranquing!G385=VLOOKUP(INSCRIPCIÓ!$D$30,$R$2:$S$38,2,0),ranquing!A385,\"\"))","v":""}]
[null,null,null,null,null,null,null,null,null,null,null,null,null,null,null,null,null,null,null,384,{"$f":"IF(V385=\"\",\"\",MAX(U$1:U384)+1)","v":""},{"$f":"IF(ISERROR(IF(ranquing!G386=VLOOKUP(INSCRIPCIÓ!$D$30,$R$2:$S$38,2,0),ranquing!A386,\"\")),\"\",IF(ranquing!G386=VLOOKUP(INSCRIPCIÓ!$D$30,$R$2:$S$38,2,0),ranquing!A386,\"\"))","v":""}]
[null,null,null,null,null,null,null,null,null,null,null,null,null,null,null,null,null,null,null,385,{"$f":"IF(V386=\"\",\"\",MAX(U$1:U385)+1)","v":""},{"$f":"IF(ISERROR(IF(ranquing!G387=VLOOKUP(INSCRIPCIÓ!$D$30,$R$2:$S$38,2,0),ranquing!A387,\"\")),\"\",IF(ranquing!G387=VLOOKUP(INSCRIPCIÓ!$D$30,$R$2:$S$38,2,0),ranquing!A387,\"\"))","v":""}]
[null,null,null,null,null,null,null,null,null,null,null,null,null,null,null,null,null,null,null,{"$f":"T386+1","v":386},{"$f":"IF(V387=\"\",\"\",MAX(U$1:U386)+1)","v":""},{"$f":"IF(ISERROR(IF(ranquing!G388=VLOOKUP(INSCRIPCIÓ!$D$30,$R$2:$S$38,2,0),ranquing!A388,\"\")),\"\",IF(ranquing!G388=VLOOKUP(INSCRIPCIÓ!$D$30,$R$2:$S$38,2,0),ranquing!A388,\"\"))","v":""}]
[null,null,null,null,null,null,null,null,null,null,null,null,null,null,null,null,null,null,null,387,{"$f":"IF(V388=\"\",\"\",MAX(U$1:U387)+1)","v":""},{"$f":"IF(ISERROR(IF(ranquing!G389=VLOOKUP(INSCRIPCIÓ!$D$30,$R$2:$S$38,2,0),ranquing!A389,\"\")),\"\",IF(ranquing!G389=VLOOKUP(INSCRIPCIÓ!$D$30,$R$2:$S$38,2,0),ranquing!A389,\"\"))","v":""}]
[null,null,null,null,null,null,null,null,null,null,null,null,null,null,null,null,null,null,null,388,{"$f":"IF(V389=\"\",\"\",MAX(U$1:U388)+1)","v":""},{"$f":"IF(ISERROR(IF(ranquing!G390=VLOOKUP(INSCRIPCIÓ!$D$30,$R$2:$S$38,2,0),ranquing!A390,\"\")),\"\",IF(ranquing!G390=VLOOKUP(INSCRIPCIÓ!$D$30,$R$2:$S$38,2,0),ranquing!A390,\"\"))","v":""}]
[null,null,null,null,null,null,null,null,null,null,null,null,null,null,null,null,null,null,null,389,{"$f":"IF(V390=\"\",\"\",MAX(U$1:U389)+1)","v":""},{"$f":"IF(ISERROR(IF(ranquing!G391=VLOOKUP(INSCRIPCIÓ!$D$30,$R$2:$S$38,2,0),ranquing!A391,\"\")),\"\",IF(ranquing!G391=VLOOKUP(INSCRIPCIÓ!$D$30,$R$2:$S$38,2,0),ranquing!A391,\"\"))","v":""}]
[null,null,null,null,null,null,null,null,null,null,null,null,null,null,null,null,null,null,null,390,{"$f":"IF(V391=\"\",\"\",MAX(U$1:U390)+1)","v":""},{"$f":"IF(ISERROR(IF(ranquing!G392=VLOOKUP(INSCRIPCIÓ!$D$30,$R$2:$S$38,2,0),ranquing!A392,\"\")),\"\",IF(ranquing!G392=VLOOKUP(INSCRIPCIÓ!$D$30,$R$2:$S$38,2,0),ranquing!A392,\"\"))","v":""}]
[null,null,null,null,null,null,null,null,null,null,null,null,null,null,null,null,null,null,null,391,{"$f":"IF(V392=\"\",\"\",MAX(U$1:U391)+1)","v":""},{"$f":"IF(ISERROR(IF(ranquing!G393=VLOOKUP(INSCRIPCIÓ!$D$30,$R$2:$S$38,2,0),ranquing!A393,\"\")),\"\",IF(ranquing!G393=VLOOKUP(INSCRIPCIÓ!$D$30,$R$2:$S$38,2,0),ranquing!A393,\"\"))","v":""}]
[null,null,null,null,null,null,null,null,null,null,null,null,null,null,null,null,null,null,null,392,{"$f":"IF(V393=\"\",\"\",MAX(U$1:U392)+1)","v":""},{"$f":"IF(ISERROR(IF(ranquing!G394=VLOOKUP(INSCRIPCIÓ!$D$30,$R$2:$S$38,2,0),ranquing!A394,\"\")),\"\",IF(ranquing!G394=VLOOKUP(INSCRIPCIÓ!$D$30,$R$2:$S$38,2,0),ranquing!A394,\"\"))","v":""}]
[null,null,null,null,null,null,null,null,null,null,null,null,null,null,null,null,null,null,null,393,{"$f":"IF(V394=\"\",\"\",MAX(U$1:U393)+1)","v":""},{"$f":"IF(ISERROR(IF(ranquing!G395=VLOOKUP(INSCRIPCIÓ!$D$30,$R$2:$S$38,2,0),ranquing!A395,\"\")),\"\",IF(ranquing!G395=VLOOKUP(INSCRIPCIÓ!$D$30,$R$2:$S$38,2,0),ranquing!A395,\"\"))","v":""}]
[null,null,null,null,null,null,null,null,null,null,null,null,null,null,null,null,null,null,null,394,{"$f":"IF(V395=\"\",\"\",MAX(U$1:U394)+1)","v":""},{"$f":"IF(ISERROR(IF(ranquing!G396=VLOOKUP(INSCRIPCIÓ!$D$30,$R$2:$S$38,2,0),ranquing!A396,\"\")),\"\",IF(ranquing!G396=VLOOKUP(INSCRIPCIÓ!$D$30,$R$2:$S$38,2,0),ranquing!A396,\"\"))","v":""}]
[null,null,null,null,null,null,null,null,null,null,null,null,null,null,null,null,null,null,null,395,{"$f":"IF(V396=\"\",\"\",MAX(U$1:U395)+1)","v":""},{"$f":"IF(ISERROR(IF(ranquing!G397=VLOOKUP(INSCRIPCIÓ!$D$30,$R$2:$S$38,2,0),ranquing!A397,\"\")),\"\",IF(ranquing!G397=VLOOKUP(INSCRIPCIÓ!$D$30,$R$2:$S$38,2,0),ranquing!A397,\"\"))","v":""}]
[null,null,null,null,null,null,null,null,null,null,null,null,null,null,null,null,null,null,null,396,{"$f":"IF(V397=\"\",\"\",MAX(U$1:U396)+1)","v":""},{"$f":"IF(ISERROR(IF(ranquing!G398=VLOOKUP(INSCRIPCIÓ!$D$30,$R$2:$S$38,2,0),ranquing!A398,\"\")),\"\",IF(ranquing!G398=VLOOKUP(INSCRIPCIÓ!$D$30,$R$2:$S$38,2,0),ranquing!A398,\"\"))","v":""}]
[null,null,null,null,null,null,null,null,null,null,null,null,null,null,null,null,null,null,null,397,{"$f":"IF(V398=\"\",\"\",MAX(U$1:U397)+1)","v":""},{"$f":"IF(ISERROR(IF(ranquing!G399=VLOOKUP(INSCRIPCIÓ!$D$30,$R$2:$S$38,2,0),ranquing!A399,\"\")),\"\",IF(ranquing!G399=VLOOKUP(INSCRIPCIÓ!$D$30,$R$2:$S$38,2,0),ranquing!A399,\"\"))","v":""}]
[null,null,null,null,null,null,null,null,null,null,null,null,null,null,null,null,null,null,null,398,{"$f":"IF(V399=\"\",\"\",MAX(U$1:U398)+1)","v":""},{"$f":"IF(ISERROR(IF(ranquing!G400=VLOOKUP(INSCRIPCIÓ!$D$30,$R$2:$S$38,2,0),ranquing!A400,\"\")),\"\",IF(ranquing!G400=VLOOKUP(INSCRIPCIÓ!$D$30,$R$2:$S$38,2,0),ranquing!A400,\"\"))","v":""}]
[null,null,null,null,null,null,null,null,null,null,null,null,null,null,null,null,null,null,null,399,{"$f":"IF(V400=\"\",\"\",MAX(U$1:U399)+1)","v":""},{"$f":"IF(ISERROR(IF(ranquing!G401=VLOOKUP(INSCRIPCIÓ!$D$30,$R$2:$S$38,2,0),ranquing!A401,\"\")),\"\",IF(ranquing!G401=VLOOKUP(INSCRIPCIÓ!$D$30,$R$2:$S$38,2,0),ranquing!A401,\"\"))","v":""}]
[null,null,null,null,null,null,null,null,null,null,null,null,null,null,null,null,null,null,null,400,{"$f":"IF(V401=\"\",\"\",MAX(U$1:U400)+1)","v":""},{"$f":"IF(ISERROR(IF(ranquing!G402=VLOOKUP(INSCRIPCIÓ!$D$30,$R$2:$S$38,2,0),ranquing!A402,\"\")),\"\",IF(ranquing!G402=VLOOKUP(INSCRIPCIÓ!$D$30,$R$2:$S$38,2,0),ranquing!A402,\"\"))","v":""}]
[null,null,null,null,null,null,null,null,null,null,null,null,null,null,null,null,null,null,null,401,{"$f":"IF(V402=\"\",\"\",MAX(U$1:U401)+1)","v":""},{"$f":"IF(ISERROR(IF(ranquing!G403=VLOOKUP(INSCRIPCIÓ!$D$30,$R$2:$S$38,2,0),ranquing!A403,\"\")),\"\",IF(ranquing!G403=VLOOKUP(INSCRIPCIÓ!$D$30,$R$2:$S$38,2,0),ranquing!A403,\"\"))","v":""}]

{"sheet":"ranquing","index":2,"n_rows":403,"n_cols":38,"rows_kept":403,"cut":false,"hidden":false,"merged":[]}
[null,null,null,null,null,null,null,null,null,4,3,2,1,4,2,2,1,0,null,null,null,null,null,"J1","J2","J3","J4","J5","J6","J7",null,"J1","J2","J3","J4","J5","J6","J7"]
["nº",null,"Jugador","Cat","Cat I","Cat D","Club",null,"RK 1617","JUV","INF","ALE","BEN","FEM","ALE F","D Abs","D Ale","D Fem","Pot jugar?","Jornades inscrit","BC","BN","BD","Nivell","Nivell","Nivell","Nivell","Nivell","Nivell","Nivell","On queda","Obs","Obs","Obs","Obs","Obs","Obs","Obs"]
[4424,"M","MARTORELL Neil","INF-2",{"$f":"IF(LEFT(D3,1)=\"P\",1,IF(LEFT(D3,1)=\"B\",1,IF(LEFT(D3,1)=\"A\",2,IF(LEFT(D3,1)=\"I\",3,4))))","v":3},{"$f":"IF(B3=\"F\",0,IF(LEFT(D3,1)=\"P\",1,IF(LEFT(D3,1)=\"B\",1,IF(LEFT(D3,1)=\"A\",1,IF(LEFT(D3,1)=\"I\",2,2)))))","v":2},"LLUÏSOS","LLUÏSOS",9820.17,{"$f":"IF($S3<>\"\",\"\",IF(AND($E3<=J$1,$B3=\"M\"),MAX(J$2:J2)+1,\"\"))","v":1},{"$f":"IF($S3<>\"\",\"\",IF(AND($E3<=K$1,$B3=\"M\"),MAX(K$2:K2)+1,\"\"))","v":1},{"$f":"IF($S3<>\"\",\"\",IF(AND($E3<=L$1,$B3=\"M\"),MAX(L$2:L2)+1,\"\"))","v":""},{"$f":"IF($S3<>\"\",\"\",IF(AND($E3<=M$1,$B3=\"M\"),MAX(M$2:M2)+1,\"\"))","v":""},{"$f":"IF($S3<>\"\",\"\",IF(AND($E3<=N$1,$B3=\"F\"),MAX(N$2:N2)+1,\"\"))","v":""},{"$f":"IF($S3<>\"\",\"\",IF(AND($E3<=O$1,$B3=\"F\"),MAX(O$2:O2)+1,\"\"))","v":""},{"$f":"IF(AND($S3<>\"\",$S3<>\"No pot jugar individual\"),\"\",IF(AND($F3<=P$1,$B3=\"M\"),MAX(P$2:P2)+1,\"\"))","v":1},{"$f":"IF(AND($S3<>\"\",$S3<>\"No pot jugar individual\"),\"\",IF(AND($F3<=Q$1,$B3=\"M\"),MAX(Q$2:Q2)+1,\"\"))","v":""},{"$f":"IF($S3<>\"\",\"\",IF($F3<=R$1,MAX(R$2:R2)+1,\"\"))","v":""},{"$f":"IF(1=1,\"\",IF(W3<>0,\"No pot jugar\",IF(OR(AE3=\"Y\",AE3=\"Z\",G3=\"INDEPEN\",G3=\"R.ELISENDA\"),\"No pot jugar\",IF(T3-U3-V3-W3=0,IF(V3<>0,\"No pot jugar\",IF(AND(B3=\"M\",OR(G3=\"INDEPEN\",G3=\"R.ELISENDA\")),\"No pot jugar individual\",\"\")),IF(AND(B3=\"M\",OR(G3=\"INDEPEN\",G3=\"R.ELISENDA\")),\"No pot jugar individual\",\"\")))))","v":""},{"$f":"7-COUNTBLANK(X3:AD3)","v":7},{"$f":"COUNTIF($AF3:$AL3,U$2)","v":0},0,0,"A","A","A","A","A","A","A","A"]
[8661,"M","GONZALEZ Daniel","JUV-2",4,2,"CASTELLAR","CASTELLAR",8820.17,{"$f":"IF($S4<>\"\",\"\",IF(AND($E4<=J$1,$B4=\"M\"),MAX(J$2:J3)+1,\"\"))","v":2},{"$f":"IF($S4<>\"\",\"\",IF(AND($E4<=K$1,$B4=\"M\"),MAX(K$2:K3)+1,\"\"))","v":""},{"$f":"IF($S4<>\"\",\"\",IF(AND($E4<=L$1,$B4=\"M\"),MAX(L$2:L3)+1,\"\"))","v":""},{"$f":"IF($S4<>\"\",\"\",IF(AND($E4<=M$1,$B4=\"M\"),MAX(M$2:M3)+1,\"\"))","v":""},{"$f":"IF($S4<>\"\",\"\",IF(AND($E4<=N$1,$B4=\"F\"),MAX(N$2:N3)+1,\"\"))","v":""},{"$f":"IF($S4<>\"\",\"\",IF(AND($E4<=O$1,$B4=\"F\"),MAX(O$2:O3)+1,\"\"))","v":""},{"$f":"IF(AND($S4<>\"\",$S4<>\"No pot jugar individual\"),\"\",IF(AND($F4<=P$1,$B4=\"M\"),MAX(P$2:P3)+1,\"\"))","v":2},{"$f":"IF(AND($S4<>\"\",$S4<>\"No pot jugar individual\"),\"\",IF(AND($F4<=Q$1,$B4=\"M\"),MAX(Q$2:Q3)+1,\"\"))","v":""},{"$f":"IF($S4<>\"\",\"\",IF($F4<=R$1,MAX(R$2:R3)+1,\"\"))","v":""},"",7,0,0,0,"A","A","A","A","A","A","A","A"]
[5154,"M","MENENDEZ Marius","JUV-1",4,2,"CNSABA","CNSABA",8443,{"$f":"IF($S5<>\"\",\"\",IF(AND($E5<=J$1,$B5=\"M\"),MAX(J$2:J4)+1,\"\"))","v":3},{"$f":"IF($S5<>\"\",\"\",IF(AND($E5<=K$1,$B5=\"M\"),MAX(K$2:K4)+1,\"\"))","v":""},{"$f":"IF($S5<>\"\",\"\",IF(AND($E5<=L$1,$B5=\"M\"),MAX(L$2:L4)+1,\"\"))","v":""},{"$f":"IF($S5<>\"\",\"\",IF(AND($E5<=M$1,$B5=\"M\"),MAX(M$2:M4)+1,\"\"))","v":""},{"$f":"IF($S5<>\"\",\"\",IF(AND($E5<=N$1,$B5=\"F\"),MAX(N$2:N4)+1,\"\"))","v":""},{"$f":"IF($S5<>\"\",\"\",IF(AND($E5<=O$1,$B5=\"F\"),MAX(O$2:O4)+1,\"\"))","v":""},{"$f":"IF(AND($S5<>\"\",$S5<>\"No pot jugar individual\"),\"\",IF(AND($F5<=P$1,$B5=\"M\"),MAX(P$2:P4)+1,\"\"))","v":3},{"$f":"IF(AND($S5<>\"\",$S5<>\"No pot jugar individual\"),\"\",IF(AND($F5<=Q$1,$B5=\"M\"),MAX(Q$2:Q4)+1,\"\"))","v":""},{"$f":"IF($S5<>\"\",\"\",IF($F5<=R$1,MAX(R$2:R4)+1,\"\"))","v":""},"",7,1,0,0,"A","A","A","B","A","A","A","A",null,null,"BC"]
[6576,"M","NAVIO Biel","INF-2",3,2,"VIC","VIC",8320.17,{"$f":"IF($S6<>\"\",\"\",IF(AND($E6<=J$1,$B6=\"M\"),MAX(J$2:J5)+1,\"\"))","v":4},{"$f":"IF($S6<>\"\",\"\",IF(AND($E6<=K$1,$B6=\"M\"),MAX(K$2:K5)+1,\"\"))","v":2},{"$f":"IF($S6<>\"\",\"\",IF(AND($E6<=L$1,$B6=\"M\"),MAX(L$2:L5)+1,\"\"))","v":""},{"$f":"IF($S6<>\"\",\"\",IF(AND($E6<=M$1,$B6=\"M\"),MAX(M$2:M5)+1,\"\"))","v":""},{"$f":"IF($S6<>\"\",\"\",IF(AND($E6<=N$1,$B6=\"F\"),MAX(N$2:N5)+1,\"\"))","v":""},{"$f":"IF($S6<>\"\",\"\",IF(AND($E6<=O$1,$B6=\"F\"),MAX(O$2:O5)+1,\"\"))","v":""},{"$f":"IF(AND($S6<>\"\",$S6<>\"No pot jugar individual\"),\"\",IF(AND($F6<=P$1,$B6=\"M\"),MAX(P$2:P5)+1,\"\"))","v":4},{"$f":"IF(AND($S6<>\"\",$S6<>\"No pot jugar individual\"),\"\",IF(AND($F6<=Q$1,$B6=\"M\"),MAX(Q$2:Q5)+1,\"\"))","v":""},{"$f":"IF($S6<>\"\",\"\",IF($F6<=R$1,MAX(R$2:R5)+1,\"\"))","v":""},"",7,0,0,0,"A","A","A","A","A","A","A","A"]
[8557,"M","CALVILLO Izan","JUV-1",4,2,"MATARO","MATARO",7703.5,{"$f":"IF($S7<>\"\",\"\",IF(AND($E7<=J$1,$B7=\"M\"),MAX(J$2:J6)+1,\"\"))","v":5},{"$f":"IF($S7<>\"\",\"\",IF(AND($E7<=K$1,$B7=\"M\"),MAX(K$2:K6)+1,\"\"))","v":""},{"$f":"IF($S7<>\"\",\"\",IF(AND($E7<=L$1,$B7=\"M\"),MAX(L$2:L6)+1,\"\"))","v":""},{"$f":"IF($S7<>\"\",\"\",IF(AND($E7<=M$1,$B7=\"M\"),MAX(M$2:M6)+1,\"\"))","v":""},{"$f":"IF($S7<>\"\",\"\",IF(AND($E7<=N$1,$B7=\"F\"),MAX(N$2:N6)+1,\"\"))","v":""},{"$f":"IF($S7<>\"\",\"\",IF(AND($E7<=O$1,$B7=\"F\"),MAX(O$2:O6)+1,\"\"))","v":""},{"$f":"IF(AND($S7<>\"\",$S7<>\"No pot jugar individual\"),\"\",IF(AND($F7<=P$1,$B7=\"M\"),MAX(P$2:P6)+1,\"\"))","v":5},{"$f":"IF(AND($S7<>\"\",$S7<>\"No pot jugar individual\"),\"\",IF(AND($F7<=Q$1,$B7=\"M\"),MAX(Q$2:Q6)+1,\"\"))","v":""},{"$f":"IF($S7<>\"\",\"\",IF($F7<=R$1,MAX(R$2:R6)+1,\"\"))","v":""},"",7,0,0,0,"A","A","A","A","A","A","A","A"]
[8597,"M","FERRUZ Marc","INF-2",3,2,"CNSABA","CNSABA",7603,{"$f":"IF($S8<>\"\",\"\",IF(AND($E8<=J$1,$B8=\"M\"),MAX(J$2:J7)+1,\"\"))","v":6},{"$f":"IF($S8<>\"\",\"\",IF(AND($E8<=K$1,$B8=\"M\"),MAX(K$2:K7)+1,\"\"))","v":3},{"$f":"IF($S8<>\"\",\"\",IF(AND($E8<=L$1,$B8=\"M\"),MAX(L$2:L7)+1,\"\"))","v":""},{"$f":"IF($S8<>\"\",\"\",IF(AND($E8<=M$1,$B8=\"M\"),MAX(M$2:M7)+1,\"\"))","v":""},{"$f":"IF($S8<>\"\",\"\",IF(AND($E8<=N$1,$B8=\"F\"),MAX(N$2:N7)+1,\"\"))","v":""},{"$f":"IF($S8<>\"\",\"\",IF(AND($E8<=O$1,$B8=\"F\"),MAX(O$2:O7)+1,\"\"))","v":""},{"$f":"IF(AND($S8<>\"\",$S8<>\"No pot jugar individual\"),\"\",IF(AND($F8<=P$1,$B8=\"M\"),MAX(P$2:P7)+1,\"\"))","v":6},{"$f":"IF(AND($S8<>\"\",$S8<>\"No pot jugar individual\"),\"\",IF(AND($F8<=Q$1,$B8=\"M\"),MAX(Q$2:Q7)+1,\"\"))","v":""},{"$f":"IF($S8<>\"\",\"\",IF($F8<=R$1,MAX(R$2:R7)+1,\"\"))","v":""},"",7,0,0,0,"A","A","A","A","A","A","A","A",null,null,null,"BJ"]
[8593,"M","GIMENO Biel","INF-1",3,2,"VIC","VIC",7303.5,{"$f":"IF($S9<>\"\",\"\",IF(AND($E9<=J$1,$B9=\"M\"),MAX(J$2:J8)+1,\"\"))","v":7},{"$f":"IF($S9<>\"\",\"\",IF(AND($E9<=K$1,$B9=\"M\"),MAX(K$2:K8)+1,\"\"))","v":4},{"$f":"IF($S9<>\"\",\"\",IF(AND($E9<=L$1,$B9=\"M\"),MAX(L$2:L8)+1,\"\"))","v":""},{"$f":"IF($S9<>\"\",\"\",IF(AND($E9<=M$1,$B9=\"M\"),MAX(M$2:M8)+1,\"\"))","v":""},{"$f":"IF($S9<>\"\",\"\",IF(AND($E9<=N$1,$B9=\"F\"),MAX(N$2:N8)+1,\"\"))","v":""},{"$f":"IF($S9<>\"\",\"\",IF(AND($E9<=O$1,$B9=\"F\"),MAX(O$2:O8)+1,\"\"))","v":""},{"$f":"IF(AND($S9<>\"\",$S9<>\"No pot jugar individual\"),\"\",IF(AND($F9<=P$1,$B9=\"M\"),MAX(P$2:P8)+1,\"\"))","v":7},{"$f":"IF(AND($S9<>\"\",$S9<>\"No pot jugar individual\"),\"\",IF(AND($F9<=Q$1,$B9=\"M\"),MAX(Q$2:Q8)+1,\"\"))","v":""},{"$f":"IF($S9<>\"\",\"\",IF($F9<=R$1,MAX(R$2:R8)+1,\"\"))","v":""},"",7,0,0,0,"A","A","A","A","A","A","A","A"]
[6464,"M","MENINO Pau","JUV-3",4,2,"EUROCLIMA BDN","EUROCLIMA BDN",6555.5,{"$f":"IF($S10<>\"\",\"\",IF(AND($E10<=J$1,$B10=\"M\"),MAX(J$2:J9)+1,\"\"))","v":8},{"$f":"IF($S10<>\"\",\"\",IF(AND($E10<=K$1,$B10=\"M\"),MAX(K$2:K9)+1,\"\"))","v":""},{"$f":"IF($S10<>\"\",\"\",IF(AND($E10<=L$1,$B10=\"M\"),MAX(L$2:L9)+1,\"\"))","v":""},{"$f":"IF($S10<>\"\",\"\",IF(AND($E10<=M$1,$B10=\"M\"),MAX(M$2:M9)+1,\"\"))","v":""},{"$f":"IF($S10<>\"\",\"\",IF(AND($E10<=N$1,$B10=\"F\"),MAX(N$2:N9)+1,\"\"))","v":""},{"$f":"IF($S10<>\"\",\"\",IF(AND($E10<=O$1,$B10=\"F\"),MAX(O$2:O9)+1,\"\"))","v":""},{"$f":"IF(AND($S10<>\"\",$S10<>\"No pot jugar individual\"),\"\",IF(AND($F10<=P$1,$B10=\"M\"),MAX(P$2:P9)+1,\"\"))","v":8},{"$f":"IF(AND($S10<>\"\",$S10<>\"No pot jugar individual\"),\"\",IF(AND($F10<=Q$1,$B10=\"M\"),MAX(Q$2:Q9)+1,\"\"))","v":""},{"$f":"IF($S10<>\"\",\"\",IF($F10<=R$1,MAX(R$2:R9)+1,\"\"))","v":""},"",7,0,0,0,"C","B","A","A","A","A","A","A"]
[7271,"M","GARROTE Biel","INF-2",3,2,"VILANOVA","VILANOVA",6420.17,{"$f":"IF($S11<>\"\",\"\",IF(AND($E11<=J$1,$B11=\"M\"),MAX(J$2:J10)+1,\"\"))","v":9},{"$f":"IF($S11<>\"\",\"\",IF(AND($E11<=K$1,$B11=\"M\"),MAX(K$2:K10)+1,\"\"))","v":5},{"$f":"IF($S11<>\"\",\"\",IF(AND($E11<=L$1,$B11=\"M\"),MAX(L$2:L10)+1,\"\"))","v":""},{"$f":"IF($S11<>\"\",\"\",IF(AND($E11<=M$1,$B11=\"M\"),MAX(M$2:M10)+1,\"\"))","v":""},{"$f":"IF($S11<>\"\",\"\",IF(AND($E11<=N$1,$B11=\"F\"),MAX(N$2:N10)+1,\"\"))","v":""},{"$f":"IF($S11<>\"\",\"\",IF(AND($E11<=O$1,$B11=\"F\"),MAX(O$2:O10)+1,\"\"))","v":""},{"$f":"IF(AND($S11<>\"\",$S11<>\"No pot jugar individual\"),\"\",IF(AND($F11<=P$1,$B11=\"M\"),MAX(P$2:P10)+1,\"\"))","v":9},{"$f":"IF(AND($S11<>\"\",$S11<>\"No pot jugar individual\"),\"\",IF(AND($F11<=Q$1,$B11=\"M\"),MAX(Q$2:Q10)+1,\"\"))","v":""},{"$f":"IF($S11<>\"\",\"\",IF($F11<=R$1,MAX(R$2:R10)+1,\"\"))","v":""},"",7,0,0,0,"A","A","A","A","A","A","A","A"]
[7801,"M","EDO Jordi","JUV-1",4,2,"ICELAND ELS 8","ICELAND ELS 8",6032,{"$f":"IF($S12<>\"\",\"\",IF(AND($E12<=J$1,$B12=\"M\"),MAX(J$2:J11)+1,\"\"))","v":10},{"$f":"IF($S12<>\"\",\"\",IF(AND($E12<=K$1,$B12=\"M\"),MAX(K$2:K11)+1,\"\"))","v":""},{"$f":"IF($S12<>\"\",\"\",IF(AND($E12<=L$1,$B12=\"M\"),MAX(L$2:L11)+1,\"\"))","v":""},{"$f":"IF($S12<>\"\",\"\",IF(AND($E12<=M$1,$B12=\"M\"),MAX(M$2:M11)+1,\"\"))","v":""},{"$f":"IF($S12<>\"\",\"\",IF(AND($E12<=N$1,$B12=\"F\"),MAX(N$2:N11)+1,\"\"))","v":""},{"$f":"IF($S12<>\"\",\"\",IF(AND($E12<=O$1,$B12=\"F\"),MAX(O$2:O11)+1,\"\"))","v":""},{"$f":"IF(AND($S12<>\"\",$S12<>\"No pot jugar individual\"),\"\",IF(AND($F12<=P$1,$B12=\"M\"),MAX(P$2:P11)+1,\"\"))","v":10},{"$f":"IF(AND($S12<>\"\",$S12<>\"No pot jugar individual\"),\"\",IF(AND($F12<=Q$1,$B12=\"M\"),MAX(Q$2:Q11)+1,\"\"))","v":""},{"$f":"IF($S12<>\"\",\"\",IF($F12<=R$1,MAX(R$2:R11)+1,\"\"))","v":""},"",7,1,1,0,"A","B","A","A","A","A","B","C","BJ",null,null,null,null,"BC","BN"]
[7438,"M","NOVELL Ferran","JUV-3",4,2,"EUROCLIMA BDN","EUROCLIMA BDN",5606.33,{"$f":"IF($S13<>\"\",\"\",IF(AND($E13<=J$1,$B13=\"M\"),MAX(J$2:J12)+1,\"\"))","v":11},{"$f":"IF($S13<>\"\",\"\",IF(AND($E13<=K$1,$B13=\"M\"),MAX(K$2:K12)+1,\"\"))","v":""},{"$f":"IF($S13<>\"\",\"\",IF(AND($E13<=L$1,$B13=\"M\"),MAX(L$2:L12)+1,\"\"))","v":""},{"$f":"IF($S13<>\"\",\"\",IF(AND($E13<=M$1,$B13=\"M\"),MAX(M$2:M12)+1,\"\"))","v":""},{"$f":"IF($S13<>\"\",\"\",IF(AND($E13<=N$1,$B13=\"F\"),MAX(N$2:N12)+1,\"\"))","v":""},{"$f":"IF($S13<>\"\",\"\",IF(AND($E13<=O$1,$B13=\"F\"),MAX(O$2:O12)+1,\"\"))","v":""},{"$f":"IF(AND($S13<>\"\",$S13<>\"No pot jugar individual\"),\"\",IF(AND($F13<=P$1,$B13=\"M\"),MAX(P$2:P12)+1,\"\"))","v":11},{"$f":"IF(AND($S13<>\"\",$S13<>\"No pot jugar individual\"),\"\",IF(AND($F13<=Q$1,$B13=\"M\"),MAX(Q$2:Q12)+1,\"\"))","v":""},{"$f":"IF($S13<>\"\",\"\",IF($F13<=R$1,MAX(R$2:R12)+1,\"\"))","v":""},"",7,0,0,0,"A","B","B","A","A","A","A","A","BJ"]
[8843,"M","COSTA Tomas","JUV-1",4,2,"HOSPIT","HOSPIT",5283.5,{"$f":"IF($S14<>\"\",\"\",IF(AND($E14<=J$1,$B14=\"M\"),MAX(J$2:J13)+1,\"\"))","v":12},{"$f":"IF($S14<>\"\",\"\",IF(AND($E14<=K$1,$B14=\"M\"),MAX(K$2:K13)+1,\"\"))","v":""},{"$f":"IF($S14<>\"\",\"\",IF(AND($E14<=L$1,$B14=\"M\"),MAX(L$2:L13)+1,\"\"))","v":""},{"$f":"IF($S14<>\"\",\"\",IF(AND($E14<=M$1,$B14=\"M\"),MAX(M$2:M13)+1,\"\"))","v":""},{"$f":"IF($S14<>\"\",\"\",IF(AND($E14<=N$1,$B14=\"F\"),MAX(N$2:N13)+1,\"\"))","v":""},{"$f":"IF($S14<>\"\",\"\",IF(AND($E14<=O$1,$B14=\"F\"),MAX(O$2:O13)+1,\"\"))","v":""},{"$f":"IF(AND($S14<>\"\",$S14<>\"No pot jugar individual\"),\"\",IF(AND($F14<=P$1,$B14=\"M\"),MAX(P$2:P13)+1,\"\"))","v":12},{"$f":"IF(AND($S14<>\"\",$S14<>\"No pot jugar individual\"),\"\",IF(AND($F14<=Q$1,$B14=\"M\"),MAX(Q$2:Q13)+1,\"\"))","v":""},{"$f":"IF($S14<>\"\",\"\",IF($F14<=R$1,MAX(R$2:R13)+1,\"\"))","v":""},"",7,0,0,0,"B","A","A","A","A","A","A","A"]
[7503,"M","GUARDIOLA Ferran","INF-2",3,2,"LLUÏSOS","LLUÏSOS",4883,{"$f":"IF($S15<>\"\",\"\",IF(AND($E15<=J$1,$B15=\"M\"),MAX(J$2:J14)+1,\"\"))","v":13},{"$f":"IF($S15<>\"\",\"\",IF(AND($E15<=K$1,$B15=\"M\"),MAX(K$2:K14)+1,\"\"))","v":6},{"$f":"IF($S15<>\"\",\"\",IF(AND($E15<=L$1,$B15=\"M\"),MAX(L$2:L14)+1,\"\"))","v":""},{"$f":"IF($S15<>\"\",\"\",IF(AND($E15<=M$1,$B15=\"M\"),MAX(M$2:M14)+1,\"\"))","v":""},{"$f":"IF($S15<>\"\",\"\",IF(AND($E15<=N$1,$B15=\"F\"),MAX(N$2:N14)+1,\"\"))","v":""},{"$f":"IF($S15<>\"\",\"\",IF(AND($E15<=O$1,$B15=\"F\"),MAX(O$2:O14)+1,\"\"))","v":""},{"$f":"IF(AND($S15<>\"\",$S15<>\"No pot jugar individual\"),\"\",IF(AND($F15<=P$1,$B15=\"M\"),MAX(P$2:P14)+1,\"\"))","v":13},{"$f":"IF(AND($S15<>\"\",$S15<>\"No pot jugar individual\"),\"\",IF(AND($F15<=Q$1,$B15=\"M\"),MAX(Q$2:Q14)+1,\"\"))","v":""},{"$f":"IF($S15<>\"\",\"\",IF($F15<=R$1,MAX(R$2:R14)+1,\"\"))","v":""},"",7,0,0,0,"A","B","A","A","B","B","A","A",null,null,null,"BJ"]
[6952,"M","CARMONA Albert","INF-2",3,2,"VILANOVA","VILANOVA",4786.83,{"$f":"IF($S16<>\"\",\"\",IF(AND($E16<=J$1,$B16=\"M\"),MAX(J$2:J15)+1,\"\"))","v":14},{"$f":"IF($S16<>\"\",\"\",IF(AND($E16<=K$1,$B16=\"M\"),MAX(K$2:K15)+1,\"\"))","v":7},{"$f":"IF($S16<>\"\",\"\",IF(AND($E16<=L$1,$B16=\"M\"),MAX(L$2:L15)+1,\"\"))","v":""},{"$f":"IF($S16<>\"\",\"\",IF(AND($E16<=M$1,$B16=\"M\"),MAX(M$2:M15)+1,\"\"))","v":""},{"$f":"IF($S16<>\"\",\"\",IF(AND($E16<=N$1,$B16=\"F\"),MAX(N$2:N15)+1,\"\"))","v":""},{"$f":"IF($S16<>\"\",\"\",IF(AND($E16<=O$1,$B16=\"F\"),MAX(O$2:O15)+1,\"\"))","v":""},{"$f":"IF(AND($S16<>\"\",$S16<>\"No pot jugar individual\"),\"\",IF(AND($F16<=P$1,$B16=\"M\"),MAX(P$2:P15)+1,\"\"))","v":14},{"$f":"IF(AND($S16<>\"\",$S16<>\"No pot jugar individual\"),\"\",IF(AND($F16<=Q$1,$B16=\"M\"),MAX(Q$2:Q15)+1,\"\"))","v":""},{"$f":"IF($S16<>\"\",\"\",IF($F16<=R$1,MAX(R$2:R15)+1,\"\"))","v":""},"",7,0,0,0,"A","A","B","A","A","A","A","A"]
[8652,"M","KUMAR Aman","INF-1",3,2,"CALELLA","CALELLA",4693.5,{"$f":"IF($S17<>\"\",\"\",IF(AND($E17<=J$1,$B17=\"M\"),MAX(J$2:J16)+1,\"\"))","v":15},{"$f":"IF($S17<>\"\",\"\",IF(AND($E17<=K$1,$B17=\"M\"),MAX(K$2:K16)+1,\"\"))","v":8},{"$f":"IF($S17<>\"\",\"\",IF(AND($E17<=L$1,$B17=\"M\"),MAX(L$2:L16)+1,\"\"))","v":""},{"$f":"IF($S17<>\"\",\"\",IF(AND($E17<=M$1,$B17=\"M\"),MAX(M$2:M16)+1,\"\"))","v":""},{"$f":"IF($S17<>\"\",\"\",IF(AND($E17<=N$1,$B17=\"F\"),MAX(N$2:N16)+1,\"\"))","v":""},{"$f":"IF($S17<>\"\",\"\",IF(AND($E17<=O$1,$B17=\"F\"),MAX(O$2:O16)+1,\"\"))","v":""},{"$f":"IF(AND($S17<>\"\",$S17<>\"No pot jugar individual\"),\"\",IF(AND($F17<=P$1,$B17=\"M\"),MAX(P$2:P16)+1,\"\"))","v":15},{"$f":"IF(AND($S17<>\"\",$S17<>\"No pot jugar individual\"),\"\",IF(AND($F17<=Q$1,$B17=\"M\"),MAX(Q$2:Q16)+1,\"\"))","v":""},{"$f":"IF($S17<>\"\",\"\",IF($F17<=R$1,MAX(R$2:R16)+1,\"\"))","v":""},"",7,0,0,0,"B","A","A","A","A","A","A","A"]
[6826,"M","VENEGAS Edgar","INF-1",3,2,"VIC","VIC",4563.5,{"$f":"IF($S18<>\"\",\"\",IF(AND($E18<=J$1,$B18=\"M\"),MAX(J$2:J17)+1,\"\"))","v":16},{"$f":"IF($S18<>\"\",\"\",IF(AND($E18<=K$1,$B18=\"M\"),MAX(K$2:K17)+1,\"\"))","v":9},{"$f":"IF($S18<>\"\",\"\",IF(AND($E18<=L$1,$B18=\"M\"),MAX(L$2:L17)+1,\"\"))","v":""},{"$f":"IF($S18<>\"\",\"\",IF(AND($E18<=M$1,$B18=\"M\"),MAX(M$2:M17)+1,\"\"))","v":""},{"$f":"IF($S18<>\"\",\"\",IF(AND($E18<=N$1,$B18=\"F\"),MAX(N$2:N17)+1,\"\"))","v":""},{"$f":"IF($S18<>\"\",\"\",IF(AND($E18<=O$1,$B18=\"F\"),MAX(O$2:O17)+1,\"\"))","v":""},{"$f":"IF(AND($S18<>\"\",$S18<>\"No pot jugar individual\"),\"\",IF(AND($F18<=P$1,$B18=\"M\"),MAX(P$2:P17)+1,\"\"))","v":16},{"$f":"IF(AND($S18<>\"\",$S18<>\"No pot jugar individual\"),\"\",IF(AND($F18<=Q$1,$B18=\"M\"),MAX(Q$2:Q17)+1,\"\"))","v":""},{"$f":"IF($S18<>\"\",\"\",IF($F18<=R$1,MAX(R$2:R17)+1,\"\"))","v":""},"",7,0,0,0,"B","B","A","B","B","A","A","A"]
[6340,"F","CABANAS Elisabeth","INF-2",3,0,"MATARO","MATARO",4513,{"$f":"IF($S19<>\"\",\"\",IF(AND($E19<=J$1,$B19=\"M\"),MAX(J$2:J18)+1,\"\"))","v":""},{"$f":"IF($S19<>\"\",\"\",IF(AND($E19<=K$1,$B19=\"M\"),MAX(K$2:K18)+1,\"\"))","v":""},{"$f":"IF($S19<>\"\",\"\",IF(AND($E19<=L$1,$B19=\"M\"),MAX(L$2:L18)+1,\"\"))","v":""},{"$f":"IF($S19<>\"\",\"\",IF(AND($E19<=M$1,$B19=\"M\"),MAX(M$2:M18)+1,\"\"))","v":""},{"$f":"IF($S19<>\"\",\"\",IF(AND($E19<=N$1,$B19=\"F\"),MAX(N$2:N18)+1,\"\"))","v":1},{"$f":"IF($S19<>\"\",\"\",IF(AND($E19<=O$1,$B19=\"F\"),MAX(O$2:O18)+1,\"\"))","v":""},{"$f":"IF(AND($S19<>\"\",$S19<>\"No pot jugar individual\"),\"\",IF(AND($F19<=P$1,$B19=\"M\"),MAX(P$2:P18)+1,\"\"))","v":""},{"$f":"IF(AND($S19<>\"\",$S19<>\"No pot jugar individual\"),\"\",IF(AND($F19<=Q$1,$B19=\"M\"),MAX(Q$2:Q18)+1,\"\"))","v":""},{"$f":"IF($S19<>\"\",\"\",IF($F19<=R$1,MAX(R$2:R18)+1,\"\"))","v":1},"",7,1,0,0,"B","A","A","B","B","A","A","A",null,null,"BC"]
[8643,"M","SANCHEZ Eric","JUV-1",4,2,"ICELAND ELS 8","ICELAND ELS 8",4453,{"$f":"IF($S20<>\"\",\"\",IF(AND($E20<=J$1,$B20=\"M\"),MAX(J$2:J19)+1,\"\"))","v":17},{"$f":"IF($S20<>\"\",\"\",IF(AND($E20<=K$1,$B20=\"M\"),MAX(K$2:K19)+1,\"\"))","v":""},{"$f":"IF($S20<>\"\",\"\",IF(AND($E20<=L$1,$B20=\"M\"),MAX(L$2:L19)+1,\"\"))","v":""},{"$f":"IF($S20<>\"\",\"\",IF(AND($E20<=M$1,$B20=\"M\"),MAX(M$2:M19)+1,\"\"))","v":""},{"$f":"IF($S20<>\"\",\"\",IF(AND($E20<=N$1,$B20=\"F\"),MAX(N$2:N19)+1,\"\"))","v":""},{"$f":"IF($S20<>\"\",\"\",IF(AND($E20<=O$1,$B20=\"F\"),MAX(O$2:O19)+1,\"\"))","v":""},{"$f":"IF(AND($S20<>\"\",$S20<>\"No pot jugar individual\"),\"\",IF(AND($F20<=P$1,$B20=\"M\"),MAX(P$2:P19)+1,\"\"))","v":17},{"$f":"IF(AND($S20<>\"\",$S20<>\"No pot jugar individual\"),\"\",IF(AND($F20<=Q$1,$B20=\"M\"),MAX(Q$2:Q19)+1,\"\"))","v":""},{"$f":"IF($S20<>\"\",\"\",IF($F20<=R$1,MAX(R$2:R19)+1,\"\"))","v":""},"",7,0,0,0,"A","A","A","A","A","A","A","A",null,null,null,null,null,"BJ"]
[5240,"M","WEISZ Jordi","JUV-2",4,2,"CNSABA","CNSABA",4389.17,{"$f":"IF($S21<>\"\",\"\",IF(AND($E21<=J$1,$B21=\"M\"),MAX(J$2:J20)+1,\"\"))","v":18},{"$f":"IF($S21<>\"\",\"\",IF(AND($E21<=K$1,$B21=\"M\"),MAX(K$2:K20)+1,\"\"))","v":""},{"$f":"IF($S21<>\"\",\"\",IF(AND($E21<=L$1,$B21=\"M\"),MAX(L$2:L20)+1,\"\"))","v":""},{"$f":"IF($S21<>\"\",\"\",IF(AND($E21<=M$1,$B21=\"M\"),MAX(M$2:M20)+1,\"\"))","v":""},{"$f":"IF($S21<>\"\",\"\",IF(AND($E21<=N$1,$B21=\"F\"),MAX(N$2:N20)+1,\"\"))","v":""},{"$f":"IF($S21<>\"\",\"\",IF(AND($E21<=O$1,$B21=\"F\"),MAX(O$2:O20)+1,\"\"))","v":""},{"$f":"IF(AND($S21<>\"\",$S21<>\"No pot jugar individual\"),\"\",IF(AND($F21<=P$1,$B21=\"M\"),MAX(P$2:P20)+1,\"\"))","v":18},{"$f":"IF(AND($S21<>\"\",$S21<>\"No pot jugar individual\"),\"\",IF(AND($F21<=Q$1,$B21=\"M\"),MAX(Q$2:Q20)+1,\"\"))","v":""},{"$f":"IF($S21<>\"\",\"\",IF($F21<=R$1,MAX(R$2:R20)+1,\"\"))","v":""},"",7,2,0,0,"A","A","A","B","B","A","B","A",null,null,"BC",null,null,"BC"]
[5953,"M","CUEVAS Joel","ALE-2",2,1,"STCUGAT","STCUGAT",4268.7,{"$f":"IF($S22<>\"\",\"\",IF(AND($E22<=J$1,$B22=\"M\"),MAX(J$2:J21)+1,\"\"))","v":19},{"$f":"IF($S22<>\"\",\"\",IF(AND($E22<=K$1,$B22=\"M\"),MAX(K$2:K21)+1,\"\"))","v":10},{"$f":"IF($S22<>\"\",\"\",IF(AND($E22<=L$1,$B22=\"M\"),MAX(L$2:L21)+1,\"\"))","v":1},{"$f":"IF($S22<>\"\",\"\",IF(AND($E22<=M$1,$B22=\"M\"),MAX(M$2:M21)+1,\"\"))","v":""},{"$f":"IF($S22<>\"\",\"\",IF(AND($E22<=N$1,$B22=\"F\"),MAX(N$2:N21)+1,\"\"))","v":""},{"$f":"IF($S22<>\"\",\"\",IF(AND($E22<=O$1,$B22=\"F\"),MAX(O$2:O21)+1,\"\"))","v":""},{"$f":"IF(AND($S22<>\"\",$S22<>\"No pot jugar individual\"),\"\",IF(AND($F22<=P$1,$B22=\"M\"),MAX(P$2:P21)+1,\"\"))","v":19},{"$f":"IF(AND($S22<>\"\",$S22<>\"No pot jugar individual\"),\"\",IF(AND($F22<=Q$1,$B22=\"M\"),MAX(Q$2:Q21)+1,\"\"))","v":1},{"$f":"IF($S22<>\"\",\"\",IF($F22<=R$1,MAX(R$2:R21)+1,\"\"))","v":""},"",7,0,0,0,"D","C","B","A","A","A","A","A"]
[5312,"M","LLORET Arnau","INF-1",3,2,"EUROCLIMA BDN","EUROCLIMA BDN",4242.5,{"$f":"IF($S23<>\"\",\"\",IF(AND($E23<=J$1,$B23=\"M\"),MAX(J$2:J22)+1,\"\"))","v":20},{"$f":"IF($S23<>\"\",\"\",IF(AND($E23<=K$1,$B23=\"M\"),MAX(K$2:K22)+1,\"\"))","v":11},{"$f":"IF($S23<>\"\",\"\",IF(AND($E23<=L$1,$B23=\"M\"),MAX(L$2:L22)+1,\"\"))","v":""},{"$f":"IF($S23<>\"\",\"\",IF(AND($E23<=M$1,$B23=\"M\"),MAX(M$2:M22)+1,\"\"))","v":""},{"$f":"IF($S23<>\"\",\"\",IF(AND($E23<=N$1,$B23=\"F\"),MAX(N$2:N22)+1,\"\"))","v":""},{"$f":"IF($S23<>\"\",\"\",IF(AND($E23<=O$1,$B23=\"F\"),MAX(O$2:O22)+1,\"\"))","v":""},{"$f":"IF(AND($S23<>\"\",$S23<>\"No pot jugar individual\"),\"\",IF(AND($F23<=P$1,$B23=\"M\"),MAX(P$2:P22)+1,\"\"))","v":20},{"$f":"IF(AND($S23<>\"\",$S23<>\"No pot jugar individual\"),\"\",IF(AND($F23<=Q$1,$B23=\"M\"),MAX(Q$2:Q22)+1,\"\"))","v":""},{"$f":"IF($S23<>\"\",\"\",IF($F23<=R$1,MAX(R$2:R22)+1,\"\"))","v":""},"",7,{"$f":"COUNTIF($AF23:$AL23,U$2)","v":1},0,0,"A","B","B","B","A","B","A","B","BJ",null,null,null,null,null,"BC"]
[6466,"M","MONTÀÑEZ Xavier","JUV-1",4,2,"EUROCLIMA BDN","EUROCLIMA BDN",4083,{"$f":"IF($S24<>\"\",\"\",IF(AND($E24<=J$1,$B24=\"M\"),MAX(J$2:J23)+1,\"\"))","v":21},{"$f":"IF($S24<>\"\",\"\",IF(AND($E24<=K$1,$B24=\"M\"),MAX(K$2:K23)+1,\"\"))","v":""},{"$f":"IF($S24<>\"\",\"\",IF(AND($E24<=L$1,$B24=\"M\"),MAX(L$2:L23)+1,\"\"))","v":""},{"$f":"IF($S24<>\"\",\"\",IF(AND($E24<=M$1,$B24=\"M\"),MAX(M$2:M23)+1,\"\"))","v":""},{"$f":"IF($S24<>\"\",\"\",IF(AND($E24<=N$1,$B24=\"F\"),MAX(N$2:N23)+1,\"\"))","v":""},{"$f":"IF($S24<>\"\",\"\",IF(AND($E24<=O$1,$B24=\"F\"),MAX(O$2:O23)+1,\"\"))","v":""},{"$f":"IF(AND($S24<>\"\",$S24<>\"No pot jugar individual\"),\"\",IF(AND($F24<=P$1,$B24=\"M\"),MAX(P$2:P23)+1,\"\"))","v":21},{"$f":"IF(AND($S24<>\"\",$S24<>\"No pot jugar individual\"),\"\",IF(AND($F24<=Q$1,$B24=\"M\"),MAX(Q$2:Q23)+1,\"\"))","v":""},{"$f":"IF($S24<>\"\",\"\",IF($F24<=R$1,MAX(R$2:R23)+1,\"\"))","v":""},"",7,0,0,0,"A","B","B","A","A","B","A","A","BJ"]
[10258,"M","SALGADO Adrián","JUV-2",4,2,"CASTELLAR","CASTELLAR",3911.5,{"$f":"IF($S25<>\"\",\"\",IF(AND($E25<=J$1,$B25=\"M\"),MAX(J$2:J24)+1,\"\"))","v":22},{"$f":"IF($S25<>\"\",\"\",IF(AND($E25<=K$1,$B25=\"M\"),MAX(K$2:K24)+1,\"\"))","v":""},{"$f":"IF($S25<>\"\",\"\",IF(AND($E25<=L$1,$B25=\"M\"),MAX(L$2:L24)+1,\"\"))","v":""},{"$f":"IF($S25<>\"\",\"\",IF(AND($E25<=M$1,$B25=\"M\"),MAX(M$2:M24)+1,\"\"))","v":""},{"$f":"IF($S25<>\"\",\"\",IF(AND($E25<=N$1,$B25=\"F\"),MAX(N$2:N24)+1,\"\"))","v":""},{"$f":"IF($S25<>\"\",\"\",IF(AND($E25<=O$1,$B25=\"F\"),MAX(O$2:O24)+1,\"\"))","v":""},{"$f":"IF(AND($S25<>\"\",$S25<>\"No pot jugar individual\"),\"\",IF(AND($F25<=P$1,$B25=\"M\"),MAX(P$2:P24)+1,\"\"))","v":22},{"$f":"IF(AND($S25<>\"\",$S25<>\"No pot jugar individual\"),\"\",IF(AND($F25<=Q$1,$B25=\"M\"),MAX(Q$2:Q24)+1,\"\"))","v":""},{"$f":"IF($S25<>\"\",\"\",IF($F25<=R$1,MAX(R$2:R24)+1,\"\"))","v":""},"",7,0,0,0,"C","B","B","B","B","A","B","B"]
[8977,"M","COMAS Pol","JUV-2",4,2,"HOSPIT","HOSPIT",3893.5,{"$f":"IF($S26<>\"\",\"\",IF(AND($E26<=J$1,$B26=\"M\"),MAX(J$2:J25)+1,\"\"))","v":23},{"$f":"IF($S26<>\"\",\"\",IF(AND($E26<=K$1,$B26=\"M\"),MAX(K$2:K25)+1,\"\"))","v":""},{"$f":"IF($S26<>\"\",\"\",IF(AND($E26<=L$1,$B26=\"M\"),MAX(L$2:L25)+1,\"\"))","v":""},{"$f":"IF($S26<>\"\",\"\",IF(AND($E26<=M$1,$B26=\"M\"),MAX(M$2:M25)+1,\"\"))","v":""},{"$f":"IF($S26<>\"\",\"\",IF(AND($E26<=N$1,$B26=\"F\"),MAX(N$2:N25)+1,\"\"))","v":""},{"$f":"IF($S26<>\"\",\"\",IF(AND($E26<=O$1,$B26=\"F\"),MAX(O$2:O25)+1,\"\"))","v":""},{"$f":"IF(AND($S26<>\"\",$S26<>\"No pot jugar individual\"),\"\",IF(AND($F26<=P$1,$B26=\"M\"),MAX(P$2:P25)+1,\"\"))","v":23},{"$f":"IF(AND($S26<>\"\",$S26<>\"No pot jugar individual\"),\"\",IF(AND($F26<=Q$1,$B26=\"M\"),MAX(Q$2:Q25)+1,\"\"))","v":""},{"$f":"IF($S26<>\"\",\"\",IF($F26<=R$1,MAX(R$2:R25)+1,\"\"))","v":""},"",7,0,0,0,"B","A","A","A","B","A","A","B"]
[8505,"M","VELEZ Ivan","INF-1",3,2,"ATEN82","ATEN82",3870.98,{"$f":"IF($S27<>\"\",\"\",IF(AND($E27<=J$1,$B27=\"M\"),MAX(J$2:J26)+1,\"\"))","v":24},{"$f":"IF($S27<>\"\",\"\",IF(AND($E27<=K$1,$B27=\"M\"),MAX(K$2:K26)+1,\"\"))","v":12},{"$f":"IF($S27<>\"\",\"\",IF(AND($E27<=L$1,$B27=\"M\"),MAX(L$2:L26)+1,\"\"))","v":""},{"$f":"IF($S27<>\"\",\"\",IF(AND($E27<=M$1,$B27=\"M\"),MAX(M$2:M26)+1,\"\"))","v":""},{"$f":"IF($S27<>\"\",\"\",IF(AND($E27<=N$1,$B27=\"F\"),MAX(N$2:N26)+1,\"\"))","v":""},{"$f":"IF($S27<>\"\",\"\",IF(AND($E27<=O$1,$B27=\"F\"),MAX(O$2:O26)+1,\"\"))","v":""},{"$f":"IF(AND($S27<>\"\",$S27<>\"No pot jugar individual\"),\"\",IF(AND($F27<=P$1,$B27=\"M\"),MAX(P$2:P26)+1,\"\"))","v":24},{"$f":"IF(AND($S27<>\"\",$S27<>\"No pot jugar individual\"),\"\",IF(AND($F27<=Q$1,$B27=\"M\"),MAX(Q$2:Q26)+1,\"\"))","v":""},{"$f":"IF($S27<>\"\",\"\",IF($F27<=R$1,MAX(R$2:R26)+1,\"\"))","v":""},"",7,0,0,0,"E","D","C","B","B","B","B","B"]
[5405,"M","LUCO Bernat","JUV-2",4,2,"IGUALA","IGUALA",3739.5,{"$f":"IF($S28<>\"\",\"\",IF(AND($E28<=J$1,$B28=\"M\"),MAX(J$2:J27)+1,\"\"))","v":25},{"$f":"IF($S28<>\"\",\"\",IF(AND($E28<=K$1,$B28=\"M\"),MAX(K$2:K27)+1,\"\"))","v":""},{"$f":"IF($S28<>\"\",\"\",IF(AND($E28<=L$1,$B28=\"M\"),MAX(L$2:L27)+1,\"\"))","v":""},{"$f":"IF($S28<>\"\",\"\",IF(AND($E28<=M$1,$B28=\"M\"),MAX(M$2:M27)+1,\"\"))","v":""},{"$f":"IF($S28<>\"\",\"\",IF(AND($E28<=N$1,$B28=\"F\"),MAX(N$2:N27)+1,\"\"))","v":""},{"$f":"IF($S28<>\"\",\"\",IF(AND($E28<=O$1,$B28=\"F\"),MAX(O$2:O27)+1,\"\"))","v":""},{"$f":"IF(AND($S28<>\"\",$S28<>\"No pot jugar individual\"),\"\",IF(AND($F28<=P$1,$B28=\"M\"),MAX(P$2:P27)+1,\"\"))","v":25},{"$f":"IF(AND($S28<>\"\",$S28<>\"No pot jugar individual\"),\"\",IF(AND($F28<=Q$1,$B28=\"M\"),MAX(Q$2:Q27)+1,\"\"))","v":""},{"$f":"IF($S28<>\"\",\"\",IF($F28<=R$1,MAX(R$2:R27)+1,\"\"))","v":""},"",7,0,0,0,"C","B","B","A","A","B","A","B"]
[6362,"M","PASCUAL Marc","JUV-1",4,2,"ATEN82","ATEN82",3599.17,{"$f":"IF($S29<>\"\",\"\",IF(AND($E29<=J$1,$B29=\"M\"),MAX(J$2:J28)+1,\"\"))","v":26},{"$f":"IF($S29<>\"\",\"\",IF(AND($E29<=K$1,$B29=\"M\"),MAX(K$2:K28)+1,\"\"))","v":""},{"$f":"IF($S29<>\"\",\"\",IF(AND($E29<=L$1,$B29=\"M\"),MAX(L$2:L28)+1,\"\"))","v":""},{"$f":"IF($S29<>\"\",\"\",IF(AND($E29<=M$1,$B29=\"M\"),MAX(M$2:M28)+1,\"\"))","v":""},{"$f":"IF($S29<>\"\",\"\",IF(AND($E29<=N$1,$B29=\"F\"),MAX(N$2:N28)+1,\"\"))","v":""},{"$f":"IF($S29<>\"\",\"\",IF(AND($E29<=O$1,$B29=\"F\"),MAX(O$2:O28)+1,\"\"))","v":""},{"$f":"IF(AND($S29<>\"\",$S29<>\"No pot jugar individual\"),\"\",IF(AND($F29<=P$1,$B29=\"M\"),MAX(P$2:P28)+1,\"\"))","v":26},{"$f":"IF(AND($S29<>\"\",$S29<>\"No pot jugar individual\"),\"\",IF(AND($F29<=Q$1,$B29=\"M\"),MAX(Q$2:Q28)+1,\"\"))","v":""},{"$f":"IF($S29<>\"\",\"\",IF($F29<=R$1,MAX(R$2:R28)+1,\"\"))","v":""},"",7,1,0,0,"A","A","A","A","A","A","B","B",null,null,null,null,"BJ","BC"]
[4779,"M","OLLE Xavier","INF-1",3,2,"OLESA","OLESA",3437,{"$f":"IF($S30<>\"\",\"\",IF(AND($E30<=J$1,$B30=\"M\"),MAX(J$2:J29)+1,\"\"))","v":27},{"$f":"IF($S30<>\"\",\"\",IF(AND($E30<=K$1,$B30=\"M\"),MAX(K$2:K29)+1,\"\"))","v":13},{"$f":"IF($S30<>\"\",\"\",IF(AND($E30<=L$1,$B30=\"M\"),MAX(L$2:L29)+1,\"\"))","v":""},{"$f":"IF($S30<>\"\",\"\",IF(AND($E30<=M$1,$B30=\"M\"),MAX(M$2:M29)+1,\"\"))","v":""},{"$f":"IF($S30<>\"\",\"\",IF(AND($E30<=N$1,$B30=\"F\"),MAX(N$2:N29)+1,\"\"))","v":""},{"$f":"IF($S30<>\"\",\"\",IF(AND($E30<=O$1,$B30=\"F\"),MAX(O$2:O29)+1,\"\"))","v":""},{"$f":"IF(AND($S30<>\"\",$S30<>\"No pot jugar individual\"),\"\",IF(AND($F30<=P$1,$B30=\"M\"),MAX(P$2:P29)+1,\"\"))","v":27},{"$f":"IF(AND($S30<>\"\",$S30<>\"No pot jugar individual\"),\"\",IF(AND($F30<=Q$1,$B30=\"M\"),MAX(Q$2:Q29)+1,\"\"))","v":""},{"$f":"IF($S30<>\"\",\"\",IF($F30<=R$1,MAX(R$2:R29)+1,\"\"))","v":""},"",7,1,0,0,"B","C","C","B","C","B","B","A","BC"]
[8055,"M","BARCELO Joan","JUV-2",4,2,"LLUÏSOS","LLUÏSOS",3325.33,{"$f":"IF($S31<>\"\",\"\",IF(AND($E31<=J$1,$B31=\"M\"),MAX(J$2:J30)+1,\"\"))","v":28},{"$f":"IF($S31<>\"\",\"\",IF(AND($E31<=K$1,$B31=\"M\"),MAX(K$2:K30)+1,\"\"))","v":""},{"$f":"IF($S31<>\"\",\"\",IF(AND($E31<=L$1,$B31=\"M\"),MAX(L$2:L30)+1,\"\"))","v":""},{"$f":"IF($S31<>\"\",\"\",IF(AND($E31<=M$1,$B31=\"M\"),MAX(M$2:M30)+1,\"\"))","v":""},{"$f":"IF($S31<>\"\",\"\",IF(AND($E31<=N$1,$B31=\"F\"),MAX(N$2:N30)+1,\"\"))","v":""},{"$f":"IF($S31<>\"\",\"\",IF(AND($E31<=O$1,$B31=\"F\"),MAX(O$2:O30)+1,\"\"))","v":""},{"$f":"IF(AND($S31<>\"\",$S31<>\"No pot jugar individual\"),\"\",IF(AND($F31<=P$1,$B31=\"M\"),MAX(P$2:P30)+1,\"\"))","v":28},{"$f":"IF(AND($S31<>\"\",$S31<>\"No pot jugar individual\"),\"\",IF(AND($F31<=Q$1,$B31=\"M\"),MAX(Q$2:Q30)+1,\"\"))","v":""},{"$f":"IF($S31<>\"\",\"\",IF($F31<=R$1,MAX(R$2:R30)+1,\"\"))","v":""},"",7,0,0,0,"A","A","A","A","B","B","B","A",null,null,null,"BJ","BJ","BJ"]
[6718,"M","CERETO Marc","JUV-3",4,2,"VILANOVA","VILANOVA",3185.83,{"$f":"IF($S32<>\"\",\"\",IF(AND($E32<=J$1,$B32=\"M\"),MAX(J$2:J31)+1,\"\"))","v":29},{"$f":"IF($S32<>\"\",\"\",IF(AND($E32<=K$1,$B32=\"M\"),MAX(K$2:K31)+1,\"\"))","v":""},{"$f":"IF($S32<>\"\",\"\",IF(AND($E32<=L$1,$B32=\"M\"),MAX(L$2:L31)+1,\"\"))","v":""},{"$f":"IF($S32<>\"\",\"\",IF(AND($E32<=M$1,$B32=\"M\"),MAX(M$2:M31)+1,\"\"))","v":""},{"$f":"IF($S32<>\"\",\"\",IF(AND($E32<=N$1,$B32=\"F\"),MAX(N$2:N31)+1,\"\"))","v":""},{"$f":"IF($S32<>\"\",\"\",IF(AND($E32<=O$1,$B32=\"F\"),MAX(O$2:O31)+1,\"\"))","v":""},{"$f":"IF(AND($S32<>\"\",$S32<>\"No pot jugar individual\"),\"\",IF(AND($F32<=P$1,$B32=\"M\"),MAX(P$2:P31)+1,\"\"))","v":29},{"$f":"IF(AND($S32<>\"\",$S32<>\"No pot jugar individual\"),\"\",IF(AND($F32<=Q$1,$B32=\"M\"),MAX(Q$2:Q31)+1,\"\"))","v":""},{"$f":"IF($S32<>\"\",\"\",IF($F32<=R$1,MAX(R$2:R31)+1,\"\"))","v":""},"",7,1,0,0,"A","A","A","A","B","A","A","B",null,null,null,"BJ",null,null,"BC"]
[6698,"M","MARSAL Josep","JUV-3",4,2,"VILANOVA","VILANOVA",3133.5,{"$f":"IF($S33<>\"\",\"\",IF(AND($E33<=J$1,$B33=\"M\"),MAX(J$2:J32)+1,\"\"))","v":30},{"$f":"IF($S33<>\"\",\"\",IF(AND($E33<=K$1,$B33=\"M\"),MAX(K$2:K32)+1,\"\"))","v":""},{"$f":"IF($S33<>\"\",\"\",IF(AND($E33<=L$1,$B33=\"M\"),MAX(L$2:L32)+1,\"\"))","v":""},{"$f":"IF($S33<>\"\",\"\",IF(AND($E33<=M$1,$B33=\"M\"),MAX(M$2:M32)+1,\"\"))","v":""},{"$f":"IF($S33<>\"\",\"\",IF(AND($E33<=N$1,$B33=\"F\"),MAX(N$2:N32)+1,\"\"))","v":""},{"$f":"IF($S33<>\"\",\"\",IF(AND($E33<=O$1,$B33=\"F\"),MAX(O$2:O32)+1,\"\"))","v":""},{"$f":"IF(AND($S33<>\"\",$S33<>\"No pot jugar individual\"),\"\",IF(AND($F33<=P$1,$B33=\"M\"),MAX(P$2:P32)+1,\"\"))","v":30},{"$f":"IF(AND($S33<>\"\",$S33<>\"No pot jugar individual\"),\"\",IF(AND($F33<=Q$1,$B33=\"M\"),MAX(Q$2:Q32)+1,\"\"))","v":""},{"$f":"IF($S33<>\"\",\"\",IF($F33<=R$1,MAX(R$2:R32)+1,\"\"))","v":""},"",7,0,0,0,"B","A","B","B","A","B","B","B"]
[6779,"M","LIN Hongxiang","INF-2",3,2,"LLUÏSOS","LLUÏSOS",3099.5,{"$f":"IF($S34<>\"\",\"\",IF(AND($E34<=J$1,$B34=\"M\"),MAX(J$2:J33)+1,\"\"))","v":31},{"$f":"IF($S34<>\"\",\"\",IF(AND($E34<=K$1,$B34=\"M\"),MAX(K$2:K33)+1,\"\"))","v":14},{"$f":"IF($S34<>\"\",\"\",IF(AND($E34<=L$1,$B34=\"M\"),MAX(L$2:L33)+1,\"\"))","v":""},{"$f":"IF($S34<>\"\",\"\",IF(AND($E34<=M$1,$B34=\"M\"),MAX(M$2:M33)+1,\"\"))","v":""},{"$f":"IF($S34<>\"\",\"\",IF(AND($E34<=N$1,$B34=\"F\"),MAX(N$2:N33)+1,\"\"))","v":""},{"$f":"IF($S34<>\"\",\"\",IF(AND($E34<=O$1,$B34=\"F\"),MAX(O$2:O33)+1,\"\"))","v":""},{"$f":"IF(AND($S34<>\"\",$S34<>\"No pot jugar individual\"),\"\",IF(AND($F34<=P$1,$B34=\"M\"),MAX(P$2:P33)+1,\"\"))","v":31},{"$f":"IF(AND($S34<>\"\",$S34<>\"No pot jugar individual\"),\"\",IF(AND($F34<=Q$1,$B34=\"M\"),MAX(Q$2:Q33)+1,\"\"))","v":""},{"$f":"IF($S34<>\"\",\"\",IF($F34<=R$1,MAX(R$2:R33)+1,\"\"))","v":""},"",7,0,0,0,"B","B","B","C","B","B","B","B"]
[8879,"M","MAÑE Alvar","JUV-1",4,2,"LLUÏSOS","LLUÏSOS",2985.5,{"$f":"IF($S35<>\"\",\"\",IF(AND($E35<=J$1,$B35=\"M\"),MAX(J$2:J34)+1,\"\"))","v":32},{"$f":"IF($S35<>\"\",\"\",IF(AND($E35<=K$1,$B35=\"M\"),MAX(K$2:K34)+1,\"\"))","v":""},{"$f":"IF($S35<>\"\",\"\",IF(AND($E35<=L$1,$B35=\"M\"),MAX(L$2:L34)+1,\"\"))","v":""},{"$f":"IF($S35<>\"\",\"\",IF(AND($E35<=M$1,$B35=\"M\"),MAX(M$2:M34)+1,\"\"))","v":""},{"$f":"IF($S35<>\"\",\"\",IF(AND($E35<=N$1,$B35=\"F\"),MAX(N$2:N34)+1,\"\"))","v":""},{"$f":"IF($S35<>\"\",\"\",IF(AND($E35<=O$1,$B35=\"F\"),MAX(O$2:O34)+1,\"\"))","v":""},{"$f":"IF(AND($S35<>\"\",$S35<>\"No pot jugar individual\"),\"\",IF(AND($F35<=P$1,$B35=\"M\"),MAX(P$2:P34)+1,\"\"))","v":32},{"$f":"IF(AND($S35<>\"\",$S35<>\"No pot jugar individual\"),\"\",IF(AND($F35<=Q$1,$B35=\"M\"),MAX(Q$2:Q34)+1,\"\"))","v":""},{"$f":"IF($S35<>\"\",\"\",IF($F35<=R$1,MAX(R$2:R34)+1,\"\"))","v":""},"",7,0,0,0,"B","C","B","B","B","B","B","A"]
[8603,"M","PONS Roger","JUV-3",4,2,"ATEN82","ATEN82",2773,{"$f":"IF($S36<>\"\",\"\",IF(AND($E36<=J$1,$B36=\"M\"),MAX(J$2:J35)+1,\"\"))","v":33},{"$f":"IF($S36<>\"\",\"\",IF(AND($E36<=K$1,$B36=\"M\"),MAX(K$2:K35)+1,\"\"))","v":""},{"$f":"IF($S36<>\"\",\"\",IF(AND($E36<=L$1,$B36=\"M\"),MAX(L$2:L35)+1,\"\"))","v":""},{"$f":"IF($S36<>\"\",\"\",IF(AND($E36<=M$1,$B36=\"M\"),MAX(M$2:M35)+1,\"\"))","v":""},{"$f":"IF($S36<>\"\",\"\",IF(AND($E36<=N$1,$B36=\"F\"),MAX(N$2:N35)+1,\"\"))","v":""},{"$f":"IF($S36<>\"\",\"\",IF(AND($E36<=O$1,$B36=\"F\"),MAX(O$2:O35)+1,\"\"))","v":""},{"$f":"IF(AND($S36<>\"\",$S36<>\"No pot jugar individual\"),\"\",IF(AND($F36<=P$1,$B36=\"M\"),MAX(P$2:P35)+1,\"\"))","v":33},{"$f":"IF(AND($S36<>\"\",$S36<>\"No pot jugar individual\"),\"\",IF(AND($F36<=Q$1,$B36=\"M\"),MAX(Q$2:Q35)+1,\"\"))","v":""},{"$f":"IF($S36<>\"\",\"\",IF($F36<=R$1,MAX(R$2:R35)+1,\"\"))","v":""},"",7,0,1,0,"B","A","B","B","A","B","B","C",null,null,null,null,null,null,"BN"]
[8551,"M","TELLEZ Jan","JUV-1",4,2,"HORTA","HORTA",2692.5,{"$f":"IF($S37<>\"\",\"\",IF(AND($E37<=J$1,$B37=\"M\"),MAX(J$2:J36)+1,\"\"))","v":34},{"$f":"IF($S37<>\"\",\"\",IF(AND($E37<=K$1,$B37=\"M\"),MAX(K$2:K36)+1,\"\"))","v":""},{"$f":"IF($S37<>\"\",\"\",IF(AND($E37<=L$1,$B37=\"M\"),MAX(L$2:L36)+1,\"\"))","v":""},{"$f":"IF($S37<>\"\",\"\",IF(AND($E37<=M$1,$B37=\"M\"),MAX(M$2:M36)+1,\"\"))","v":""},{"$f":"IF($S37<>\"\",\"\",IF(AND($E37<=N$1,$B37=\"F\"),MAX(N$2:N36)+1,\"\"))","v":""},{"$f":"IF($S37<>\"\",\"\",IF(AND($E37<=O$1,$B37=\"F\"),MAX(O$2:O36)+1,\"\"))","v":""},{"$f":"IF(AND($S37<>\"\",$S37<>\"No pot jugar individual\"),\"\",IF(AND($F37<=P$1,$B37=\"M\"),MAX(P$2:P36)+1,\"\"))","v":34},{"$f":"IF(AND($S37<>\"\",$S37<>\"No pot jugar individual\"),\"\",IF(AND($F37<=Q$1,$B37=\"M\"),MAX(Q$2:Q36)+1,\"\"))","v":""},{"$f":"IF($S37<>\"\",\"\",IF($F37<=R$1,MAX(R$2:R36)+1,\"\"))","v":""},"",7,1,1,0,"A","B","B","B","B","A","B","B","BN",null,null,null,null,null,"BC"]
[10104,"M","IZQUIERDO Marc","ALE-2",2,1,"LLUÏSOS","LLUÏSOS",2683.6,{"$f":"IF($S38<>\"\",\"\",IF(AND($E38<=J$1,$B38=\"M\"),MAX(J$2:J37)+1,\"\"))","v":35},{"$f":"IF($S38<>\"\",\"\",IF(AND($E38<=K$1,$B38=\"M\"),MAX(K$2:K37)+1,\"\"))","v":15},{"$f":"IF($S38<>\"\",\"\",IF(AND($E38<=L$1,$B38=\"M\"),MAX(L$2:L37)+1,\"\"))","v":2},{"$f":"IF($S38<>\"\",\"\",IF(AND($E38<=M$1,$B38=\"M\"),MAX(M$2:M37)+1,\"\"))","v":""},{"$f":"IF($S38<>\"\",\"\",IF(AND($E38<=N$1,$B38=\"F\"),MAX(N$2:N37)+1,\"\"))","v":""},{"$f":"IF($S38<>\"\",\"\",IF(AND($E38<=O$1,$B38=\"F\"),MAX(O$2:O37)+1,\"\"))","v":""},{"$f":"IF(AND($S38<>\"\",$S38<>\"No pot jugar individual\"),\"\",IF(AND($F38<=P$1,$B38=\"M\"),MAX(P$2:P37)+1,\"\"))","v":35},{"$f":"IF(AND($S38<>\"\",$S38<>\"No pot jugar individual\"),\"\",IF(AND($F38<=Q$1,$B38=\"M\"),MAX(Q$2:Q37)+1,\"\"))","v":2},{"$f":"IF($S38<>\"\",\"\",IF($F38<=R$1,MAX(R$2:R37)+1,\"\"))","v":""},"",7,0,0,0,"E","D","C","B","B","B","B","B"]
[7640,"M","PRAT Eduard","JUV-1",4,2,"RODA","RODA",2603,{"$f":"IF($S39<>\"\",\"\",IF(AND($E39<=J$1,$B39=\"M\"),MAX(J$2:J38)+1,\"\"))","v":36},{"$f":"IF($S39<>\"\",\"\",IF(AND($E39<=K$1,$B39=\"M\"),MAX(K$2:K38)+1,\"\"))","v":""},{"$f":"IF($S39<>\"\",\"\",IF(AND($E39<=L$1,$B39=\"M\"),MAX(L$2:L38)+1,\"\"))","v":""},{"$f":"IF($S39<>\"\",\"\",IF(AND($E39<=M$1,$B39=\"M\"),MAX(M$2:M38)+1,\"\"))","v":""},{"$f":"IF($S39<>\"\",\"\",IF(AND($E39<=N$1,$B39=\"F\"),MAX(N$2:N38)+1,\"\"))","v":""},{"$f":"IF($S39<>\"\",\"\",IF(AND($E39<=O$1,$B39=\"F\"),MAX(O$2:O38)+1,\"\"))","v":""},{"$f":"IF(AND($S39<>\"\",$S39<>\"No pot jugar individual\"),\"\",IF(AND($F39<=P$1,$B39=\"M\"),MAX(P$2:P38)+1,\"\"))","v":36},{"$f":"IF(AND($S39<>\"\",$S39<>\"No pot jugar individual\"),\"\",IF(AND($F39<=Q$1,$B39=\"M\"),MAX(Q$2:Q38)+1,\"\"))","v":""},{"$f":"IF($S39<>\"\",\"\",IF($F39<=R$1,MAX(R$2:R38)+1,\"\"))","v":""},"",7,1,0,0,"A","A","B","A","B","B","B","C",null,null,null,null,null,null,"BC"]
[7154,"M","MARTINEZ Sergi","JUV-2",4,2,"HORTA","HORTA",2597.5,{"$f":"IF($S40<>\"\",\"\",IF(AND($E40<=J$1,$B40=\"M\"),MAX(J$2:J39)+1,\"\"))","v":37},{"$f":"IF($S40<>\"\",\"\",IF(AND($E40<=K$1,$B40=\"M\"),MAX(K$2:K39)+1,\"\"))","v":""},{"$f":"IF($S40<>\"\",\"\",IF(AND($E40<=L$1,$B40=\"M\"),MAX(L$2:L39)+1,\"\"))","v":""},{"$f":"IF($S40<>\"\",\"\",IF(AND($E40<=M$1,$B40=\"M\"),MAX(M$2:M39)+1,\"\"))","v":""},{"$f":"IF($S40<>\"\",\"\",IF(AND($E40<=N$1,$B40=\"F\"),MAX(N$2:N39)+1,\"\"))","v":""},{"$f":"IF($S40<>\"\",\"\",IF(AND($E40<=O$1,$B40=\"F\"),MAX(O$2:O39)+1,\"\"))","v":""},{"$f":"IF(AND($S40<>\"\",$S40<>\"No pot jugar individual\"),\"\",IF(AND($F40<=P$1,$B40=\"M\"),MAX(P$2:P39)+1,\"\"))","v":37},{"$f":"IF(AND($S40<>\"\",$S40<>\"No pot jugar individual\"),\"\",IF(AND($F40<=Q$1,$B40=\"M\"),MAX(Q$2:Q39)+1,\"\"))","v":""},{"$f":"IF($S40<>\"\",\"\",IF($F40<=R$1,MAX(R$2:R39)+1,\"\"))","v":""},"",7,0,0,0,"B","B","C","B","C","B","B","B"]
[7735,"F","COLL Sílvia","ALE-1",2,0,"VIC","VIC",2592.5,{"$f":"IF($S41<>\"\",\"\",IF(AND($E41<=J$1,$B41=\"M\"),MAX(J$2:J40)+1,\"\"))","v":""},{"$f":"IF($S41<>\"\",\"\",IF(AND($E41<=K$1,$B41=\"M\"),MAX(K$2:K40)+1,\"\"))","v":""},{"$f":"IF($S41<>\"\",\"\",IF(AND($E41<=L$1,$B41=\"M\"),MAX(L$2:L40)+1,\"\"))","v":""},{"$f":"IF($S41<>\"\",\"\",IF(AND($E41<=M$1,$B41=\"M\"),MAX(M$2:M40)+1,\"\"))","v":""},{"$f":"IF($S41<>\"\",\"\",IF(AND($E41<=N$1,$B41=\"F\"),MAX(N$2:N40)+1,\"\"))","v":2},{"$f":"IF($S41<>\"\",\"\",IF(AND($E41<=O$1,$B41=\"F\"),MAX(O$2:O40)+1,\"\"))","v":1},{"$f":"IF(AND($S41<>\"\",$S41<>\"No pot jugar individual\"),\"\",IF(AND($F41<=P$1,$B41=\"M\"),MAX(P$2:P40)+1,\"\"))","v":""},{"$f":"IF(AND($S41<>\"\",$S41<>\"No pot jugar individual\"),\"\",IF(AND($F41<=Q$1,$B41=\"M\"),MAX(Q$2:Q40)+1,\"\"))","v":""},{"$f":"IF($S41<>\"\",\"\",IF($F41<=R$1,MAX(R$2:R40)+1,\"\"))","v":2},"",7,0,0,0,"B","B","B","B","A","B","B","B",null,null,null,null,null,"BJ","BJ"]
[8247,"M","FLORIDO Kapil","INF-2",3,2,"LLUÏSOS","LLUÏSOS",2531.5,{"$f":"IF($S42<>\"\",\"\",IF(AND($E42<=J$1,$B42=\"M\"),MAX(J$2:J41)+1,\"\"))","v":38},{"$f":"IF($S42<>\"\",\"\",IF(AND($E42<=K$1,$B42=\"M\"),MAX(K$2:K41)+1,\"\"))","v":16},{"$f":"IF($S42<>\"\",\"\",IF(AND($E42<=L$1,$B42=\"M\"),MAX(L$2:L41)+1,\"\"))","v":""},{"$f":"IF($S42<>\"\",\"\",IF(AND($E42<=M$1,$B42=\"M\"),MAX(M$2:M41)+1,\"\"))","v":""},{"$f":"IF($S42<>\"\",\"\",IF(AND($E42<=N$1,$B42=\"F\"),MAX(N$2:N41)+1,\"\"))","v":""},{"$f":"IF($S42<>\"\",\"\",IF(AND($E42<=O$1,$B42=\"F\"),MAX(O$2:O41)+1,\"\"))","v":""},{"$f":"IF(AND($S42<>\"\",$S42<>\"No pot jugar individual\"),\"\",IF(AND($F42<=P$1,$B42=\"M\"),MAX(P$2:P41)+1,\"\"))","v":38},{"$f":"IF(AND($S42<>\"\",$S42<>\"No pot jugar individual\"),\"\",IF(AND($F42<=Q$1,$B42=\"M\"),MAX(Q$2:Q41)+1,\"\"))","v":""},{"$f":"IF($S42<>\"\",\"\",IF($F42<=R$1,MAX(R$2:R41)+1,\"\"))","v":""},"",7,0,0,0,"B","B","C","C","C","B","B","B"]
[6465,"M","MENINO Eudald","INF-2",3,2,"EUROCLIMA BDN","EUROCLIMA BDN",2416.3000000000002,{"$f":"IF($S43<>\"\",\"\",IF(AND($E43<=J$1,$B43=\"M\"),MAX(J$2:J42)+1,\"\"))","v":39},{"$f":"IF($S43<>\"\",\"\",IF(AND($E43<=K$1,$B43=\"M\"),MAX(K$2:K42)+1,\"\"))","v":17},{"$f":"IF($S43<>\"\",\"\",IF(AND($E43<=L$1,$B43=\"M\"),MAX(L$2:L42)+1,\"\"))","v":""},{"$f":"IF($S43<>\"\",\"\",IF(AND($E43<=M$1,$B43=\"M\"),MAX(M$2:M42)+1,\"\"))","v":""},{"$f":"IF($S43<>\"\",\"\",IF(AND($E43<=N$1,$B43=\"F\"),MAX(N$2:N42)+1,\"\"))","v":""},{"$f":"IF($S43<>\"\",\"\",IF(AND($E43<=O$1,$B43=\"F\"),MAX(O$2:O42)+1,\"\"))","v":""},{"$f":"IF(AND($S43<>\"\",$S43<>\"No pot jugar individual\"),\"\",IF(AND($F43<=P$1,$B43=\"M\"),MAX(P$2:P42)+1,\"\"))","v":39},{"$f":"IF(AND($S43<>\"\",$S43<>\"No pot jugar individual\"),\"\",IF(AND($F43<=Q$1,$B43=\"M\"),MAX(Q$2:Q42)+1,\"\"))","v":""},{"$f":"IF($S43<>\"\",\"\",IF($F43<=R$1,MAX(R$2:R42)+1,\"\"))","v":""},"",7,{"$f":"COUNTIF($AF43:$AL43,U$2)","v":0},0,0,"D","C","B","B","B","C","B","B"]
[6256,"M","OLIVELLA Alex","JUV-1",4,2,"LLUÏSOS","LLUÏSOS",2403.5,{"$f":"IF($S44<>\"\",\"\",IF(AND($E44<=J$1,$B44=\"M\"),MAX(J$2:J43)+1,\"\"))","v":40},{"$f":"IF($S44<>\"\",\"\",IF(AND($E44<=K$1,$B44=\"M\"),MAX(K$2:K43)+1,\"\"))","v":""},{"$f":"IF($S44<>\"\",\"\",IF(AND($E44<=L$1,$B44=\"M\"),MAX(L$2:L43)+1,\"\"))","v":""},{"$f":"IF($S44<>\"\",\"\",IF(AND($E44<=M$1,$B44=\"M\"),MAX(M$2:M43)+1,\"\"))","v":""},{"$f":"IF($S44<>\"\",\"\",IF(AND($E44<=N$1,$B44=\"F\"),MAX(N$2:N43)+1,\"\"))","v":""},{"$f":"IF($S44<>\"\",\"\",IF(AND($E44<=O$1,$B44=\"F\"),MAX(O$2:O43)+1,\"\"))","v":""},{"$f":"IF(AND($S44<>\"\",$S44<>\"No pot jugar individual\"),\"\",IF(AND($F44<=P$1,$B44=\"M\"),MAX(P$2:P43)+1,\"\"))","v":40},{"$f":"IF(AND($S44<>\"\",$S44<>\"No pot jugar individual\"),\"\",IF(AND($F44<=Q$1,$B44=\"M\"),MAX(Q$2:Q43)+1,\"\"))","v":""},{"$f":"IF($S44<>\"\",\"\",IF($F44<=R$1,MAX(R$2:R43)+1,\"\"))","v":""},"",7,0,0,0,"C","B","C","C","C","C","C","B"]
[8912,"M","PAREDES Marco","INF-2",3,2,"STCUGAT","STCUGAT",2383.5,{"$f":"IF($S45<>\"\",\"\",IF(AND($E45<=J$1,$B45=\"M\"),MAX(J$2:J44)+1,\"\"))","v":41},{"$f":"IF($S45<>\"\",\"\",IF(AND($E45<=K$1,$B45=\"M\"),MAX(K$2:K44)+1,\"\"))","v":18},{"$f":"IF($S45<>\"\",\"\",IF(AND($E45<=L$1,$B45=\"M\"),MAX(L$2:L44)+1,\"\"))","v":""},{"$f":"IF($S45<>\"\",\"\",IF(AND($E45<=M$1,$B45=\"M\"),MAX(M$2:M44)+1,\"\"))","v":""},{"$f":"IF($S45<>\"\",\"\",IF(AND($E45<=N$1,$B45=\"F\"),MAX(N$2:N44)+1,\"\"))","v":""},{"$f":"IF($S45<>\"\",\"\",IF(AND($E45<=O$1,$B45=\"F\"),MAX(O$2:O44)+1,\"\"))","v":""},{"$f":"IF(AND($S45<>\"\",$S45<>\"No pot jugar individual\"),\"\",IF(AND($F45<=P$1,$B45=\"M\"),MAX(P$2:P44)+1,\"\"))","v":41},{"$f":"IF(AND($S45<>\"\",$S45<>\"No pot jugar individual\"),\"\",IF(AND($F45<=Q$1,$B45=\"M\"),MAX(Q$2:Q44)+1,\"\"))","v":""},{"$f":"IF($S45<>\"\",\"\",IF($F45<=R$1,MAX(R$2:R44)+1,\"\"))","v":""},"",7,0,0,0,"B","A","B","B","B","B","B","B"]
[7081,"M","LLORENS Angel","ALE-2",2,1,"RIPOLLET","RIPOLLET",2349.5,{"$f":"IF($S46<>\"\",\"\",IF(AND($E46<=J$1,$B46=\"M\"),MAX(J$2:J45)+1,\"\"))","v":42},{"$f":"IF($S46<>\"\",\"\",IF(AND($E46<=K$1,$B46=\"M\"),MAX(K$2:K45)+1,\"\"))","v":19},{"$f":"IF($S46<>\"\",\"\",IF(AND($E46<=L$1,$B46=\"M\"),MAX(L$2:L45)+1,\"\"))","v":3},{"$f":"IF($S46<>\"\",\"\",IF(AND($E46<=M$1,$B46=\"M\"),MAX(M$2:M45)+1,\"\"))","v":""},{"$f":"IF($S46<>\"\",\"\",IF(AND($E46<=N$1,$B46=\"F\"),MAX(N$2:N45)+1,\"\"))","v":""},{"$f":"IF($S46<>\"\",\"\",IF(AND($E46<=O$1,$B46=\"F\"),MAX(O$2:O45)+1,\"\"))","v":""},{"$f":"IF(AND($S46<>\"\",$S46<>\"No pot jugar individual\"),\"\",IF(AND($F46<=P$1,$B46=\"M\"),MAX(P$2:P45)+1,\"\"))","v":42},{"$f":"IF(AND($S46<>\"\",$S46<>\"No pot jugar individual\"),\"\",IF(AND($F46<=Q$1,$B46=\"M\"),MAX(Q$2:Q45)+1,\"\"))","v":3},{"$f":"IF($S46<>\"\",\"\",IF($F46<=R$1,MAX(R$2:R45)+1,\"\"))","v":""},"",7,0,0,0,"C","C","C","C","B","C","B","B"]
[7772,"M","GONZALEZ Alex","ALE-2",2,1,"CASTELLAR","CASTELLAR",2332.6999999999998,{"$f":"IF($S47<>\"\",\"\",IF(AND($E47<=J$1,$B47=\"M\"),MAX(J$2:J46)+1,\"\"))","v":43},{"$f":"IF($S47<>\"\",\"\",IF(AND($E47<=K$1,$B47=\"M\"),MAX(K$2:K46)+1,\"\"))","v":20},{"$f":"IF($S47<>\"\",\"\",IF(AND($E47<=L$1,$B47=\"M\"),MAX(L$2:L46)+1,\"\"))","v":4},{"$f":"IF($S47<>\"\",\"\",IF(AND($E47<=M$1,$B47=\"M\"),MAX(M$2:M46)+1,\"\"))","v":""},{"$f":"IF($S47<>\"\",\"\",IF(AND($E47<=N$1,$B47=\"F\"),MAX(N$2:N46)+1,\"\"))","v":""},{"$f":"IF($S47<>\"\",\"\",IF(AND($E47<=O$1,$B47=\"F\"),MAX(O$2:O46)+1,\"\"))","v":""},{"$f":"IF(AND($S47<>\"\",$S47<>\"No pot jugar individual\"),\"\",IF(AND($F47<=P$1,$B47=\"M\"),MAX(P$2:P46)+1,\"\"))","v":43},{"$f":"IF(AND($S47<>\"\",$S47<>\"No pot jugar individual\"),\"\",IF(AND($F47<=Q$1,$B47=\"M\"),MAX(Q$2:Q46)+1,\"\"))","v":4},{"$f":"IF($S47<>\"\",\"\",IF($F47<=R$1,MAX(R$2:R46)+1,\"\"))","v":""},"",7,0,0,0,"D","C","C","C","C","C","C","B"]
[6516,"M","RUIZ Genis","INF-2",3,2,"CNSABA","CNSABA",2315,{"$f":"IF($S48<>\"\",\"\",IF(AND($E48<=J$1,$B48=\"M\"),MAX(J$2:J47)+1,\"\"))","v":44},{"$f":"IF($S48<>\"\",\"\",IF(AND($E48<=K$1,$B48=\"M\"),MAX(K$2:K47)+1,\"\"))","v":21},{"$f":"IF($S48<>\"\",\"\",IF(AND($E48<=L$1,$B48=\"M\"),MAX(L$2:L47)+1,\"\"))","v":""},{"$f":"IF($S48<>\"\",\"\",IF(AND($E48<=M$1,$B48=\"M\"),MAX(M$2:M47)+1,\"\"))","v":""},{"$f":"IF($S48<>\"\",\"\",IF(AND($E48<=N$1,$B48=\"F\"),MAX(N$2:N47)+1,\"\"))","v":""},{"$f":"IF($S48<>\"\",\"\",IF(AND($E48<=O$1,$B48=\"F\"),MAX(O$2:O47)+1,\"\"))","v":""},{"$f":"IF(AND($S48<>\"\",$S48<>\"No pot jugar individual\"),\"\",IF(AND($F48<=P$1,$B48=\"M\"),MAX(P$2:P47)+1,\"\"))","v":44},{"$f":"IF(AND($S48<>\"\",$S48<>\"No pot jugar individual\"),\"\",IF(AND($F48<=Q$1,$B48=\"M\"),MAX(Q$2:Q47)+1,\"\"))","v":""},{"$f":"IF($S48<>\"\",\"\",IF($F48<=R$1,MAX(R$2:R47)+1,\"\"))","v":""},"",7,0,1,0,"B","B","C","C","B","B","A","B",null,"BN"]
[6811,"M","MESTRES Arnau","INF-2",3,2,"VILANOVA","VILANOVA",2301.5,{"$f":"IF($S49<>\"\",\"\",IF(AND($E49<=J$1,$B49=\"M\"),MAX(J$2:J48)+1,\"\"))","v":45},{"$f":"IF($S49<>\"\",\"\",IF(AND($E49<=K$1,$B49=\"M\"),MAX(K$2:K48)+1,\"\"))","v":22},{"$f":"IF($S49<>\"\",\"\",IF(AND($E49<=L$1,$B49=\"M\"),MAX(L$2:L48)+1,\"\"))","v":""},{"$f":"IF($S49<>\"\",\"\",IF(AND($E49<=M$1,$B49=\"M\"),MAX(M$2:M48)+1,\"\"))","v":""},{"$f":"IF($S49<>\"\",\"\",IF(AND($E49<=N$1,$B49=\"F\"),MAX(N$2:N48)+1,\"\"))","v":""},{"$f":"IF($S49<>\"\",\"\",IF(AND($E49<=O$1,$B49=\"F\"),MAX(O$2:O48)+1,\"\"))","v":""},{"$f":"IF(AND($S49<>\"\",$S49<>\"No pot jugar individual\"),\"\",IF(AND($F49<=P$1,$B49=\"M\"),MAX(P$2:P48)+1,\"\"))","v":45},{"$f":"IF(AND($S49<>\"\",$S49<>\"No pot jugar individual\"),\"\",IF(AND($F49<=Q$1,$B49=\"M\"),MAX(Q$2:Q48)+1,\"\"))","v":""},{"$f":"IF($S49<>\"\",\"\",IF($F49<=R$1,MAX(R$2:R48)+1,\"\"))","v":""},"",7,0,0,0,"C","B","B","B","B","B","B","B"]
[8249,"M","GUALLAR Pau","JUV-1",4,2,"LLUÏSOS","LLUÏSOS",2265,{"$f":"IF($S50<>\"\",\"\",IF(AND($E50<=J$1,$B50=\"M\"),MAX(J$2:J49)+1,\"\"))","v":46},{"$f":"IF($S50<>\"\",\"\",IF(AND($E50<=K$1,$B50=\"M\"),MAX(K$2:K49)+1,\"\"))","v":""},{"$f":"IF($S50<>\"\",\"\",IF(AND($E50<=L$1,$B50=\"M\"),MAX(L$2:L49)+1,\"\"))","v":""},{"$f":"IF($S50<>\"\",\"\",IF(AND($E50<=M$1,$B50=\"M\"),MAX(M$2:M49)+1,\"\"))","v":""},{"$f":"IF($S50<>\"\",\"\",IF(AND($E50<=N$1,$B50=\"F\"),MAX(N$2:N49)+1,\"\"))","v":""},{"$f":"IF($S50<>\"\",\"\",IF(AND($E50<=O$1,$B50=\"F\"),MAX(O$2:O49)+1,\"\"))","v":""},{"$f":"IF(AND($S50<>\"\",$S50<>\"No pot jugar individual\"),\"\",IF(AND($F50<=P$1,$B50=\"M\"),MAX(P$2:P49)+1,\"\"))","v":46},{"$f":"IF(AND($S50<>\"\",$S50<>\"No pot jugar individual\"),\"\",IF(AND($F50<=Q$1,$B50=\"M\"),MAX(Q$2:Q49)+1,\"\"))","v":""},{"$f":"IF($S50<>\"\",\"\",IF($F50<=R$1,MAX(R$2:R49)+1,\"\"))","v":""},"",7,1,0,0,"C","B","B","B","B","B","C","B",null,null,null,null,null,"BC"]
[7471,"M","MORA Gerard","JUV-1",4,2,"ICELAND ELS 8","ICELAND ELS 8",2264.5,{"$f":"IF($S51<>\"\",\"\",IF(AND($E51<=J$1,$B51=\"M\"),MAX(J$2:J50)+1,\"\"))","v":47},{"$f":"IF($S51<>\"\",\"\",IF(AND($E51<=K$1,$B51=\"M\"),MAX(K$2:K50)+1,\"\"))","v":""},{"$f":"IF($S51<>\"\",\"\",IF(AND($E51<=L$1,$B51=\"M\"),MAX(L$2:L50)+1,\"\"))","v":""},{"$f":"IF($S51<>\"\",\"\",IF(AND($E51<=M$1,$B51=\"M\"),MAX(M$2:M50)+1,\"\"))","v":""},{"$f":"IF($S51<>\"\",\"\",IF(AND($E51<=N$1,$B51=\"F\"),MAX(N$2:N50)+1,\"\"))","v":""},{"$f":"IF($S51<>\"\",\"\",IF(AND($E51<=O$1,$B51=\"F\"),MAX(O$2:O50)+1,\"\"))","v":""},{"$f":"IF(AND($S51<>\"\",$S51<>\"No pot jugar individual\"),\"\",IF(AND($F51<=P$1,$B51=\"M\"),MAX(P$2:P50)+1,\"\"))","v":47},{"$f":"IF(AND($S51<>\"\",$S51<>\"No pot jugar individual\"),\"\",IF(AND($F51<=Q$1,$B51=\"M\"),MAX(Q$2:Q50)+1,\"\"))","v":""},{"$f":"IF($S51<>\"\",\"\",IF($F51<=R$1,MAX(R$2:R50)+1,\"\"))","v":""},"",7,1,0,0,"B","C","C","B","B","B","C","B","BC",null,null,null,null,"BJ"]
[8114,"M","HERRERO Pau","INF-1",3,2,"HOSPIT","HOSPIT",2199.5,{"$f":"IF($S52<>\"\",\"\",IF(AND($E52<=J$1,$B52=\"M\"),MAX(J$2:J51)+1,\"\"))","v":48},{"$f":"IF($S52<>\"\",\"\",IF(AND($E52<=K$1,$B52=\"M\"),MAX(K$2:K51)+1,\"\"))","v":23},{"$f":"IF($S52<>\"\",\"\",IF(AND($E52<=L$1,$B52=\"M\"),MAX(L$2:L51)+1,\"\"))","v":""},{"$f":"IF($S52<>\"\",\"\",IF(AND($E52<=M$1,$B52=\"M\"),MAX(M$2:M51)+1,\"\"))","v":""},{"$f":"IF($S52<>\"\",\"\",IF(AND($E52<=N$1,$B52=\"F\"),MAX(N$2:N51)+1,\"\"))","v":""},{"$f":"IF($S52<>\"\",\"\",IF(AND($E52<=O$1,$B52=\"F\"),MAX(O$2:O51)+1,\"\"))","v":""},{"$f":"IF(AND($S52<>\"\",$S52<>\"No pot jugar individual\"),\"\",IF(AND($F52<=P$1,$B52=\"M\"),MAX(P$2:P51)+1,\"\"))","v":48},{"$f":"IF(AND($S52<>\"\",$S52<>\"No pot jugar individual\"),\"\",IF(AND($F52<=Q$1,$B52=\"M\"),MAX(Q$2:Q51)+1,\"\"))","v":""},{"$f":"IF($S52<>\"\",\"\",IF($F52<=R$1,MAX(R$2:R51)+1,\"\"))","v":""},"",7,0,0,0,"B","B","B","B","B","C","C","C"]
[9164,"M","ROSES Pau","INF-1",3,2,"LLUÏSOS","LLUÏSOS",2119,{"$f":"IF($S53<>\"\",\"\",IF(AND($E53<=J$1,$B53=\"M\"),MAX(J$2:J52)+1,\"\"))","v":49},{"$f":"IF($S53<>\"\",\"\",IF(AND($E53<=K$1,$B53=\"M\"),MAX(K$2:K52)+1,\"\"))","v":24},{"$f":"IF($S53<>\"\",\"\",IF(AND($E53<=L$1,$B53=\"M\"),MAX(L$2:L52)+1,\"\"))","v":""},{"$f":"IF($S53<>\"\",\"\",IF(AND($E53<=M$1,$B53=\"M\"),MAX(M$2:M52)+1,\"\"))","v":""},{"$f":"IF($S53<>\"\",\"\",IF(AND($E53<=N$1,$B53=\"F\"),MAX(N$2:N52)+1,\"\"))","v":""},{"$f":"IF($S53<>\"\",\"\",IF(AND($E53<=O$1,$B53=\"F\"),MAX(O$2:O52)+1,\"\"))","v":""},{"$f":"IF(AND($S53<>\"\",$S53<>\"No pot jugar individual\"),\"\",IF(AND($F53<=P$1,$B53=\"M\"),MAX(P$2:P52)+1,\"\"))","v":49},{"$f":"IF(AND($S53<>\"\",$S53<>\"No pot jugar individual\"),\"\",IF(AND($F53<=Q$1,$B53=\"M\"),MAX(Q$2:Q52)+1,\"\"))","v":""},{"$f":"IF($S53<>\"\",\"\",IF($F53<=R$1,MAX(R$2:R52)+1,\"\"))","v":""},"",7,0,0,0,"C","B","A","B","B","B","C","C",null,null,null,null,null,"BJ"]
[8323,"M","RAIMBAULT Gonzalo","JUV-1",4,2,"CASTELLDEFELS","CASTELLDEFELS",2091.5,{"$f":"IF($S54<>\"\",\"\",IF(AND($E54<=J$1,$B54=\"M\"),MAX(J$2:J53)+1,\"\"))","v":50},{"$f":"IF($S54<>\"\",\"\",IF(AND($E54<=K$1,$B54=\"M\"),MAX(K$2:K53)+1,\"\"))","v":""},{"$f":"IF($S54<>\"\",\"\",IF(AND($E54<=L$1,$B54=\"M\"),MAX(L$2:L53)+1,\"\"))","v":""},{"$f":"IF($S54<>\"\",\"\",IF(AND($E54<=M$1,$B54=\"M\"),MAX(M$2:M53)+1,\"\"))","v":""},{"$f":"IF($S54<>\"\",\"\",IF(AND($E54<=N$1,$B54=\"F\"),MAX(N$2:N53)+1,\"\"))","v":""},{"$f":"IF($S54<>\"\",\"\",IF(AND($E54<=O$1,$B54=\"F\"),MAX(O$2:O53)+1,\"\"))","v":""},{"$f":"IF(AND($S54<>\"\",$S54<>\"No pot jugar individual\"),\"\",IF(AND($F54<=P$1,$B54=\"M\"),MAX(P$2:P53)+1,\"\"))","v":50},{"$f":"IF(AND($S54<>\"\",$S54<>\"No pot jugar individual\"),\"\",IF(AND($F54<=Q$1,$B54=\"M\"),MAX(Q$2:Q53)+1,\"\"))","v":""},{"$f":"IF($S54<>\"\",\"\",IF($F54<=R$1,MAX(R$2:R53)+1,\"\"))","v":""},"",7,0,0,0,"C","C","C","C","C","C","C","B"]
[7542,"M","CUADRADO Gerard","ALE-1",2,1,"ESPARREGU.","ESPARREGU.",2076.1,{"$f":"IF($S55<>\"\",\"\",IF(AND($E55<=J$1,$B55=\"M\"),MAX(J$2:J54)+1,\"\"))","v":51},{"$f":"IF($S55<>\"\",\"\",IF(AND($E55<=K$1,$B55=\"M\"),MAX(K$2:K54)+1,\"\"))","v":25},{"$f":"IF($S55<>\"\",\"\",IF(AND($E55<=L$1,$B55=\"M\"),MAX(L$2:L54)+1,\"\"))","v":5},{"$f":"IF($S55<>\"\",\"\",IF(AND($E55<=M$1,$B55=\"M\"),MAX(M$2:M54)+1,\"\"))","v":""},{"$f":"IF($S55<>\"\",\"\",IF(AND($E55<=N$1,$B55=\"F\"),MAX(N$2:N54)+1,\"\"))","v":""},{"$f":"IF($S55<>\"\",\"\",IF(AND($E55<=O$1,$B55=\"F\"),MAX(O$2:O54)+1,\"\"))","v":""},{"$f":"IF(AND($S55<>\"\",$S55<>\"No pot jugar individual\"),\"\",IF(AND($F55<=P$1,$B55=\"M\"),MAX(P$2:P54)+1,\"\"))","v":51},{"$f":"IF(AND($S55<>\"\",$S55<>\"No pot jugar individual\"),\"\",IF(AND($F55<=Q$1,$B55=\"M\"),MAX(Q$2:Q54)+1,\"\"))","v":5},{"$f":"IF($S55<>\"\",\"\",IF($F55<=R$1,MAX(R$2:R54)+1,\"\"))","v":""},"",7,1,0,0,"D","C","B","B","C","C","B","C",null,null,null,null,"BJ",null,"BC"]
[6841,"M","ALVAREZ Arturo","ALE-2",2,1,"STCUGAT","STCUGAT",2073.5,{"$f":"IF($S56<>\"\",\"\",IF(AND($E56<=J$1,$B56=\"M\"),MAX(J$2:J55)+1,\"\"))","v":52},{"$f":"IF($S56<>\"\",\"\",IF(AND($E56<=K$1,$B56=\"M\"),MAX(K$2:K55)+1,\"\"))","v":26},{"$f":"IF($S56<>\"\",\"\",IF(AND($E56<=L$1,$B56=\"M\"),MAX(L$2:L55)+1,\"\"))","v":6},{"$f":"IF($S56<>\"\",\"\",IF(AND($E56<=M$1,$B56=\"M\"),MAX(M$2:M55)+1,\"\"))","v":""},{"$f":"IF($S56<>\"\",\"\",IF(AND($E56<=N$1,$B56=\"F\"),MAX(N$2:N55)+1,\"\"))","v":""},{"$f":"IF($S56<>\"\",\"\",IF(AND($E56<=O$1,$B56=\"F\"),MAX(O$2:O55)+1,\"\"))","v":""},{"$f":"IF(AND($S56<>\"\",$S56<>\"No pot jugar individual\"),\"\",IF(AND($F56<=P$1,$B56=\"M\"),MAX(P$2:P55)+1,\"\"))","v":52},{"$f":"IF(AND($S56<>\"\",$S56<>\"No pot jugar individual\"),\"\",IF(AND($F56<=Q$1,$B56=\"M\"),MAX(Q$2:Q55)+1,\"\"))","v":6},{"$f":"IF($S56<>\"\",\"\",IF($F56<=R$1,MAX(R$2:R55)+1,\"\"))","v":""},"",7,0,0,0,"C","C","C","C","C","C","C","C"]
[6247,"M","LLORENS Victor","INF-1",3,2,"RIPOLLET","RIPOLLET",1994.3,{"$f":"IF($S57<>\"\",\"\",IF(AND($E57<=J$1,$B57=\"M\"),MAX(J$2:J56)+1,\"\"))","v":53},{"$f":"IF($S57<>\"\",\"\",IF(AND($E57<=K$1,$B57=\"M\"),MAX(K$2:K56)+1,\"\"))","v":27},{"$f":"IF($S57<>\"\",\"\",IF(AND($E57<=L$1,$B57=\"M\"),MAX(L$2:L56)+1,\"\"))","v":""},{"$f":"IF($S57<>\"\",\"\",IF(AND($E57<=M$1,$B57=\"M\"),MAX(M$2:M56)+1,\"\"))","v":""},{"$f":"IF($S57<>\"\",\"\",IF(AND($E57<=N$1,$B57=\"F\"),MAX(N$2:N56)+1,\"\"))","v":""},{"$f":"IF($S57<>\"\",\"\",IF(AND($E57<=O$1,$B57=\"F\"),MAX(O$2:O56)+1,\"\"))","v":""},{"$f":"IF(AND($S57<>\"\",$S57<>\"No pot jugar individual\"),\"\",IF(AND($F57<=P$1,$B57=\"M\"),MAX(P$2:P56)+1,\"\"))","v":53},{"$f":"IF(AND($S57<>\"\",$S57<>\"No pot jugar individual\"),\"\",IF(AND($F57<=Q$1,$B57=\"M\"),MAX(Q$2:Q56)+1,\"\"))","v":""},{"$f":"IF($S57<>\"\",\"\",IF($F57<=R$1,MAX(R$2:R56)+1,\"\"))","v":""},"",7,0,0,0,"D","D","D","D","C","C","B","C"]
[7751,"M","VICENTE Pau","ALE-2",2,1,"RIPOLLET","RIPOLLET",1953,{"$f":"IF($S58<>\"\",\"\",IF(AND($E58<=J$1,$B58=\"M\"),MAX(J$2:J57)+1,\"\"))","v":54},{"$f":"IF($S58<>\"\",\"\",IF(AND($E58<=K$1,$B58=\"M\"),MAX(K$2:K57)+1,\"\"))","v":28},{"$f":"IF($S58<>\"\",\"\",IF(AND($E58<=L$1,$B58=\"M\"),MAX(L$2:L57)+1,\"\"))","v":7},{"$f":"IF($S58<>\"\",\"\",IF(AND($E58<=M$1,$B58=\"M\"),MAX(M$2:M57)+1,\"\"))","v":""},{"$f":"IF($S58<>\"\",\"\",IF(AND($E58<=N$1,$B58=\"F\"),MAX(N$2:N57)+1,\"\"))","v":""},{"$f":"IF($S58<>\"\",\"\",IF(AND($E58<=O$1,$B58=\"F\"),MAX(O$2:O57)+1,\"\"))","v":""},{"$f":"IF(AND($S58<>\"\",$S58<>\"No pot jugar individual\"),\"\",IF(AND($F58<=P$1,$B58=\"M\"),MAX(P$2:P57)+1,\"\"))","v":54},{"$f":"IF(AND($S58<>\"\",$S58<>\"No pot jugar individual\"),\"\",IF(AND($F58<=Q$1,$B58=\"M\"),MAX(Q$2:Q57)+1,\"\"))","v":7},{"$f":"IF($S58<>\"\",\"\",IF($F58<=R$1,MAX(R$2:R57)+1,\"\"))","v":""},"",7,0,0,0,"B","C","B","C","B","C","C","C",null,null,null,null,"BJ"]
[8654,"M","LEONE Tomás","INF-1",3,2,"CALELLA","CALELLA",1935.5,{"$f":"IF($S59<>\"\",\"\",IF(AND($E59<=J$1,$B59=\"M\"),MAX(J$2:J58)+1,\"\"))","v":55},{"$f":"IF($S59<>\"\",\"\",IF(AND($E59<=K$1,$B59=\"M\"),MAX(K$2:K58)+1,\"\"))","v":29},{"$f":"IF($S59<>\"\",\"\",IF(AND($E59<=L$1,$B59=\"M\"),MAX(L$2:L58)+1,\"\"))","v":""},{"$f":"IF($S59<>\"\",\"\",IF(AND($E59<=M$1,$B59=\"M\"),MAX(M$2:M58)+1,\"\"))","v":""},{"$f":"IF($S59<>\"\",\"\",IF(AND($E59<=N$1,$B59=\"F\"),MAX(N$2:N58)+1,\"\"))","v":""},{"$f":"IF($S59<>\"\",\"\",IF(AND($E59<=O$1,$B59=\"F\"),MAX(O$2:O58)+1,\"\"))","v":""},{"$f":"IF(AND($S59<>\"\",$S59<>\"No pot jugar individual\"),\"\",IF(AND($F59<=P$1,$B59=\"M\"),MAX(P$2:P58)+1,\"\"))","v":55},{"$f":"IF(AND($S59<>\"\",$S59<>\"No pot jugar individual\"),\"\",IF(AND($F59<=Q$1,$B59=\"M\"),MAX(Q$2:Q58)+1,\"\"))","v":""},{"$f":"IF($S59<>\"\",\"\",IF($F59<=R$1,MAX(R$2:R58)+1,\"\"))","v":""},"",7,0,0,0,"C","C","B","C","C","C","C","C"]
[11166,"M","MUÑOZ Marc","JUV-1",4,2,"CNSABA","CNSABA",1932.1,{"$f":"IF($S60<>\"\",\"\",IF(AND($E60<=J$1,$B60=\"M\"),MAX(J$2:J59)+1,\"\"))","v":56},{"$f":"IF($S60<>\"\",\"\",IF(AND($E60<=K$1,$B60=\"M\"),MAX(K$2:K59)+1,\"\"))","v":""},{"$f":"IF($S60<>\"\",\"\",IF(AND($E60<=L$1,$B60=\"M\"),MAX(L$2:L59)+1,\"\"))","v":""},{"$f":"IF($S60<>\"\",\"\",IF(AND($E60<=M$1,$B60=\"M\"),MAX(M$2:M59)+1,\"\"))","v":""},{"$f":"IF($S60<>\"\",\"\",IF(AND($E60<=N$1,$B60=\"F\"),MAX(N$2:N59)+1,\"\"))","v":""},{"$f":"IF($S60<>\"\",\"\",IF(AND($E60<=O$1,$B60=\"F\"),MAX(O$2:O59)+1,\"\"))","v":""},{"$f":"IF(AND($S60<>\"\",$S60<>\"No pot jugar individual\"),\"\",IF(AND($F60<=P$1,$B60=\"M\"),MAX(P$2:P59)+1,\"\"))","v":56},{"$f":"IF(AND($S60<>\"\",$S60<>\"No pot jugar individual\"),\"\",IF(AND($F60<=Q$1,$B60=\"M\"),MAX(Q$2:Q59)+1,\"\"))","v":""},{"$f":"IF($S60<>\"\",\"\",IF($F60<=R$1,MAX(R$2:R59)+1,\"\"))","v":""},"",7,0,0,0,"K","K","J","E","D","C","B","A"]
[8089,"M","VILALLONGA Nurjan","ALE-2",2,1,"RIPOLLET","RIPOLLET",1875.5,{"$f":"IF($S61<>\"\",\"\",IF(AND($E61<=J$1,$B61=\"M\"),MAX(J$2:J60)+1,\"\"))","v":57},{"$f":"IF($S61<>\"\",\"\",IF(AND($E61<=K$1,$B61=\"M\"),MAX(K$2:K60)+1,\"\"))","v":30},{"$f":"IF($S61<>\"\",\"\",IF(AND($E61<=L$1,$B61=\"M\"),MAX(L$2:L60)+1,\"\"))","v":8},{"$f":"IF($S61<>\"\",\"\",IF(AND($E61<=M$1,$B61=\"M\"),MAX(M$2:M60)+1,\"\"))","v":""},{"$f":"IF($S61<>\"\",\"\",IF(AND($E61<=N$1,$B61=\"F\"),MAX(N$2:N60)+1,\"\"))","v":""},{"$f":"IF($S61<>\"\",\"\",IF(AND($E61<=O$1,$B61=\"F\"),MAX(O$2:O60)+1,\"\"))","v":""},{"$f":"IF(AND($S61<>\"\",$S61<>\"No pot jugar individual\"),\"\",IF(AND($F61<=P$1,$B61=\"M\"),MAX(P$2:P60)+1,\"\"))","v":57},{"$f":"IF(AND($S61<>\"\",$S61<>\"No pot jugar individual\"),\"\",IF(AND($F61<=Q$1,$B61=\"M\"),MAX(Q$2:Q60)+1,\"\"))","v":8},{"$f":"IF($S61<>\"\",\"\",IF($F61<=R$1,MAX(R$2:R60)+1,\"\"))","v":""},"",7,0,0,0,"B","C","C","C","C","C","C","C"]
[6064,"M","ROS Guillem","INF-1",3,2,"STCUGAT","STCUGAT",1861.15,{"$f":"IF($S62<>\"\",\"\",IF(AND($E62<=J$1,$B62=\"M\"),MAX(J$2:J61)+1,\"\"))","v":58},{"$f":"IF($S62<>\"\",\"\",IF(AND($E62<=K$1,$B62=\"M\"),MAX(K$2:K61)+1,\"\"))","v":31},{"$f":"IF($S62<>\"\",\"\",IF(AND($E62<=L$1,$B62=\"M\"),MAX(L$2:L61)+1,\"\"))","v":""},{"$f":"IF($S62<>\"\",\"\",IF(AND($E62<=M$1,$B62=\"M\"),MAX(M$2:M61)+1,\"\"))","v":""},{"$f":"IF($S62<>\"\",\"\",IF(AND($E62<=N$1,$B62=\"F\"),MAX(N$2:N61)+1,\"\"))","v":""},{"$f":"IF($S62<>\"\",\"\",IF(AND($E62<=O$1,$B62=\"F\"),MAX(O$2:O61)+1,\"\"))","v":""},{"$f":"IF(AND($S62<>\"\",$S62<>\"No pot jugar individual\"),\"\",IF(AND($F62<=P$1,$B62=\"M\"),MAX(P$2:P61)+1,\"\"))","v":58},{"$f":"IF(AND($S62<>\"\",$S62<>\"No pot jugar individual\"),\"\",IF(AND($F62<=Q$1,$B62=\"M\"),MAX(Q$2:Q61)+1,\"\"))","v":""},{"$f":"IF($S62<>\"\",\"\",IF($F62<=R$1,MAX(R$2:R61)+1,\"\"))","v":""},"",7,0,0,0,"F","E","D","C","C","C","C","C"]
[7399,"F","GUTIERREZ Judith","INF-2",3,0,"RIPOLLET","RIPOLLET",1627.1,{"$f":"IF($S63<>\"\",\"\",IF(AND($E63<=J$1,$B63=\"M\"),MAX(J$2:J62)+1,\"\"))","v":""},{"$f":"IF($S63<>\"\",\"\",IF(AND($E63<=K$1,$B63=\"M\"),MAX(K$2:K62)+1,\"\"))","v":""},{"$f":"IF($S63<>\"\",\"\",IF(AND($E63<=L$1,$B63=\"M\"),MAX(L$2:L62)+1,\"\"))","v":""},{"$f":"IF($S63<>\"\",\"\",IF(AND($E63<=M$1,$B63=\"M\"),MAX(M$2:M62)+1,\"\"))","v":""},{"$f":"IF($S63<>\"\",\"\",IF(AND($E63<=N$1,$B63=\"F\"),MAX(N$2:N62)+1,\"\"))","v":3},{"$f":"IF($S63<>\"\",\"\",IF(AND($E63<=O$1,$B63=\"F\"),MAX(O$2:O62)+1,\"\"))","v":""},{"$f":"IF(AND($S63<>\"\",$S63<>\"No pot jugar individual\"),\"\",IF(AND($F63<=P$1,$B63=\"M\"),MAX(P$2:P62)+1,\"\"))","v":""},{"$f":"IF(AND($S63<>\"\",$S63<>\"No pot jugar individual\"),\"\",IF(AND($F63<=Q$1,$B63=\"M\"),MAX(Q$2:Q62)+1,\"\"))","v":""},{"$f":"IF($S63<>\"\",\"\",IF($F63<=R$1,MAX(R$2:R62)+1,\"\"))","v":3},"",7,{"$f":"COUNTIF($AF63:$AL63,U$2)","v":0},0,0,"C","D","C","C","D","D","D","C"]
[8719,"M","WEISZ Adria","INF-2",3,2,"CNSABA","CNSABA",1615.8,{"$f":"IF($S64<>\"\",\"\",IF(AND($E64<=J$1,$B64=\"M\"),MAX(J$2:J63)+1,\"\"))","v":59},{"$f":"IF($S64<>\"\",\"\",IF(AND($E64<=K$1,$B64=\"M\"),MAX(K$2:K63)+1,\"\"))","v":32},{"$f":"IF($S64<>\"\",\"\",IF(AND($E64<=L$1,$B64=\"M\"),MAX(L$2:L63)+1,\"\"))","v":""},{"$f":"IF($S64<>\"\",\"\",IF(AND($E64<=M$1,$B64=\"M\"),MAX(M$2:M63)+1,\"\"))","v":""},{"$f":"IF($S64<>\"\",\"\",IF(AND($E64<=N$1,$B64=\"F\"),MAX(N$2:N63)+1,\"\"))","v":""},{"$f":"IF($S64<>\"\",\"\",IF(AND($E64<=O$1,$B64=\"F\"),MAX(O$2:O63)+1,\"\"))","v":""},{"$f":"IF(AND($S64<>\"\",$S64<>\"No pot jugar individual\"),\"\",IF(AND($F64<=P$1,$B64=\"M\"),MAX(P$2:P63)+1,\"\"))","v":59},{"$f":"IF(AND($S64<>\"\",$S64<>\"No pot jugar individual\"),\"\",IF(AND($F64<=Q$1,$B64=\"M\"),MAX(Q$2:Q63)+1,\"\"))","v":""},{"$f":"IF($S64<>\"\",\"\",IF($F64<=R$1,MAX(R$2:R63)+1,\"\"))","v":""},"",7,1,0,0,"C","D","C","C","C","C","C","C","BC"]
[7755,"M","LLOBET Arnau","ALE-2",2,1,"VIC","VIC",1575.0000000000002,{"$f":"IF($S65<>\"\",\"\",IF(AND($E65<=J$1,$B65=\"M\"),MAX(J$2:J64)+1,\"\"))","v":60},{"$f":"IF($S65<>\"\",\"\",IF(AND($E65<=K$1,$B65=\"M\"),MAX(K$2:K64)+1,\"\"))","v":33},{"$f":"IF($S65<>\"\",\"\",IF(AND($E65<=L$1,$B65=\"M\"),MAX(L$2:L64)+1,\"\"))","v":9},{"$f":"IF($S65<>\"\",\"\",IF(AND($E65<=M$1,$B65=\"M\"),MAX(M$2:M64)+1,\"\"))","v":""},{"$f":"IF($S65<>\"\",\"\",IF(AND($E65<=N$1,$B65=\"F\"),MAX(N$2:N64)+1,\"\"))","v":""},{"$f":"IF($S65<>\"\",\"\",IF(AND($E65<=O$1,$B65=\"F\"),MAX(O$2:O64)+1,\"\"))","v":""},{"$f":"IF(AND($S65<>\"\",$S65<>\"No pot jugar individual\"),\"\",IF(AND($F65<=P$1,$B65=\"M\"),MAX(P$2:P64)+1,\"\"))","v":60},{"$f":"IF(AND($S65<>\"\",$S65<>\"No pot jugar individual\"),\"\",IF(AND($F65<=Q$1,$B65=\"M\"),MAX(Q$2:Q64)+1,\"\"))","v":9},{"$f":"IF($S65<>\"\",\"\",IF($F65<=R$1,MAX(R$2:R64)+1,\"\"))","v":""},"",7,0,0,0,"C","C","B","C","D","D","D","C",null,null,null,null,null,"BJ"]
[9209,"M","MIARONS Arnau","INF-1",3,2,"VIC","VIC",1533.38,{"$f":"IF($S66<>\"\",\"\",IF(AND($E66<=J$1,$B66=\"M\"),MAX(J$2:J65)+1,\"\"))","v":61},{"$f":"IF($S66<>\"\",\"\",IF(AND($E66<=K$1,$B66=\"M\"),MAX(K$2:K65)+1,\"\"))","v":34},{"$f":"IF($S66<>\"\",\"\",IF(AND($E66<=L$1,$B66=\"M\"),MAX(L$2:L65)+1,\"\"))","v":""},{"$f":"IF($S66<>\"\",\"\",IF(AND($E66<=M$1,$B66=\"M\"),MAX(M$2:M65)+1,\"\"))","v":""},{"$f":"IF($S66<>\"\",\"\",IF(AND($E66<=N$1,$B66=\"F\"),MAX(N$2:N65)+1,\"\"))","v":""},{"$f":"IF($S66<>\"\",\"\",IF(AND($E66<=O$1,$B66=\"F\"),MAX(O$2:O65)+1,\"\"))","v":""},{"$f":"IF(AND($S66<>\"\",$S66<>\"No pot jugar individual\"),\"\",IF(AND($F66<=P$1,$B66=\"M\"),MAX(P$2:P65)+1,\"\"))","v":61},{"$f":"IF(AND($S66<>\"\",$S66<>\"No pot jugar individual\"),\"\",IF(AND($F66<=Q$1,$B66=\"M\"),MAX(Q$2:Q65)+1,\"\"))","v":""},{"$f":"IF($S66<>\"\",\"\",IF($F66<=R$1,MAX(R$2:R65)+1,\"\"))","v":""},"",7,0,0,0,"E","D","D","C","D","C","C","C"]
[8031,"M","MARCELLO Manuel","JUV-2",{"$f":"IF(LEFT(D67,1)=\"P\",1,IF(LEFT(D67,1)=\"B\",1,IF(LEFT(D67,1)=\"A\",2,IF(LEFT(D67,1)=\"I\",3,4))))","v":4},{"$f":"IF(B67=\"F\",0,IF(LEFT(D67,1)=\"P\",1,IF(LEFT(D67,1)=\"B\",1,IF(LEFT(D67,1)=\"A\",1,IF(LEFT(D67,1)=\"I\",2,2)))))","v":2},"ICELAND ELS 8","ICELAND ELS 8",1399.8,{"$f":"IF($S67<>\"\",\"\",IF(AND($E67<=J$1,$B67=\"M\"),MAX(J$2:J66)+1,\"\"))","v":62},{"$f":"IF($S67<>\"\",\"\",IF(AND($E67<=K$1,$B67=\"M\"),MAX(K$2:K66)+1,\"\"))","v":""},{"$f":"IF($S67<>\"\",\"\",IF(AND($E67<=L$1,$B67=\"M\"),MAX(L$2:L66)+1,\"\"))","v":""},{"$f":"IF($S67<>\"\",\"\",IF(AND($E67<=M$1,$B67=\"M\"),MAX(M$2:M66)+1,\"\"))","v":""},{"$f":"IF($S67<>\"\",\"\",IF(AND($E67<=N$1,$B67=\"F\"),MAX(N$2:N66)+1,\"\"))","v":""},{"$f":"IF($S67<>\"\",\"\",IF(AND($E67<=O$1,$B67=\"F\"),MAX(O$2:O66)+1,\"\"))","v":""},{"$f":"IF(AND($S67<>\"\",$S67<>\"No pot jugar individual\"),\"\",IF(AND($F67<=P$1,$B67=\"M\"),MAX(P$2:P66)+1,\"\"))","v":62},{"$f":"IF(AND($S67<>\"\",$S67<>\"No pot jugar individual\"),\"\",IF(AND($F67<=Q$1,$B67=\"M\"),MAX(Q$2:Q66)+1,\"\"))","v":""},{"$f":"IF($S67<>\"\",\"\",IF($F67<=R$1,MAX(R$2:R66)+1,\"\"))","v":""},{"$f":"IF(1=1,\"\",IF(W67<>0,\"No pot jugar\",IF(OR(AE67=\"Y\",AE67=\"Z\",G67=\"INDEPEN\",G67=\"R.ELISENDA\"),\"No pot jugar\",IF(T67-U67-V67-W67=0,IF(V67<>0,\"No pot jugar\",IF(AND(B67=\"M\",OR(G67=\"INDEPEN\",G67=\"R.ELISENDA\")),\"No pot jugar individual\",\"\")),IF(AND(B67=\"M\",OR(G67=\"INDEPEN\",G67=\"R.ELISENDA\")),\"No pot jugar individual\",\"\")))))","v":""},{"$f":"7-COUNTBLANK(X67:AD67)","v":7},1,0,0,"B","C","D","C","C","C","D","D",null,null,null,null,null,"BC"]
[7933,"M","MORENO Alex","BEN-2",1,1,"INDEPEN","INDEPEN",1389,{"$f":"IF($S68<>\"\",\"\",IF(AND($E68<=J$1,$B68=\"M\"),MAX(J$2:J67)+1,\"\"))","v":63},{"$f":"IF($S68<>\"\",\"\",IF(AND($E68<=K$1,$B68=\"M\"),MAX(K$2:K67)+1,\"\"))","v":35},{"$f":"IF($S68<>\"\",\"\",IF(AND($E68<=L$1,$B68=\"M\"),MAX(L$2:L67)+1,\"\"))","v":10},{"$f":"IF($S68<>\"\",\"\",IF(AND($E68<=M$1,$B68=\"M\"),MAX(M$2:M67)+1,\"\"))","v":1},{"$f":"IF($S68<>\"\",\"\",IF(AND($E68<=N$1,$B68=\"F\"),MAX(N$2:N67)+1,\"\"))","v":""},{"$f":"IF($S68<>\"\",\"\",IF(AND($E68<=O$1,$B68=\"F\"),MAX(O$2:O67)+1,\"\"))","v":""},{"$f":"IF(AND($S68<>\"\",$S68<>\"No pot jugar individual\"),\"\",IF(AND($F68<=P$1,$B68=\"M\"),MAX(P$2:P67)+1,\"\"))","v":63},{"$f":"IF(AND($S68<>\"\",$S68<>\"No pot jugar individual\"),\"\",IF(AND($F68<=Q$1,$B68=\"M\"),MAX(Q$2:Q67)+1,\"\"))","v":10},{"$f":"IF($S68<>\"\",\"\",IF($F68<=R$1,MAX(R$2:R67)+1,\"\"))","v":""},"",7,0,0,0,"C","D","D","C","C","C","C","C",null,null,null,null,null,null,"BJ"]
[10177,"M","GARRIDO Martí","ALE-1",2,1,"VIC","VIC",1376.7,{"$f":"IF($S69<>\"\",\"\",IF(AND($E69<=J$1,$B69=\"M\"),MAX(J$2:J68)+1,\"\"))","v":64},{"$f":"IF($S69<>\"\",\"\",IF(AND($E69<=K$1,$B69=\"M\"),MAX(K$2:K68)+1,\"\"))","v":36},{"$f":"IF($S69<>\"\",\"\",IF(AND($E69<=L$1,$B69=\"M\"),MAX(L$2:L68)+1,\"\"))","v":11},{"$f":"IF($S69<>\"\",\"\",IF(AND($E69<=M$1,$B69=\"M\"),MAX(M$2:M68)+1,\"\"))","v":""},{"$f":"IF($S69<>\"\",\"\",IF(AND($E69<=N$1,$B69=\"F\"),MAX(N$2:N68)+1,\"\"))","v":""},{"$f":"IF($S69<>\"\",\"\",IF(AND($E69<=O$1,$B69=\"F\"),MAX(O$2:O68)+1,\"\"))","v":""},{"$f":"IF(AND($S69<>\"\",$S69<>\"No pot jugar individual\"),\"\",IF(AND($F69<=P$1,$B69=\"M\"),MAX(P$2:P68)+1,\"\"))","v":64},{"$f":"IF(AND($S69<>\"\",$S69<>\"No pot jugar individual\"),\"\",IF(AND($F69<=Q$1,$B69=\"M\"),MAX(Q$2:Q68)+1,\"\"))","v":11},{"$f":"IF($S69<>\"\",\"\",IF($F69<=R$1,MAX(R$2:R68)+1,\"\"))","v":""},"",7,1,0,0,"F","E","D","C","C","D","C","D",null,null,null,null,"BC",null,"BJ"]
[9172,"M","GALLARDO Abel","JUV-1",4,2,"LLUÏSOS","LLUÏSOS",1351.85,{"$f":"IF($S70<>\"\",\"\",IF(AND($E70<=J$1,$B70=\"M\"),MAX(J$2:J69)+1,\"\"))","v":65},{"$f":"IF($S70<>\"\",\"\",IF(AND($E70<=K$1,$B70=\"M\"),MAX(K$2:K69)+1,\"\"))","v":""},{"$f":"IF($S70<>\"\",\"\",IF(AND($E70<=L$1,$B70=\"M\"),MAX(L$2:L69)+1,\"\"))","v":""},{"$f":"IF($S70<>\"\",\"\",IF(AND($E70<=M$1,$B70=\"M\"),MAX(M$2:M69)+1,\"\"))","v":""},{"$f":"IF($S70<>\"\",\"\",IF(AND($E70<=N$1,$B70=\"F\"),MAX(N$2:N69)+1,\"\"))","v":""},{"$f":"IF($S70<>\"\",\"\",IF(AND($E70<=O$1,$B70=\"F\"),MAX(O$2:O69)+1,\"\"))","v":""},{"$f":"IF(AND($S70<>\"\",$S70<>\"No pot jugar individual\"),\"\",IF(AND($F70<=P$1,$B70=\"M\"),MAX(P$2:P69)+1,\"\"))","v":65},{"$f":"IF(AND($S70<>\"\",$S70<>\"No pot jugar individual\"),\"\",IF(AND($F70<=Q$1,$B70=\"M\"),MAX(Q$2:Q69)+1,\"\"))","v":""},{"$f":"IF($S70<>\"\",\"\",IF($F70<=R$1,MAX(R$2:R69)+1,\"\"))","v":""},"",7,1,0,0,"K","J","E","D","C","B","C","C",null,null,null,null,null,"BC"]
[8254,"M","VENDRELL Marc","INF-2",3,2,"LLUÏSOS","LLUÏSOS",1342.6999999999998,{"$f":"IF($S71<>\"\",\"\",IF(AND($E71<=J$1,$B71=\"M\"),MAX(J$2:J70)+1,\"\"))","v":66},{"$f":"IF($S71<>\"\",\"\",IF(AND($E71<=K$1,$B71=\"M\"),MAX(K$2:K70)+1,\"\"))","v":37},{"$f":"IF($S71<>\"\",\"\",IF(AND($E71<=L$1,$B71=\"M\"),MAX(L$2:L70)+1,\"\"))","v":""},{"$f":"IF($S71<>\"\",\"\",IF(AND($E71<=M$1,$B71=\"M\"),MAX(M$2:M70)+1,\"\"))","v":""},{"$f":"IF($S71<>\"\",\"\",IF(AND($E71<=N$1,$B71=\"F\"),MAX(N$2:N70)+1,\"\"))","v":""},{"$f":"IF($S71<>\"\",\"\",IF(AND($E71<=O$1,$B71=\"F\"),MAX(O$2:O70)+1,\"\"))","v":""},{"$f":"IF(AND($S71<>\"\",$S71<>\"No pot jugar individual\"),\"\",IF(AND($F71<=P$1,$B71=\"M\"),MAX(P$2:P70)+1,\"\"))","v":66},{"$f":"IF(AND($S71<>\"\",$S71<>\"No pot jugar individual\"),\"\",IF(AND($F71<=Q$1,$B71=\"M\"),MAX(Q$2:Q70)+1,\"\"))","v":""},{"$f":"IF($S71<>\"\",\"\",IF($F71<=R$1,MAX(R$2:R70)+1,\"\"))","v":""},"",7,0,0,0,"C","D","C","D","D","D","C","C"]
[7810,"M","SILVESTRE Xavier","JUV-2",4,2,"VILAFRANCA","VILAFRANCA",1327.75,{"$f":"IF($S72<>\"\",\"\",IF(AND($E72<=J$1,$B72=\"M\"),MAX(J$2:J71)+1,\"\"))","v":67},{"$f":"IF($S72<>\"\",\"\",IF(AND($E72<=K$1,$B72=\"M\"),MAX(K$2:K71)+1,\"\"))","v":""},{"$f":"IF($S72<>\"\",\"\",IF(AND($E72<=L$1,$B72=\"M\"),MAX(L$2:L71)+1,\"\"))","v":""},{"$f":"IF($S72<>\"\",\"\",IF(AND($E72<=M$1,$B72=\"M\"),MAX(M$2:M71)+1,\"\"))","v":""},{"$f":"IF($S72<>\"\",\"\",IF(AND($E72<=N$1,$B72=\"F\"),MAX(N$2:N71)+1,\"\"))","v":""},{"$f":"IF($S72<>\"\",\"\",IF(AND($E72<=O$1,$B72=\"F\"),MAX(O$2:O71)+1,\"\"))","v":""},{"$f":"IF(AND($S72<>\"\",$S72<>\"No pot jugar individual\"),\"\",IF(AND($F72<=P$1,$B72=\"M\"),MAX(P$2:P71)+1,\"\"))","v":67},{"$f":"IF(AND($S72<>\"\",$S72<>\"No pot jugar individual\"),\"\",IF(AND($F72<=Q$1,$B72=\"M\"),MAX(Q$2:Q71)+1,\"\"))","v":""},{"$f":"IF($S72<>\"\",\"\",IF($F72<=R$1,MAX(R$2:R71)+1,\"\"))","v":""},"",6,0,0,0,null,"E","D","D","E","D","C","C",null,null,null,"PI"]
[9026,"M","MORENO Pol","ALE-2",2,1,"RIPOLLET","RIPOLLET",1324.7,{"$f":"IF($S73<>\"\",\"\",IF(AND($E73<=J$1,$B73=\"M\"),MAX(J$2:J72)+1,\"\"))","v":68},{"$f":"IF($S73<>\"\",\"\",IF(AND($E73<=K$1,$B73=\"M\"),MAX(K$2:K72)+1,\"\"))","v":38},{"$f":"IF($S73<>\"\",\"\",IF(AND($E73<=L$1,$B73=\"M\"),MAX(L$2:L72)+1,\"\"))","v":12},{"$f":"IF($S73<>\"\",\"\",IF(AND($E73<=M$1,$B73=\"M\"),MAX(M$2:M72)+1,\"\"))","v":""},{"$f":"IF($S73<>\"\",\"\",IF(AND($E73<=N$1,$B73=\"F\"),MAX(N$2:N72)+1,\"\"))","v":""},{"$f":"IF($S73<>\"\",\"\",IF(AND($E73<=O$1,$B73=\"F\"),MAX(O$2:O72)+1,\"\"))","v":""},{"$f":"IF(AND($S73<>\"\",$S73<>\"No pot jugar individual\"),\"\",IF(AND($F73<=P$1,$B73=\"M\"),MAX(P$2:P72)+1,\"\"))","v":68},{"$f":"IF(AND($S73<>\"\",$S73<>\"No pot jugar individual\"),\"\",IF(AND($F73<=Q$1,$B73=\"M\"),MAX(Q$2:Q72)+1,\"\"))","v":12},{"$f":"IF($S73<>\"\",\"\",IF($F73<=R$1,MAX(R$2:R72)+1,\"\"))","v":""},"",7,0,0,0,"D","C","D","D","C","C","D","D"]
[5955,"F","MUNNE Mariona","ALE-1",2,0,"STCUGAT","STCUGAT",1311.8,{"$f":"IF($S74<>\"\",\"\",IF(AND($E74<=J$1,$B74=\"M\"),MAX(J$2:J73)+1,\"\"))","v":""},{"$f":"IF($S74<>\"\",\"\",IF(AND($E74<=K$1,$B74=\"M\"),MAX(K$2:K73)+1,\"\"))","v":""},{"$f":"IF($S74<>\"\",\"\",IF(AND($E74<=L$1,$B74=\"M\"),MAX(L$2:L73)+1,\"\"))","v":""},{"$f":"IF($S74<>\"\",\"\",IF(AND($E74<=M$1,$B74=\"M\"),MAX(M$2:M73)+1,\"\"))","v":""},{"$f":"IF($S74<>\"\",\"\",IF(AND($E74<=N$1,$B74=\"F\"),MAX(N$2:N73)+1,\"\"))","v":4},{"$f":"IF($S74<>\"\",\"\",IF(AND($E74<=O$1,$B74=\"F\"),MAX(O$2:O73)+1,\"\"))","v":2},{"$f":"IF(AND($S74<>\"\",$S74<>\"No pot jugar individual\"),\"\",IF(AND($F74<=P$1,$B74=\"M\"),MAX(P$2:P73)+1,\"\"))","v":""},{"$f":"IF(AND($S74<>\"\",$S74<>\"No pot jugar individual\"),\"\",IF(AND($F74<=Q$1,$B74=\"M\"),MAX(Q$2:Q73)+1,\"\"))","v":""},{"$f":"IF($S74<>\"\",\"\",IF($F74<=R$1,MAX(R$2:R73)+1,\"\"))","v":4},"",7,0,0,0,"E","F","E","D","C","C","C","D","BJ",null,null,null,null,null,"BJ"]
[7799,"M","ROJO Ivan","JUV-1",4,2,"EUROCLIMA BDN","EUROCLIMA BDN",1277.9000000000001,{"$f":"IF($S75<>\"\",\"\",IF(AND($E75<=J$1,$B75=\"M\"),MAX(J$2:J74)+1,\"\"))","v":69},{"$f":"IF($S75<>\"\",\"\",IF(AND($E75<=K$1,$B75=\"M\"),MAX(K$2:K74)+1,\"\"))","v":""},{"$f":"IF($S75<>\"\",\"\",IF(AND($E75<=L$1,$B75=\"M\"),MAX(L$2:L74)+1,\"\"))","v":""},{"$f":"IF($S75<>\"\",\"\",IF(AND($E75<=M$1,$B75=\"M\"),MAX(M$2:M74)+1,\"\"))","v":""},{"$f":"IF($S75<>\"\",\"\",IF(AND($E75<=N$1,$B75=\"F\"),MAX(N$2:N74)+1,\"\"))","v":""},{"$f":"IF($S75<>\"\",\"\",IF(AND($E75<=O$1,$B75=\"F\"),MAX(O$2:O74)+1,\"\"))","v":""},{"$f":"IF(AND($S75<>\"\",$S75<>\"No pot jugar individual\"),\"\",IF(AND($F75<=P$1,$B75=\"M\"),MAX(P$2:P74)+1,\"\"))","v":69},{"$f":"IF(AND($S75<>\"\",$S75<>\"No pot jugar individual\"),\"\",IF(AND($F75<=Q$1,$B75=\"M\"),MAX(Q$2:Q74)+1,\"\"))","v":""},{"$f":"IF($S75<>\"\",\"\",IF($F75<=R$1,MAX(R$2:R74)+1,\"\"))","v":""},"",7,0,0,0,"D","D","D","D","D","D","C","C"]
[8877,"M","VELEZ Oriol","JUV-1",4,2,"LLUÏSOS","LLUÏSOS",1195.0999999999999,{"$f":"IF($S76<>\"\",\"\",IF(AND($E76<=J$1,$B76=\"M\"),MAX(J$2:J75)+1,\"\"))","v":70},{"$f":"IF($S76<>\"\",\"\",IF(AND($E76<=K$1,$B76=\"M\"),MAX(K$2:K75)+1,\"\"))","v":""},{"$f":"IF($S76<>\"\",\"\",IF(AND($E76<=L$1,$B76=\"M\"),MAX(L$2:L75)+1,\"\"))","v":""},{"$f":"IF($S76<>\"\",\"\",IF(AND($E76<=M$1,$B76=\"M\"),MAX(M$2:M75)+1,\"\"))","v":""},{"$f":"IF($S76<>\"\",\"\",IF(AND($E76<=N$1,$B76=\"F\"),MAX(N$2:N75)+1,\"\"))","v":""},{"$f":"IF($S76<>\"\",\"\",IF(AND($E76<=O$1,$B76=\"F\"),MAX(O$2:O75)+1,\"\"))","v":""},{"$f":"IF(AND($S76<>\"\",$S76<>\"No pot jugar individual\"),\"\",IF(AND($F76<=P$1,$B76=\"M\"),MAX(P$2:P75)+1,\"\"))","v":70},{"$f":"IF(AND($S76<>\"\",$S76<>\"No pot jugar individual\"),\"\",IF(AND($F76<=Q$1,$B76=\"M\"),MAX(Q$2:Q75)+1,\"\"))","v":""},{"$f":"IF($S76<>\"\",\"\",IF($F76<=R$1,MAX(R$2:R75)+1,\"\"))","v":""},"",7,0,0,0,"D","D","C","D","C","D","D","D"]
[7759,"M","NOTARIO Guillem","ALE-2",2,1,"SALLENT","SALLENT",1181.6500000000001,{"$f":"IF($S77<>\"\",\"\",IF(AND($E77<=J$1,$B77=\"M\"),MAX(J$2:J76)+1,\"\"))","v":71},{"$f":"IF($S77<>\"\",\"\",IF(AND($E77<=K$1,$B77=\"M\"),MAX(K$2:K76)+1,\"\"))","v":39},{"$f":"IF($S77<>\"\",\"\",IF(AND($E77<=L$1,$B77=\"M\"),MAX(L$2:L76)+1,\"\"))","v":13},{"$f":"IF($S77<>\"\",\"\",IF(AND($E77<=M$1,$B77=\"M\"),MAX(M$2:M76)+1,\"\"))","v":""},{"$f":"IF($S77<>\"\",\"\",IF(AND($E77<=N$1,$B77=\"F\"),MAX(N$2:N76)+1,\"\"))","v":""},{"$f":"IF($S77<>\"\",\"\",IF(AND($E77<=O$1,$B77=\"F\"),MAX(O$2:O76)+1,\"\"))","v":""},{"$f":"IF(AND($S77<>\"\",$S77<>\"No pot jugar individual\"),\"\",IF(AND($F77<=P$1,$B77=\"M\"),MAX(P$2:P76)+1,\"\"))","v":71},{"$f":"IF(AND($S77<>\"\",$S77<>\"No pot jugar individual\"),\"\",IF(AND($F77<=Q$1,$B77=\"M\"),MAX(Q$2:Q76)+1,\"\"))","v":13},{"$f":"IF($S77<>\"\",\"\",IF($F77<=R$1,MAX(R$2:R76)+1,\"\"))","v":""},"",7,0,0,0,"C","C","D","E","E","D","D","C",null,"BJ","BJ"]
[8592,"F","LARRUBIA Raquel","ALE-1",2,0,"VIC","VIC",1161.2,{"$f":"IF($S78<>\"\",\"\",IF(AND($E78<=J$1,$B78=\"M\"),MAX(J$2:J77)+1,\"\"))","v":""},{"$f":"IF($S78<>\"\",\"\",IF(AND($E78<=K$1,$B78=\"M\"),MAX(K$2:K77)+1,\"\"))","v":""},{"$f":"IF($S78<>\"\",\"\",IF(AND($E78<=L$1,$B78=\"M\"),MAX(L$2:L77)+1,\"\"))","v":""},{"$f":"IF($S78<>\"\",\"\",IF(AND($E78<=M$1,$B78=\"M\"),MAX(M$2:M77)+1,\"\"))","v":""},{"$f":"IF($S78<>\"\",\"\",IF(AND($E78<=N$1,$B78=\"F\"),MAX(N$2:N77)+1,\"\"))","v":5},{"$f":"IF($S78<>\"\",\"\",IF(AND($E78<=O$1,$B78=\"F\"),MAX(O$2:O77)+1,\"\"))","v":3},{"$f":"IF(AND($S78<>\"\",$S78<>\"No pot jugar individual\"),\"\",IF(AND($F78<=P$1,$B78=\"M\"),MAX(P$2:P77)+1,\"\"))","v":""},{"$f":"IF(AND($S78<>\"\",$S78<>\"No pot jugar individual\"),\"\",IF(AND($F78<=Q$1,$B78=\"M\"),MAX(Q$2:Q77)+1,\"\"))","v":""},{"$f":"IF($S78<>\"\",\"\",IF($F78<=R$1,MAX(R$2:R77)+1,\"\"))","v":5},"",7,0,0,0,"D","C","C","C","C","C","D","D",null,null,"BJ",null,null,"BJ","BJ"]
[8085,"M","RAMIREZ Sergi","JUV-1",4,2,"VILANOVA","VILANOVA",1151.0999999999999,{"$f":"IF($S79<>\"\",\"\",IF(AND($E79<=J$1,$B79=\"M\"),MAX(J$2:J78)+1,\"\"))","v":72},{"$f":"IF($S79<>\"\",\"\",IF(AND($E79<=K$1,$B79=\"M\"),MAX(K$2:K78)+1,\"\"))","v":""},{"$f":"IF($S79<>\"\",\"\",IF(AND($E79<=L$1,$B79=\"M\"),MAX(L$2:L78)+1,\"\"))","v":""},{"$f":"IF($S79<>\"\",\"\",IF(AND($E79<=M$1,$B79=\"M\"),MAX(M$2:M78)+1,\"\"))","v":""},{"$f":"IF($S79<>\"\",\"\",IF(AND($E79<=N$1,$B79=\"F\"),MAX(N$2:N78)+1,\"\"))","v":""},{"$f":"IF($S79<>\"\",\"\",IF(AND($E79<=O$1,$B79=\"F\"),MAX(O$2:O78)+1,\"\"))","v":""},{"$f":"IF(AND($S79<>\"\",$S79<>\"No pot jugar individual\"),\"\",IF(AND($F79<=P$1,$B79=\"M\"),MAX(P$2:P78)+1,\"\"))","v":72},{"$f":"IF(AND($S79<>\"\",$S79<>\"No pot jugar individual\"),\"\",IF(AND($F79<=Q$1,$B79=\"M\"),MAX(Q$2:Q78)+1,\"\"))","v":""},{"$f":"IF($S79<>\"\",\"\",IF($F79<=R$1,MAX(R$2:R78)+1,\"\"))","v":""},"",7,0,0,0,"B","C","C","C","C","D","C","D","BJ",null,null,"BJ","BJ",null,"BJ"]
[8863,"M","GIL Marcel","JUV-1",4,2,"LLUÏSOS","LLUÏSOS",1119.5,{"$f":"IF($S80<>\"\",\"\",IF(AND($E80<=J$1,$B80=\"M\"),MAX(J$2:J79)+1,\"\"))","v":73},{"$f":"IF($S80<>\"\",\"\",IF(AND($E80<=K$1,$B80=\"M\"),MAX(K$2:K79)+1,\"\"))","v":""},{"$f":"IF($S80<>\"\",\"\",IF(AND($E80<=L$1,$B80=\"M\"),MAX(L$2:L79)+1,\"\"))","v":""},{"$f":"IF($S80<>\"\",\"\",IF(AND($E80<=M$1,$B80=\"M\"),MAX(M$2:M79)+1,\"\"))","v":""},{"$f":"IF($S80<>\"\",\"\",IF(AND($E80<=N$1,$B80=\"F\"),MAX(N$2:N79)+1,\"\"))","v":""},{"$f":"IF($S80<>\"\",\"\",IF(AND($E80<=O$1,$B80=\"F\"),MAX(O$2:O79)+1,\"\"))","v":""},{"$f":"IF(AND($S80<>\"\",$S80<>\"No pot jugar individual\"),\"\",IF(AND($F80<=P$1,$B80=\"M\"),MAX(P$2:P79)+1,\"\"))","v":73},{"$f":"IF(AND($S80<>\"\",$S80<>\"No pot jugar individual\"),\"\",IF(AND($F80<=Q$1,$B80=\"M\"),MAX(Q$2:Q79)+1,\"\"))","v":""},{"$f":"IF($S80<>\"\",\"\",IF($F80<=R$1,MAX(R$2:R79)+1,\"\"))","v":""},"",7,0,0,0,"C","D","D","D","D","D","D","D"]
[8974,"M","FERNANDEZ Oriol","ALE-1",2,1,"HOSPIT","HOSPIT",1109.1799999999998,{"$f":"IF($S81<>\"\",\"\",IF(AND($E81<=J$1,$B81=\"M\"),MAX(J$2:J80)+1,\"\"))","v":74},{"$f":"IF($S81<>\"\",\"\",IF(AND($E81<=K$1,$B81=\"M\"),MAX(K$2:K80)+1,\"\"))","v":40},{"$f":"IF($S81<>\"\",\"\",IF(AND($E81<=L$1,$B81=\"M\"),MAX(L$2:L80)+1,\"\"))","v":14},{"$f":"IF($S81<>\"\",\"\",IF(AND($E81<=M$1,$B81=\"M\"),MAX(M$2:M80)+1,\"\"))","v":""},{"$f":"IF($S81<>\"\",\"\",IF(AND($E81<=N$1,$B81=\"F\"),MAX(N$2:N80)+1,\"\"))","v":""},{"$f":"IF($S81<>\"\",\"\",IF(AND($E81<=O$1,$B81=\"F\"),MAX(O$2:O80)+1,\"\"))","v":""},{"$f":"IF(AND($S81<>\"\",$S81<>\"No pot jugar individual\"),\"\",IF(AND($F81<=P$1,$B81=\"M\"),MAX(P$2:P80)+1,\"\"))","v":74},{"$f":"IF(AND($S81<>\"\",$S81<>\"No pot jugar individual\"),\"\",IF(AND($F81<=Q$1,$B81=\"M\"),MAX(Q$2:Q80)+1,\"\"))","v":14},{"$f":"IF($S81<>\"\",\"\",IF($F81<=R$1,MAX(R$2:R80)+1,\"\"))","v":""},"",7,0,0,0,"D","D","E","E","D","D","D","D"]
[8876,"M","MUÑOZ Eloi","INF-2",3,2,"LLUÏSOS","LLUÏSOS",1101.25,{"$f":"IF($S82<>\"\",\"\",IF(AND($E82<=J$1,$B82=\"M\"),MAX(J$2:J81)+1,\"\"))","v":75},{"$f":"IF($S82<>\"\",\"\",IF(AND($E82<=K$1,$B82=\"M\"),MAX(K$2:K81)+1,\"\"))","v":41},{"$f":"IF($S82<>\"\",\"\",IF(AND($E82<=L$1,$B82=\"M\"),MAX(L$2:L81)+1,\"\"))","v":""},{"$f":"IF($S82<>\"\",\"\",IF(AND($E82<=M$1,$B82=\"M\"),MAX(M$2:M81)+1,\"\"))","v":""},{"$f":"IF($S82<>\"\",\"\",IF(AND($E82<=N$1,$B82=\"F\"),MAX(N$2:N81)+1,\"\"))","v":""},{"$f":"IF($S82<>\"\",\"\",IF(AND($E82<=O$1,$B82=\"F\"),MAX(O$2:O81)+1,\"\"))","v":""},{"$f":"IF(AND($S82<>\"\",$S82<>\"No pot jugar individual\"),\"\",IF(AND($F82<=P$1,$B82=\"M\"),MAX(P$2:P81)+1,\"\"))","v":75},{"$f":"IF(AND($S82<>\"\",$S82<>\"No pot jugar individual\"),\"\",IF(AND($F82<=Q$1,$B82=\"M\"),MAX(Q$2:Q81)+1,\"\"))","v":""},{"$f":"IF($S82<>\"\",\"\",IF($F82<=R$1,MAX(R$2:R81)+1,\"\"))","v":""},"",7,0,0,0,"D","E","E","D","D","D","D","E"]
[9025,"M","RICART Roger","ALE-2",2,1,"RIPOLLET","RIPOLLET",1095.6300000000001,{"$f":"IF($S83<>\"\",\"\",IF(AND($E83<=J$1,$B83=\"M\"),MAX(J$2:J82)+1,\"\"))","v":76},{"$f":"IF($S83<>\"\",\"\",IF(AND($E83<=K$1,$B83=\"M\"),MAX(K$2:K82)+1,\"\"))","v":42},{"$f":"IF($S83<>\"\",\"\",IF(AND($E83<=L$1,$B83=\"M\"),MAX(L$2:L82)+1,\"\"))","v":15},{"$f":"IF($S83<>\"\",\"\",IF(AND($E83<=M$1,$B83=\"M\"),MAX(M$2:M82)+1,\"\"))","v":""},{"$f":"IF($S83<>\"\",\"\",IF(AND($E83<=N$1,$B83=\"F\"),MAX(N$2:N82)+1,\"\"))","v":""},{"$f":"IF($S83<>\"\",\"\",IF(AND($E83<=O$1,$B83=\"F\"),MAX(O$2:O82)+1,\"\"))","v":""},{"$f":"IF(AND($S83<>\"\",$S83<>\"No pot jugar individual\"),\"\",IF(AND($F83<=P$1,$B83=\"M\"),MAX(P$2:P82)+1,\"\"))","v":76},{"$f":"IF(AND($S83<>\"\",$S83<>\"No pot jugar individual\"),\"\",IF(AND($F83<=Q$1,$B83=\"M\"),MAX(Q$2:Q82)+1,\"\"))","v":15},{"$f":"IF($S83<>\"\",\"\",IF($F83<=R$1,MAX(R$2:R82)+1,\"\"))","v":""},"",7,{"$f":"COUNTIF($AF83:$AL83,U$2)","v":0},0,0,"E","D","D","C","D","D","D","D"]
[10286,"M","RUESCAS David","INF-2",3,2,"EUROCLIMA BDN","EUROCLIMA BDN",1078.5999999999999,{"$f":"IF($S84<>\"\",\"\",IF(AND($E84<=J$1,$B84=\"M\"),MAX(J$2:J83)+1,\"\"))","v":77},{"$f":"IF($S84<>\"\",\"\",IF(AND($E84<=K$1,$B84=\"M\"),MAX(K$2:K83)+1,\"\"))","v":43},{"$f":"IF($S84<>\"\",\"\",IF(AND($E84<=L$1,$B84=\"M\"),MAX(L$2:L83)+1,\"\"))","v":""},{"$f":"IF($S84<>\"\",\"\",IF(AND($E84<=M$1,$B84=\"M\"),MAX(M$2:M83)+1,\"\"))","v":""},{"$f":"IF($S84<>\"\",\"\",IF(AND($E84<=N$1,$B84=\"F\"),MAX(N$2:N83)+1,\"\"))","v":""},{"$f":"IF($S84<>\"\",\"\",IF(AND($E84<=O$1,$B84=\"F\"),MAX(O$2:O83)+1,\"\"))","v":""},{"$f":"IF(AND($S84<>\"\",$S84<>\"No pot jugar individual\"),\"\",IF(AND($F84<=P$1,$B84=\"M\"),MAX(P$2:P83)+1,\"\"))","v":77},{"$f":"IF(AND($S84<>\"\",$S84<>\"No pot jugar individual\"),\"\",IF(AND($F84<=Q$1,$B84=\"M\"),MAX(Q$2:Q83)+1,\"\"))","v":""},{"$f":"IF($S84<>\"\",\"\",IF($F84<=R$1,MAX(R$2:R83)+1,\"\"))","v":""},"",7,0,0,0,"G","F","E","D","D","D","D","D"]
[8216,"M","BONALUQUE Sergio","INF-1",3,2,"ATEN82","ATEN82",1052.5999999999999,{"$f":"IF($S85<>\"\",\"\",IF(AND($E85<=J$1,$B85=\"M\"),MAX(J$2:J84)+1,\"\"))","v":78},{"$f":"IF($S85<>\"\",\"\",IF(AND($E85<=K$1,$B85=\"M\"),MAX(K$2:K84)+1,\"\"))","v":44},{"$f":"IF($S85<>\"\",\"\",IF(AND($E85<=L$1,$B85=\"M\"),MAX(L$2:L84)+1,\"\"))","v":""},{"$f":"IF($S85<>\"\",\"\",IF(AND($E85<=M$1,$B85=\"M\"),MAX(M$2:M84)+1,\"\"))","v":""},{"$f":"IF($S85<>\"\",\"\",IF(AND($E85<=N$1,$B85=\"F\"),MAX(N$2:N84)+1,\"\"))","v":""},{"$f":"IF($S85<>\"\",\"\",IF(AND($E85<=O$1,$B85=\"F\"),MAX(O$2:O84)+1,\"\"))","v":""},{"$f":"IF(AND($S85<>\"\",$S85<>\"No pot jugar individual\"),\"\",IF(AND($F85<=P$1,$B85=\"M\"),MAX(P$2:P84)+1,\"\"))","v":78},{"$f":"IF(AND($S85<>\"\",$S85<>\"No pot jugar individual\"),\"\",IF(AND($F85<=Q$1,$B85=\"M\"),MAX(Q$2:Q84)+1,\"\"))","v":""},{"$f":"IF($S85<>\"\",\"\",IF($F85<=R$1,MAX(R$2:R84)+1,\"\"))","v":""},"",7,0,0,0,"D","E","D","D","D","D","D","C",null,null,null,null,null,"BJ"]
[8502,"M","PLANA Pep","JUV-2",4,2,"SALLENT","SALLENT",1022.3,{"$f":"IF($S86<>\"\",\"\",IF(AND($E86<=J$1,$B86=\"M\"),MAX(J$2:J85)+1,\"\"))","v":79},{"$f":"IF($S86<>\"\",\"\",IF(AND($E86<=K$1,$B86=\"M\"),MAX(K$2:K85)+1,\"\"))","v":""},{"$f":"IF($S86<>\"\",\"\",IF(AND($E86<=L$1,$B86=\"M\"),MAX(L$2:L85)+1,\"\"))","v":""},{"$f":"IF($S86<>\"\",\"\",IF(AND($E86<=M$1,$B86=\"M\"),MAX(M$2:M85)+1,\"\"))","v":""},{"$f":"IF($S86<>\"\",\"\",IF(AND($E86<=N$1,$B86=\"F\"),MAX(N$2:N85)+1,\"\"))","v":""},{"$f":"IF($S86<>\"\",\"\",IF(AND($E86<=O$1,$B86=\"F\"),MAX(O$2:O85)+1,\"\"))","v":""},{"$f":"IF(AND($S86<>\"\",$S86<>\"No pot jugar individual\"),\"\",IF(AND($F86<=P$1,$B86=\"M\"),MAX(P$2:P85)+1,\"\"))","v":79},{"$f":"IF(AND($S86<>\"\",$S86<>\"No pot jugar individual\"),\"\",IF(AND($F86<=Q$1,$B86=\"M\"),MAX(Q$2:Q85)+1,\"\"))","v":""},{"$f":"IF($S86<>\"\",\"\",IF($F86<=R$1,MAX(R$2:R85)+1,\"\"))","v":""},"",7,0,0,0,"C","C","D","D","D","E","D","D",null,null,null,null,"BJ"]
[9169,"M","RODRIGUEZ Octavio","INF-1",3,2,"LLUÏSOS","LLUÏSOS",1003.2499999999999,{"$f":"IF($S87<>\"\",\"\",IF(AND($E87<=J$1,$B87=\"M\"),MAX(J$2:J86)+1,\"\"))","v":80},{"$f":"IF($S87<>\"\",\"\",IF(AND($E87<=K$1,$B87=\"M\"),MAX(K$2:K86)+1,\"\"))","v":45},{"$f":"IF($S87<>\"\",\"\",IF(AND($E87<=L$1,$B87=\"M\"),MAX(L$2:L86)+1,\"\"))","v":""},{"$f":"IF($S87<>\"\",\"\",IF(AND($E87<=M$1,$B87=\"M\"),MAX(M$2:M86)+1,\"\"))","v":""},{"$f":"IF($S87<>\"\",\"\",IF(AND($E87<=N$1,$B87=\"F\"),MAX(N$2:N86)+1,\"\"))","v":""},{"$f":"IF($S87<>\"\",\"\",IF(AND($E87<=O$1,$B87=\"F\"),MAX(O$2:O86)+1,\"\"))","v":""},{"$f":"IF(AND($S87<>\"\",$S87<>\"No pot jugar individual\"),\"\",IF(AND($F87<=P$1,$B87=\"M\"),MAX(P$2:P86)+1,\"\"))","v":80},{"$f":"IF(AND($S87<>\"\",$S87<>\"No pot jugar individual\"),\"\",IF(AND($F87<=Q$1,$B87=\"M\"),MAX(Q$2:Q86)+1,\"\"))","v":""},{"$f":"IF($S87<>\"\",\"\",IF($F87<=R$1,MAX(R$2:R86)+1,\"\"))","v":""},"",7,0,0,0,"D","D","E","D","E","E","D","D"]
[9145,"M","OBIOLS Pol","ALE-1",2,1,"ATEN82","ATEN82",998.90000000000009,{"$f":"IF($S88<>\"\",\"\",IF(AND($E88<=J$1,$B88=\"M\"),MAX(J$2:J87)+1,\"\"))","v":81},{"$f":"IF($S88<>\"\",\"\",IF(AND($E88<=K$1,$B88=\"M\"),MAX(K$2:K87)+1,\"\"))","v":46},{"$f":"IF($S88<>\"\",\"\",IF(AND($E88<=L$1,$B88=\"M\"),MAX(L$2:L87)+1,\"\"))","v":16},{"$f":"IF($S88<>\"\",\"\",IF(AND($E88<=M$1,$B88=\"M\"),MAX(M$2:M87)+1,\"\"))","v":""},{"$f":"IF($S88<>\"\",\"\",IF(AND($E88<=N$1,$B88=\"F\"),MAX(N$2:N87)+1,\"\"))","v":""},{"$f":"IF($S88<>\"\",\"\",IF(AND($E88<=O$1,$B88=\"F\"),MAX(O$2:O87)+1,\"\"))","v":""},{"$f":"IF(AND($S88<>\"\",$S88<>\"No pot jugar individual\"),\"\",IF(AND($F88<=P$1,$B88=\"M\"),MAX(P$2:P87)+1,\"\"))","v":81},{"$f":"IF(AND($S88<>\"\",$S88<>\"No pot jugar individual\"),\"\",IF(AND($F88<=Q$1,$B88=\"M\"),MAX(Q$2:Q87)+1,\"\"))","v":16},{"$f":"IF($S88<>\"\",\"\",IF($F88<=R$1,MAX(R$2:R87)+1,\"\"))","v":""},"",7,0,0,0,"E","E","D","D","D","E","D","D"]
[8657,"M","GARCIA Xavier","INF-2",3,2,"CNSABA","CNSABA",960.6,{"$f":"IF($S89<>\"\",\"\",IF(AND($E89<=J$1,$B89=\"M\"),MAX(J$2:J88)+1,\"\"))","v":82},{"$f":"IF($S89<>\"\",\"\",IF(AND($E89<=K$1,$B89=\"M\"),MAX(K$2:K88)+1,\"\"))","v":47},{"$f":"IF($S89<>\"\",\"\",IF(AND($E89<=L$1,$B89=\"M\"),MAX(L$2:L88)+1,\"\"))","v":""},{"$f":"IF($S89<>\"\",\"\",IF(AND($E89<=M$1,$B89=\"M\"),MAX(M$2:M88)+1,\"\"))","v":""},{"$f":"IF($S89<>\"\",\"\",IF(AND($E89<=N$1,$B89=\"F\"),MAX(N$2:N88)+1,\"\"))","v":""},{"$f":"IF($S89<>\"\",\"\",IF(AND($E89<=O$1,$B89=\"F\"),MAX(O$2:O88)+1,\"\"))","v":""},{"$f":"IF(AND($S89<>\"\",$S89<>\"No pot jugar individual\"),\"\",IF(AND($F89<=P$1,$B89=\"M\"),MAX(P$2:P88)+1,\"\"))","v":82},{"$f":"IF(AND($S89<>\"\",$S89<>\"No pot jugar individual\"),\"\",IF(AND($F89<=Q$1,$B89=\"M\"),MAX(Q$2:Q88)+1,\"\"))","v":""},{"$f":"IF($S89<>\"\",\"\",IF($F89<=R$1,MAX(R$2:R88)+1,\"\"))","v":""},"",7,1,0,0,"C","C","D","D","D","C","C","D",null,"BC"]
[5286,"M","OLIVA Albert","INF-2",3,2,"RODA","RODA",942.68,{"$f":"IF($S90<>\"\",\"\",IF(AND($E90<=J$1,$B90=\"M\"),MAX(J$2:J89)+1,\"\"))","v":83},{"$f":"IF($S90<>\"\",\"\",IF(AND($E90<=K$1,$B90=\"M\"),MAX(K$2:K89)+1,\"\"))","v":48},{"$f":"IF($S90<>\"\",\"\",IF(AND($E90<=L$1,$B90=\"M\"),MAX(L$2:L89)+1,\"\"))","v":""},{"$f":"IF($S90<>\"\",\"\",IF(AND($E90<=M$1,$B90=\"M\"),MAX(M$2:M89)+1,\"\"))","v":""},{"$f":"IF($S90<>\"\",\"\",IF(AND($E90<=N$1,$B90=\"F\"),MAX(N$2:N89)+1,\"\"))","v":""},{"$f":"IF($S90<>\"\",\"\",IF(AND($E90<=O$1,$B90=\"F\"),MAX(O$2:O89)+1,\"\"))","v":""},{"$f":"IF(AND($S90<>\"\",$S90<>\"No pot jugar individual\"),\"\",IF(AND($F90<=P$1,$B90=\"M\"),MAX(P$2:P89)+1,\"\"))","v":83},{"$f":"IF(AND($S90<>\"\",$S90<>\"No pot jugar individual\"),\"\",IF(AND($F90<=Q$1,$B90=\"M\"),MAX(Q$2:Q89)+1,\"\"))","v":""},{"$f":"IF($S90<>\"\",\"\",IF($F90<=R$1,MAX(R$2:R89)+1,\"\"))","v":""},"",7,0,0,0,"D","E","E","E","E","D","D","D"]
[6564,"M","ENCUENTRA Samuel","JUV-1",4,2,"VILANOVA","VILANOVA",906.60000000000014,{"$f":"IF($S91<>\"\",\"\",IF(AND($E91<=J$1,$B91=\"M\"),MAX(J$2:J90)+1,\"\"))","v":84},{"$f":"IF($S91<>\"\",\"\",IF(AND($E91<=K$1,$B91=\"M\"),MAX(K$2:K90)+1,\"\"))","v":""},{"$f":"IF($S91<>\"\",\"\",IF(AND($E91<=L$1,$B91=\"M\"),MAX(L$2:L90)+1,\"\"))","v":""},{"$f":"IF($S91<>\"\",\"\",IF(AND($E91<=M$1,$B91=\"M\"),MAX(M$2:M90)+1,\"\"))","v":""},{"$f":"IF($S91<>\"\",\"\",IF(AND($E91<=N$1,$B91=\"F\"),MAX(N$2:N90)+1,\"\"))","v":""},{"$f":"IF($S91<>\"\",\"\",IF(AND($E91<=O$1,$B91=\"F\"),MAX(O$2:O90)+1,\"\"))","v":""},{"$f":"IF(AND($S91<>\"\",$S91<>\"No pot jugar individual\"),\"\",IF(AND($F91<=P$1,$B91=\"M\"),MAX(P$2:P90)+1,\"\"))","v":84},{"$f":"IF(AND($S91<>\"\",$S91<>\"No pot jugar individual\"),\"\",IF(AND($F91<=Q$1,$B91=\"M\"),MAX(Q$2:Q90)+1,\"\"))","v":""},{"$f":"IF($S91<>\"\",\"\",IF($F91<=R$1,MAX(R$2:R90)+1,\"\"))","v":""},"",7,0,0,0,"C","D","D","D","D","D","D","D","BJ"]
[8499,"M","ESTRUCH Amanel","JUV-2",4,2,"SALLENT","SALLENT",899.90000000000009,{"$f":"IF($S92<>\"\",\"\",IF(AND($E92<=J$1,$B92=\"M\"),MAX(J$2:J91)+1,\"\"))","v":85},{"$f":"IF($S92<>\"\",\"\",IF(AND($E92<=K$1,$B92=\"M\"),MAX(K$2:K91)+1,\"\"))","v":""},{"$f":"IF($S92<>\"\",\"\",IF(AND($E92<=L$1,$B92=\"M\"),MAX(L$2:L91)+1,\"\"))","v":""},{"$f":"IF($S92<>\"\",\"\",IF(AND($E92<=M$1,$B92=\"M\"),MAX(M$2:M91)+1,\"\"))","v":""},{"$f":"IF($S92<>\"\",\"\",IF(AND($E92<=N$1,$B92=\"F\"),MAX(N$2:N91)+1,\"\"))","v":""},{"$f":"IF($S92<>\"\",\"\",IF(AND($E92<=O$1,$B92=\"F\"),MAX(O$2:O91)+1,\"\"))","v":""},{"$f":"IF(AND($S92<>\"\",$S92<>\"No pot jugar individual\"),\"\",IF(AND($F92<=P$1,$B92=\"M\"),MAX(P$2:P91)+1,\"\"))","v":85},{"$f":"IF(AND($S92<>\"\",$S92<>\"No pot jugar individual\"),\"\",IF(AND($F92<=Q$1,$B92=\"M\"),MAX(Q$2:Q91)+1,\"\"))","v":""},{"$f":"IF($S92<>\"\",\"\",IF($F92<=R$1,MAX(R$2:R91)+1,\"\"))","v":""},"",7,0,0,0,"C","D","D","D","D","D","C","D"]
[7873,"M","CABALLERO Pol","ALE-1",2,1,"SALLENT","SALLENT",897.26,{"$f":"IF($S93<>\"\",\"\",IF(AND($E93<=J$1,$B93=\"M\"),MAX(J$2:J92)+1,\"\"))","v":86},{"$f":"IF($S93<>\"\",\"\",IF(AND($E93<=K$1,$B93=\"M\"),MAX(K$2:K92)+1,\"\"))","v":49},{"$f":"IF($S93<>\"\",\"\",IF(AND($E93<=L$1,$B93=\"M\"),MAX(L$2:L92)+1,\"\"))","v":17},{"$f":"IF($S93<>\"\",\"\",IF(AND($E93<=M$1,$B93=\"M\"),MAX(M$2:M92)+1,\"\"))","v":""},{"$f":"IF($S93<>\"\",\"\",IF(AND($E93<=N$1,$B93=\"F\"),MAX(N$2:N92)+1,\"\"))","v":""},{"$f":"IF($S93<>\"\",\"\",IF(AND($E93<=O$1,$B93=\"F\"),MAX(O$2:O92)+1,\"\"))","v":""},{"$f":"IF(AND($S93<>\"\",$S93<>\"No pot jugar individual\"),\"\",IF(AND($F93<=P$1,$B93=\"M\"),MAX(P$2:P92)+1,\"\"))","v":86},{"$f":"IF(AND($S93<>\"\",$S93<>\"No pot jugar individual\"),\"\",IF(AND($F93<=Q$1,$B93=\"M\"),MAX(Q$2:Q92)+1,\"\"))","v":17},{"$f":"IF($S93<>\"\",\"\",IF($F93<=R$1,MAX(R$2:R92)+1,\"\"))","v":""},"",7,0,0,0,"E","D","E","E","E","E","D","D"]
[8868,"M","COSTA Oriol","ALE-1",2,1,"R.ELISENDA","R.ELISENDA",884.68,{"$f":"IF($S94<>\"\",\"\",IF(AND($E94<=J$1,$B94=\"M\"),MAX(J$2:J93)+1,\"\"))","v":87},{"$f":"IF($S94<>\"\",\"\",IF(AND($E94<=K$1,$B94=\"M\"),MAX(K$2:K93)+1,\"\"))","v":50},{"$f":"IF($S94<>\"\",\"\",IF(AND($E94<=L$1,$B94=\"M\"),MAX(L$2:L93)+1,\"\"))","v":18},{"$f":"IF($S94<>\"\",\"\",IF(AND($E94<=M$1,$B94=\"M\"),MAX(M$2:M93)+1,\"\"))","v":""},{"$f":"IF($S94<>\"\",\"\",IF(AND($E94<=N$1,$B94=\"F\"),MAX(N$2:N93)+1,\"\"))","v":""},{"$f":"IF($S94<>\"\",\"\",IF(AND($E94<=O$1,$B94=\"F\"),MAX(O$2:O93)+1,\"\"))","v":""},{"$f":"IF(AND($S94<>\"\",$S94<>\"No pot jugar individual\"),\"\",IF(AND($F94<=P$1,$B94=\"M\"),MAX(P$2:P93)+1,\"\"))","v":87},{"$f":"IF(AND($S94<>\"\",$S94<>\"No pot jugar individual\"),\"\",IF(AND($F94<=Q$1,$B94=\"M\"),MAX(Q$2:Q93)+1,\"\"))","v":18},{"$f":"IF($S94<>\"\",\"\",IF($F94<=R$1,MAX(R$2:R93)+1,\"\"))","v":""},"",7,0,0,0,"E","D","D","D","D","D","D","D"]
[8893,"M","GUTIERREZ Gerard","INF-1",3,2,"VIC","VIC",863.3,{"$f":"IF($S95<>\"\",\"\",IF(AND($E95<=J$1,$B95=\"M\"),MAX(J$2:J94)+1,\"\"))","v":88},{"$f":"IF($S95<>\"\",\"\",IF(AND($E95<=K$1,$B95=\"M\"),MAX(K$2:K94)+1,\"\"))","v":51},{"$f":"IF($S95<>\"\",\"\",IF(AND($E95<=L$1,$B95=\"M\"),MAX(L$2:L94)+1,\"\"))","v":""},{"$f":"IF($S95<>\"\",\"\",IF(AND($E95<=M$1,$B95=\"M\"),MAX(M$2:M94)+1,\"\"))","v":""},{"$f":"IF($S95<>\"\",\"\",IF(AND($E95<=N$1,$B95=\"F\"),MAX(N$2:N94)+1,\"\"))","v":""},{"$f":"IF($S95<>\"\",\"\",IF(AND($E95<=O$1,$B95=\"F\"),MAX(O$2:O94)+1,\"\"))","v":""},{"$f":"IF(AND($S95<>\"\",$S95<>\"No pot jugar individual\"),\"\",IF(AND($F95<=P$1,$B95=\"M\"),MAX(P$2:P94)+1,\"\"))","v":88},{"$f":"IF(AND($S95<>\"\",$S95<>\"No pot jugar individual\"),\"\",IF(AND($F95<=Q$1,$B95=\"M\"),MAX(Q$2:Q94)+1,\"\"))","v":""},{"$f":"IF($S95<>\"\",\"\",IF($F95<=R$1,MAX(R$2:R94)+1,\"\"))","v":""},"",7,1,0,0,"D","C","D","E","D","E","E","D",null,null,"BC",null,null,"BJ"]
[8566,"M","TARRAGA Alvaro","JUV-1",4,2,"PREMIA","PREMIA",826.75,{"$f":"IF($S96<>\"\",\"\",IF(AND($E96<=J$1,$B96=\"M\"),MAX(J$2:J95)+1,\"\"))","v":89},{"$f":"IF($S96<>\"\",\"\",IF(AND($E96<=K$1,$B96=\"M\"),MAX(K$2:K95)+1,\"\"))","v":""},{"$f":"IF($S96<>\"\",\"\",IF(AND($E96<=L$1,$B96=\"M\"),MAX(L$2:L95)+1,\"\"))","v":""},{"$f":"IF($S96<>\"\",\"\",IF(AND($E96<=M$1,$B96=\"M\"),MAX(M$2:M95)+1,\"\"))","v":""},{"$f":"IF($S96<>\"\",\"\",IF(AND($E96<=N$1,$B96=\"F\"),MAX(N$2:N95)+1,\"\"))","v":""},{"$f":"IF($S96<>\"\",\"\",IF(AND($E96<=O$1,$B96=\"F\"),MAX(O$2:O95)+1,\"\"))","v":""},{"$f":"IF(AND($S96<>\"\",$S96<>\"No pot jugar individual\"),\"\",IF(AND($F96<=P$1,$B96=\"M\"),MAX(P$2:P95)+1,\"\"))","v":89},{"$f":"IF(AND($S96<>\"\",$S96<>\"No pot jugar individual\"),\"\",IF(AND($F96<=Q$1,$B96=\"M\"),MAX(Q$2:Q95)+1,\"\"))","v":""},{"$f":"IF($S96<>\"\",\"\",IF($F96<=R$1,MAX(R$2:R95)+1,\"\"))","v":""},"",7,0,0,0,"C","D","E","E","D","E","E","E"]
[6651,"F","LOPEZ Ona","JUV-2",4,0,"HOSPIT","HOSPIT",761.45,{"$f":"IF($S97<>\"\",\"\",IF(AND($E97<=J$1,$B97=\"M\"),MAX(J$2:J96)+1,\"\"))","v":""},{"$f":"IF($S97<>\"\",\"\",IF(AND($E97<=K$1,$B97=\"M\"),MAX(K$2:K96)+1,\"\"))","v":""},{"$f":"IF($S97<>\"\",\"\",IF(AND($E97<=L$1,$B97=\"M\"),MAX(L$2:L96)+1,\"\"))","v":""},{"$f":"IF($S97<>\"\",\"\",IF(AND($E97<=M$1,$B97=\"M\"),MAX(M$2:M96)+1,\"\"))","v":""},{"$f":"IF($S97<>\"\",\"\",IF(AND($E97<=N$1,$B97=\"F\"),MAX(N$2:N96)+1,\"\"))","v":6},{"$f":"IF($S97<>\"\",\"\",IF(AND($E97<=O$1,$B97=\"F\"),MAX(O$2:O96)+1,\"\"))","v":""},{"$f":"IF(AND($S97<>\"\",$S97<>\"No pot jugar individual\"),\"\",IF(AND($F97<=P$1,$B97=\"M\"),MAX(P$2:P96)+1,\"\"))","v":""},{"$f":"IF(AND($S97<>\"\",$S97<>\"No pot jugar individual\"),\"\",IF(AND($F97<=Q$1,$B97=\"M\"),MAX(Q$2:Q96)+1,\"\"))","v":""},{"$f":"IF($S97<>\"\",\"\",IF($F97<=R$1,MAX(R$2:R96)+1,\"\"))","v":6},"",7,1,0,0,"B","C","D","E","E","E","E","E","BC"]
[8373,"F","PINEDA Carla","INF-1",3,0,"ESPARREGU.","ESPARREGU.",751.76,{"$f":"IF($S98<>\"\",\"\",IF(AND($E98<=J$1,$B98=\"M\"),MAX(J$2:J97)+1,\"\"))","v":""},{"$f":"IF($S98<>\"\",\"\",IF(AND($E98<=K$1,$B98=\"M\"),MAX(K$2:K97)+1,\"\"))","v":""},{"$f":"IF($S98<>\"\",\"\",IF(AND($E98<=L$1,$B98=\"M\"),MAX(L$2:L97)+1,\"\"))","v":""},{"$f":"IF($S98<>\"\",\"\",IF(AND($E98<=M$1,$B98=\"M\"),MAX(M$2:M97)+1,\"\"))","v":""},{"$f":"IF($S98<>\"\",\"\",IF(AND($E98<=N$1,$B98=\"F\"),MAX(N$2:N97)+1,\"\"))","v":7},{"$f":"IF($S98<>\"\",\"\",IF(AND($E98<=O$1,$B98=\"F\"),MAX(O$2:O97)+1,\"\"))","v":""},{"$f":"IF(AND($S98<>\"\",$S98<>\"No pot jugar individual\"),\"\",IF(AND($F98<=P$1,$B98=\"M\"),MAX(P$2:P97)+1,\"\"))","v":""},{"$f":"IF(AND($S98<>\"\",$S98<>\"No pot jugar individual\"),\"\",IF(AND($F98<=Q$1,$B98=\"M\"),MAX(Q$2:Q97)+1,\"\"))","v":""},{"$f":"IF($S98<>\"\",\"\",IF($F98<=R$1,MAX(R$2:R97)+1,\"\"))","v":7},"",7,0,0,0,"F","E","E","E","E","E","E","E"]
[8251,"M","MACH Jeroni","JUV-1",4,2,"LLUÏSOS","LLUÏSOS",748.75,{"$f":"IF($S99<>\"\",\"\",IF(AND($E99<=J$1,$B99=\"M\"),MAX(J$2:J98)+1,\"\"))","v":90},{"$f":"IF($S99<>\"\",\"\",IF(AND($E99<=K$1,$B99=\"M\"),MAX(K$2:K98)+1,\"\"))","v":""},{"$f":"IF($S99<>\"\",\"\",IF(AND($E99<=L$1,$B99=\"M\"),MAX(L$2:L98)+1,\"\"))","v":""},{"$f":"IF($S99<>\"\",\"\",IF(AND($E99<=M$1,$B99=\"M\"),MAX(M$2:M98)+1,\"\"))","v":""},{"$f":"IF($S99<>\"\",\"\",IF(AND($E99<=N$1,$B99=\"F\"),MAX(N$2:N98)+1,\"\"))","v":""},{"$f":"IF($S99<>\"\",\"\",IF(AND($E99<=O$1,$B99=\"F\"),MAX(O$2:O98)+1,\"\"))","v":""},{"$f":"IF(AND($S99<>\"\",$S99<>\"No pot jugar individual\"),\"\",IF(AND($F99<=P$1,$B99=\"M\"),MAX(P$2:P98)+1,\"\"))","v":90},{"$f":"IF(AND($S99<>\"\",$S99<>\"No pot jugar individual\"),\"\",IF(AND($F99<=Q$1,$B99=\"M\"),MAX(Q$2:Q98)+1,\"\"))","v":""},{"$f":"IF($S99<>\"\",\"\",IF($F99<=R$1,MAX(R$2:R98)+1,\"\"))","v":""},"",7,1,0,0,"D","C","C","D","E","D","E","E",null,null,null,null,null,"BC"]
[8640,"F","BUENO Marina","ALE-2",2,0,"FALCONS","FALCONS",709.85000000000014,{"$f":"IF($S100<>\"\",\"\",IF(AND($E100<=J$1,$B100=\"M\"),MAX(J$2:J99)+1,\"\"))","v":""},{"$f":"IF($S100<>\"\",\"\",IF(AND($E100<=K$1,$B100=\"M\"),MAX(K$2:K99)+1,\"\"))","v":""},{"$f":"IF($S100<>\"\",\"\",IF(AND($E100<=L$1,$B100=\"M\"),MAX(L$2:L99)+1,\"\"))","v":""},{"$f":"IF($S100<>\"\",\"\",IF(AND($E100<=M$1,$B100=\"M\"),MAX(M$2:M99)+1,\"\"))","v":""},{"$f":"IF($S100<>\"\",\"\",IF(AND($E100<=N$1,$B100=\"F\"),MAX(N$2:N99)+1,\"\"))","v":8},{"$f":"IF($S100<>\"\",\"\",IF(AND($E100<=O$1,$B100=\"F\"),MAX(O$2:O99)+1,\"\"))","v":4},{"$f":"IF(AND($S100<>\"\",$S100<>\"No pot jugar individual\"),\"\",IF(AND($F100<=P$1,$B100=\"M\"),MAX(P$2:P99)+1,\"\"))","v":""},{"$f":"IF(AND($S100<>\"\",$S100<>\"No pot jugar individual\"),\"\",IF(AND($F100<=Q$1,$B100=\"M\"),MAX(Q$2:Q99)+1,\"\"))","v":""},{"$f":"IF($S100<>\"\",\"\",IF($F100<=R$1,MAX(R$2:R99)+1,\"\"))","v":8},"",7,0,0,0,"D","D","D","D","E","D","D","E",null,null,"BJ","BJ",null,"BJ","BJ"]
[10445,"M","PACAREU Aleix","ALE-1",2,1,"MATARO","MATARO",695.85,{"$f":"IF($S101<>\"\",\"\",IF(AND($E101<=J$1,$B101=\"M\"),MAX(J$2:J100)+1,\"\"))","v":91},{"$f":"IF($S101<>\"\",\"\",IF(AND($E101<=K$1,$B101=\"M\"),MAX(K$2:K100)+1,\"\"))","v":52},{"$f":"IF($S101<>\"\",\"\",IF(AND($E101<=L$1,$B101=\"M\"),MAX(L$2:L100)+1,\"\"))","v":19},{"$f":"IF($S101<>\"\",\"\",IF(AND($E101<=M$1,$B101=\"M\"),MAX(M$2:M100)+1,\"\"))","v":""},{"$f":"IF($S101<>\"\",\"\",IF(AND($E101<=N$1,$B101=\"F\"),MAX(N$2:N100)+1,\"\"))","v":""},{"$f":"IF($S101<>\"\",\"\",IF(AND($E101<=O$1,$B101=\"F\"),MAX(O$2:O100)+1,\"\"))","v":""},{"$f":"IF(AND($S101<>\"\",$S101<>\"No pot jugar individual\"),\"\",IF(AND($F101<=P$1,$B101=\"M\"),MAX(P$2:P100)+1,\"\"))","v":91},{"$f":"IF(AND($S101<>\"\",$S101<>\"No pot jugar individual\"),\"\",IF(AND($F101<=Q$1,$B101=\"M\"),MAX(Q$2:Q100)+1,\"\"))","v":19},{"$f":"IF($S101<>\"\",\"\",IF($F101<=R$1,MAX(R$2:R100)+1,\"\"))","v":""},"",7,0,0,0,"H","G","F","E","E","D","E","E"]
[7943,"F","KREMEN Lara","ALE-1",2,0,"PREMIA","PREMIA",690.04,{"$f":"IF($S102<>\"\",\"\",IF(AND($E102<=J$1,$B102=\"M\"),MAX(J$2:J101)+1,\"\"))","v":""},{"$f":"IF($S102<>\"\",\"\",IF(AND($E102<=K$1,$B102=\"M\"),MAX(K$2:K101)+1,\"\"))","v":""},{"$f":"IF($S102<>\"\",\"\",IF(AND($E102<=L$1,$B102=\"M\"),MAX(L$2:L101)+1,\"\"))","v":""},{"$f":"IF($S102<>\"\",\"\",IF(AND($E102<=M$1,$B102=\"M\"),MAX(M$2:M101)+1,\"\"))","v":""},{"$f":"IF($S102<>\"\",\"\",IF(AND($E102<=N$1,$B102=\"F\"),MAX(N$2:N101)+1,\"\"))","v":9},{"$f":"IF($S102<>\"\",\"\",IF(AND($E102<=O$1,$B102=\"F\"),MAX(O$2:O101)+1,\"\"))","v":5},{"$f":"IF(AND($S102<>\"\",$S102<>\"No pot jugar individual\"),\"\",IF(AND($F102<=P$1,$B102=\"M\"),MAX(P$2:P101)+1,\"\"))","v":""},{"$f":"IF(AND($S102<>\"\",$S102<>\"No pot jugar individual\"),\"\",IF(AND($F102<=Q$1,$B102=\"M\"),MAX(Q$2:Q101)+1,\"\"))","v":""},{"$f":"IF($S102<>\"\",\"\",IF($F102<=R$1,MAX(R$2:R101)+1,\"\"))","v":9},"",7,1,0,0,"E","F","F","F","E","E","E","E","BC"]
[9165,"M","RICO Roger","INF-1",3,2,"LLUÏSOS","LLUÏSOS",686.48,{"$f":"IF($S103<>\"\",\"\",IF(AND($E103<=J$1,$B103=\"M\"),MAX(J$2:J102)+1,\"\"))","v":92},{"$f":"IF($S103<>\"\",\"\",IF(AND($E103<=K$1,$B103=\"M\"),MAX(K$2:K102)+1,\"\"))","v":53},{"$f":"IF($S103<>\"\",\"\",IF(AND($E103<=L$1,$B103=\"M\"),MAX(L$2:L102)+1,\"\"))","v":""},{"$f":"IF($S103<>\"\",\"\",IF(AND($E103<=M$1,$B103=\"M\"),MAX(M$2:M102)+1,\"\"))","v":""},{"$f":"IF($S103<>\"\",\"\",IF(AND($E103<=N$1,$B103=\"F\"),MAX(N$2:N102)+1,\"\"))","v":""},{"$f":"IF($S103<>\"\",\"\",IF(AND($E103<=O$1,$B103=\"F\"),MAX(O$2:O102)+1,\"\"))","v":""},{"$f":"IF(AND($S103<>\"\",$S103<>\"No pot jugar individual\"),\"\",IF(AND($F103<=P$1,$B103=\"M\"),MAX(P$2:P102)+1,\"\"))","v":92},{"$f":"IF(AND($S103<>\"\",$S103<>\"No pot jugar individual\"),\"\",IF(AND($F103<=Q$1,$B103=\"M\"),MAX(Q$2:Q102)+1,\"\"))","v":""},{"$f":"IF($S103<>\"\",\"\",IF($F103<=R$1,MAX(R$2:R102)+1,\"\"))","v":""},"",7,{"$f":"COUNTIF($AF103:$AL103,U$2)","v":0},0,0,"D","E","F","F","F","E","D","C"]
[9031,"F","PEÑARANDO Marta","INF-2",3,0,"RIPOLLET","RIPOLLET",669.69,{"$f":"IF($S104<>\"\",\"\",IF(AND($E104<=J$1,$B104=\"M\"),MAX(J$2:J103)+1,\"\"))","v":""},{"$f":"IF($S104<>\"\",\"\",IF(AND($E104<=K$1,$B104=\"M\"),MAX(K$2:K103)+1,\"\"))","v":""},{"$f":"IF($S104<>\"\",\"\",IF(AND($E104<=L$1,$B104=\"M\"),MAX(L$2:L103)+1,\"\"))","v":""},{"$f":"IF($S104<>\"\",\"\",IF(AND($E104<=M$1,$B104=\"M\"),MAX(M$2:M103)+1,\"\"))","v":""},{"$f":"IF($S104<>\"\",\"\",IF(AND($E104<=N$1,$B104=\"F\"),MAX(N$2:N103)+1,\"\"))","v":10},{"$f":"IF($S104<>\"\",\"\",IF(AND($E104<=O$1,$B104=\"F\"),MAX(O$2:O103)+1,\"\"))","v":""},{"$f":"IF(AND($S104<>\"\",$S104<>\"No pot jugar individual\"),\"\",IF(AND($F104<=P$1,$B104=\"M\"),MAX(P$2:P103)+1,\"\"))","v":""},{"$f":"IF(AND($S104<>\"\",$S104<>\"No pot jugar individual\"),\"\",IF(AND($F104<=Q$1,$B104=\"M\"),MAX(Q$2:Q103)+1,\"\"))","v":""},{"$f":"IF($S104<>\"\",\"\",IF($F104<=R$1,MAX(R$2:R103)+1,\"\"))","v":10},"",7,1,0,0,"E","E","E","E","E","E","F","E",null,null,null,null,null,"BC"]
[10297,"M","MOTTAHEDEH Olinga","INF-1",3,2,"LLUÏSOS","LLUÏSOS",669.54,{"$f":"IF($S105<>\"\",\"\",IF(AND($E105<=J$1,$B105=\"M\"),MAX(J$2:J104)+1,\"\"))","v":93},{"$f":"IF($S105<>\"\",\"\",IF(AND($E105<=K$1,$B105=\"M\"),MAX(K$2:K104)+1,\"\"))","v":54},{"$f":"IF($S105<>\"\",\"\",IF(AND($E105<=L$1,$B105=\"M\"),MAX(L$2:L104)+1,\"\"))","v":""},{"$f":"IF($S105<>\"\",\"\",IF(AND($E105<=M$1,$B105=\"M\"),MAX(M$2:M104)+1,\"\"))","v":""},{"$f":"IF($S105<>\"\",\"\",IF(AND($E105<=N$1,$B105=\"F\"),MAX(N$2:N104)+1,\"\"))","v":""},{"$f":"IF($S105<>\"\",\"\",IF(AND($E105<=O$1,$B105=\"F\"),MAX(O$2:O104)+1,\"\"))","v":""},{"$f":"IF(AND($S105<>\"\",$S105<>\"No pot jugar individual\"),\"\",IF(AND($F105<=P$1,$B105=\"M\"),MAX(P$2:P104)+1,\"\"))","v":93},{"$f":"IF(AND($S105<>\"\",$S105<>\"No pot jugar individual\"),\"\",IF(AND($F105<=Q$1,$B105=\"M\"),MAX(Q$2:Q104)+1,\"\"))","v":""},{"$f":"IF($S105<>\"\",\"\",IF($F105<=R$1,MAX(R$2:R104)+1,\"\"))","v":""},"",7,0,0,0,"H","G","F","E","E","F","E","D"]
[5949,"M","COROMINA Hector","ALE-2",2,1,"LLUÏSOS","LLUÏSOS",660.97,{"$f":"IF($S106<>\"\",\"\",IF(AND($E106<=J$1,$B106=\"M\"),MAX(J$2:J105)+1,\"\"))","v":94},{"$f":"IF($S106<>\"\",\"\",IF(AND($E106<=K$1,$B106=\"M\"),MAX(K$2:K105)+1,\"\"))","v":55},{"$f":"IF($S106<>\"\",\"\",IF(AND($E106<=L$1,$B106=\"M\"),MAX(L$2:L105)+1,\"\"))","v":20},{"$f":"IF($S106<>\"\",\"\",IF(AND($E106<=M$1,$B106=\"M\"),MAX(M$2:M105)+1,\"\"))","v":""},{"$f":"IF($S106<>\"\",\"\",IF(AND($E106<=N$1,$B106=\"F\"),MAX(N$2:N105)+1,\"\"))","v":""},{"$f":"IF($S106<>\"\",\"\",IF(AND($E106<=O$1,$B106=\"F\"),MAX(O$2:O105)+1,\"\"))","v":""},{"$f":"IF(AND($S106<>\"\",$S106<>\"No pot jugar individual\"),\"\",IF(AND($F106<=P$1,$B106=\"M\"),MAX(P$2:P105)+1,\"\"))","v":94},{"$f":"IF(AND($S106<>\"\",$S106<>\"No pot jugar individual\"),\"\",IF(AND($F106<=Q$1,$B106=\"M\"),MAX(Q$2:Q105)+1,\"\"))","v":20},{"$f":"IF($S106<>\"\",\"\",IF($F106<=R$1,MAX(R$2:R105)+1,\"\"))","v":""},"",7,0,0,0,"G","F","E","E","E","E","E","D",null,null,"BJ"]
[8399,"M","PINEDA Sergi","JUV-1",4,2,"ESPARREGU.","ESPARREGU.",653.77999999999986,{"$f":"IF($S107<>\"\",\"\",IF(AND($E107<=J$1,$B107=\"M\"),MAX(J$2:J106)+1,\"\"))","v":95},{"$f":"IF($S107<>\"\",\"\",IF(AND($E107<=K$1,$B107=\"M\"),MAX(K$2:K106)+1,\"\"))","v":""},{"$f":"IF($S107<>\"\",\"\",IF(AND($E107<=L$1,$B107=\"M\"),MAX(L$2:L106)+1,\"\"))","v":""},{"$f":"IF($S107<>\"\",\"\",IF(AND($E107<=M$1,$B107=\"M\"),MAX(M$2:M106)+1,\"\"))","v":""},{"$f":"IF($S107<>\"\",\"\",IF(AND($E107<=N$1,$B107=\"F\"),MAX(N$2:N106)+1,\"\"))","v":""},{"$f":"IF($S107<>\"\",\"\",IF(AND($E107<=O$1,$B107=\"F\"),MAX(O$2:O106)+1,\"\"))","v":""},{"$f":"IF(AND($S107<>\"\",$S107<>\"No pot jugar individual\"),\"\",IF(AND($F107<=P$1,$B107=\"M\"),MAX(P$2:P106)+1,\"\"))","v":95},{"$f":"IF(AND($S107<>\"\",$S107<>\"No pot jugar individual\"),\"\",IF(AND($F107<=Q$1,$B107=\"M\"),MAX(Q$2:Q106)+1,\"\"))","v":""},{"$f":"IF($S107<>\"\",\"\",IF($F107<=R$1,MAX(R$2:R106)+1,\"\"))","v":""},"",7,0,0,0,"F","E","E","E","D","E","E","E"]
[8644,"M","SANCHEZ Biel","ALE-1",2,1,"ICELAND ELS 8","ICELAND ELS 8",646.06000000000006,{"$f":"IF($S108<>\"\",\"\",IF(AND($E108<=J$1,$B108=\"M\"),MAX(J$2:J107)+1,\"\"))","v":96},{"$f":"IF($S108<>\"\",\"\",IF(AND($E108<=K$1,$B108=\"M\"),MAX(K$2:K107)+1,\"\"))","v":56},{"$f":"IF($S108<>\"\",\"\",IF(AND($E108<=L$1,$B108=\"M\"),MAX(L$2:L107)+1,\"\"))","v":21},{"$f":"IF($S108<>\"\",\"\",IF(AND($E108<=M$1,$B108=\"M\"),MAX(M$2:M107)+1,\"\"))","v":""},{"$f":"IF($S108<>\"\",\"\",IF(AND($E108<=N$1,$B108=\"F\"),MAX(N$2:N107)+1,\"\"))","v":""},{"$f":"IF($S108<>\"\",\"\",IF(AND($E108<=O$1,$B108=\"F\"),MAX(O$2:O107)+1,\"\"))","v":""},{"$f":"IF(AND($S108<>\"\",$S108<>\"No pot jugar individual\"),\"\",IF(AND($F108<=P$1,$B108=\"M\"),MAX(P$2:P107)+1,\"\"))","v":96},{"$f":"IF(AND($S108<>\"\",$S108<>\"No pot jugar individual\"),\"\",IF(AND($F108<=Q$1,$B108=\"M\"),MAX(Q$2:Q107)+1,\"\"))","v":21},{"$f":"IF($S108<>\"\",\"\",IF($F108<=R$1,MAX(R$2:R107)+1,\"\"))","v":""},"",7,0,0,0,"E","E","E","E","F","E","E","E"]
[6637,"M","JIMENEZ Francisco Manuel","JUV-2",4,2,"CASTELLDEFELS","CASTELLDEFELS",620.95000000000005,{"$f":"IF($S109<>\"\",\"\",IF(AND($E109<=J$1,$B109=\"M\"),MAX(J$2:J108)+1,\"\"))","v":97},{"$f":"IF($S109<>\"\",\"\",IF(AND($E109<=K$1,$B109=\"M\"),MAX(K$2:K108)+1,\"\"))","v":""},{"$f":"IF($S109<>\"\",\"\",IF(AND($E109<=L$1,$B109=\"M\"),MAX(L$2:L108)+1,\"\"))","v":""},{"$f":"IF($S109<>\"\",\"\",IF(AND($E109<=M$1,$B109=\"M\"),MAX(M$2:M108)+1,\"\"))","v":""},{"$f":"IF($S109<>\"\",\"\",IF(AND($E109<=N$1,$B109=\"F\"),MAX(N$2:N108)+1,\"\"))","v":""},{"$f":"IF($S109<>\"\",\"\",IF(AND($E109<=O$1,$B109=\"F\"),MAX(O$2:O108)+1,\"\"))","v":""},{"$f":"IF(AND($S109<>\"\",$S109<>\"No pot jugar individual\"),\"\",IF(AND($F109<=P$1,$B109=\"M\"),MAX(P$2:P108)+1,\"\"))","v":97},{"$f":"IF(AND($S109<>\"\",$S109<>\"No pot jugar individual\"),\"\",IF(AND($F109<=Q$1,$B109=\"M\"),MAX(Q$2:Q108)+1,\"\"))","v":""},{"$f":"IF($S109<>\"\",\"\",IF($F109<=R$1,MAX(R$2:R108)+1,\"\"))","v":""},"",7,1,1,0,"D","D","C","D","E","E","F","E",null,null,null,"BC",null,"BN"]
[10447,"M","RODON Arnau","INF-1",3,2,"MATARO","MATARO",609.29,{"$f":"IF($S110<>\"\",\"\",IF(AND($E110<=J$1,$B110=\"M\"),MAX(J$2:J109)+1,\"\"))","v":98},{"$f":"IF($S110<>\"\",\"\",IF(AND($E110<=K$1,$B110=\"M\"),MAX(K$2:K109)+1,\"\"))","v":57},{"$f":"IF($S110<>\"\",\"\",IF(AND($E110<=L$1,$B110=\"M\"),MAX(L$2:L109)+1,\"\"))","v":""},{"$f":"IF($S110<>\"\",\"\",IF(AND($E110<=M$1,$B110=\"M\"),MAX(M$2:M109)+1,\"\"))","v":""},{"$f":"IF($S110<>\"\",\"\",IF(AND($E110<=N$1,$B110=\"F\"),MAX(N$2:N109)+1,\"\"))","v":""},{"$f":"IF($S110<>\"\",\"\",IF(AND($E110<=O$1,$B110=\"F\"),MAX(O$2:O109)+1,\"\"))","v":""},{"$f":"IF(AND($S110<>\"\",$S110<>\"No pot jugar individual\"),\"\",IF(AND($F110<=P$1,$B110=\"M\"),MAX(P$2:P109)+1,\"\"))","v":98},{"$f":"IF(AND($S110<>\"\",$S110<>\"No pot jugar individual\"),\"\",IF(AND($F110<=Q$1,$B110=\"M\"),MAX(Q$2:Q109)+1,\"\"))","v":""},{"$f":"IF($S110<>\"\",\"\",IF($F110<=R$1,MAX(R$2:R109)+1,\"\"))","v":""},"",7,0,0,0,"G","F","F","F","F","F","E","D"]
[10393,"M","MILLAN Jan","JUV-1",4,2,"EUROCLIMA BDN","EUROCLIMA BDN",599.38000000000011,{"$f":"IF($S111<>\"\",\"\",IF(AND($E111<=J$1,$B111=\"M\"),MAX(J$2:J110)+1,\"\"))","v":99},{"$f":"IF($S111<>\"\",\"\",IF(AND($E111<=K$1,$B111=\"M\"),MAX(K$2:K110)+1,\"\"))","v":""},{"$f":"IF($S111<>\"\",\"\",IF(AND($E111<=L$1,$B111=\"M\"),MAX(L$2:L110)+1,\"\"))","v":""},{"$f":"IF($S111<>\"\",\"\",IF(AND($E111<=M$1,$B111=\"M\"),MAX(M$2:M110)+1,\"\"))","v":""},{"$f":"IF($S111<>\"\",\"\",IF(AND($E111<=N$1,$B111=\"F\"),MAX(N$2:N110)+1,\"\"))","v":""},{"$f":"IF($S111<>\"\",\"\",IF(AND($E111<=O$1,$B111=\"F\"),MAX(O$2:O110)+1,\"\"))","v":""},{"$f":"IF(AND($S111<>\"\",$S111<>\"No pot jugar individual\"),\"\",IF(AND($F111<=P$1,$B111=\"M\"),MAX(P$2:P110)+1,\"\"))","v":99},{"$f":"IF(AND($S111<>\"\",$S111<>\"No pot jugar individual\"),\"\",IF(AND($F111<=Q$1,$B111=\"M\"),MAX(Q$2:Q110)+1,\"\"))","v":""},{"$f":"IF($S111<>\"\",\"\",IF($F111<=R$1,MAX(R$2:R110)+1,\"\"))","v":""},"",7,1,0,0,"H","G","F","G","F","E","D","E",null,null,"BC"]
[8816,"M","ROCA Biel","INF-2",3,2,"ICELAND ELS 8","ICELAND ELS 8",566.9,{"$f":"IF($S112<>\"\",\"\",IF(AND($E112<=J$1,$B112=\"M\"),MAX(J$2:J111)+1,\"\"))","v":100},{"$f":"IF($S112<>\"\",\"\",IF(AND($E112<=K$1,$B112=\"M\"),MAX(K$2:K111)+1,\"\"))","v":58},{"$f":"IF($S112<>\"\",\"\",IF(AND($E112<=L$1,$B112=\"M\"),MAX(L$2:L111)+1,\"\"))","v":""},{"$f":"IF($S112<>\"\",\"\",IF(AND($E112<=M$1,$B112=\"M\"),MAX(M$2:M111)+1,\"\"))","v":""},{"$f":"IF($S112<>\"\",\"\",IF(AND($E112<=N$1,$B112=\"F\"),MAX(N$2:N111)+1,\"\"))","v":""},{"$f":"IF($S112<>\"\",\"\",IF(AND($E112<=O$1,$B112=\"F\"),MAX(O$2:O111)+1,\"\"))","v":""},{"$f":"IF(AND($S112<>\"\",$S112<>\"No pot jugar individual\"),\"\",IF(AND($F112<=P$1,$B112=\"M\"),MAX(P$2:P111)+1,\"\"))","v":100},{"$f":"IF(AND($S112<>\"\",$S112<>\"No pot jugar individual\"),\"\",IF(AND($F112<=Q$1,$B112=\"M\"),MAX(Q$2:Q111)+1,\"\"))","v":""},{"$f":"IF($S112<>\"\",\"\",IF($F112<=R$1,MAX(R$2:R111)+1,\"\"))","v":""},"",7,0,0,0,"D","E","E","E","E","E","E","F"]
[7032,"M","PIERA Pol","ALE-2",2,1,"R.ELISENDA","R.ELISENDA",563.1,{"$f":"IF($S113<>\"\",\"\",IF(AND($E113<=J$1,$B113=\"M\"),MAX(J$2:J112)+1,\"\"))","v":101},{"$f":"IF($S113<>\"\",\"\",IF(AND($E113<=K$1,$B113=\"M\"),MAX(K$2:K112)+1,\"\"))","v":59},{"$f":"IF($S113<>\"\",\"\",IF(AND($E113<=L$1,$B113=\"M\"),MAX(L$2:L112)+1,\"\"))","v":22},{"$f":"IF($S113<>\"\",\"\",IF(AND($E113<=M$1,$B113=\"M\"),MAX(M$2:M112)+1,\"\"))","v":""},{"$f":"IF($S113<>\"\",\"\",IF(AND($E113<=N$1,$B113=\"F\"),MAX(N$2:N112)+1,\"\"))","v":""},{"$f":"IF($S113<>\"\",\"\",IF(AND($E113<=O$1,$B113=\"F\"),MAX(O$2:O112)+1,\"\"))","v":""},{"$f":"IF(AND($S113<>\"\",$S113<>\"No pot jugar individual\"),\"\",IF(AND($F113<=P$1,$B113=\"M\"),MAX(P$2:P112)+1,\"\"))","v":101},{"$f":"IF(AND($S113<>\"\",$S113<>\"No pot jugar individual\"),\"\",IF(AND($F113<=Q$1,$B113=\"M\"),MAX(Q$2:Q112)+1,\"\"))","v":22},{"$f":"IF($S113<>\"\",\"\",IF($F113<=R$1,MAX(R$2:R112)+1,\"\"))","v":""},"",7,0,0,0,"E","E","E","E","E","F","E","E"]
[9170,"M","MONZONIS Jofre","JUV-1",4,2,"R.ELISENDA","R.ELISENDA",559.96,{"$f":"IF($S114<>\"\",\"\",IF(AND($E114<=J$1,$B114=\"M\"),MAX(J$2:J113)+1,\"\"))","v":102},{"$f":"IF($S114<>\"\",\"\",IF(AND($E114<=K$1,$B114=\"M\"),MAX(K$2:K113)+1,\"\"))","v":""},{"$f":"IF($S114<>\"\",\"\",IF(AND($E114<=L$1,$B114=\"M\"),MAX(L$2:L113)+1,\"\"))","v":""},{"$f":"IF($S114<>\"\",\"\",IF(AND($E114<=M$1,$B114=\"M\"),MAX(M$2:M113)+1,\"\"))","v":""},{"$f":"IF($S114<>\"\",\"\",IF(AND($E114<=N$1,$B114=\"F\"),MAX(N$2:N113)+1,\"\"))","v":""},{"$f":"IF($S114<>\"\",\"\",IF(AND($E114<=O$1,$B114=\"F\"),MAX(O$2:O113)+1,\"\"))","v":""},{"$f":"IF(AND($S114<>\"\",$S114<>\"No pot jugar individual\"),\"\",IF(AND($F114<=P$1,$B114=\"M\"),MAX(P$2:P113)+1,\"\"))","v":102},{"$f":"IF(AND($S114<>\"\",$S114<>\"No pot jugar individual\"),\"\",IF(AND($F114<=Q$1,$B114=\"M\"),MAX(Q$2:Q113)+1,\"\"))","v":""},{"$f":"IF($S114<>\"\",\"\",IF($F114<=R$1,MAX(R$2:R113)+1,\"\"))","v":""},"",7,0,0,0,"F","F","E","E","E","E","E","E"]
[8113,"F","GUARCH Alexia","INF-1",3,0,"ESPARREGU.","ESPARREGU.",552.16,{"$f":"IF($S115<>\"\",\"\",IF(AND($E115<=J$1,$B115=\"M\"),MAX(J$2:J114)+1,\"\"))","v":""},{"$f":"IF($S115<>\"\",\"\",IF(AND($E115<=K$1,$B115=\"M\"),MAX(K$2:K114)+1,\"\"))","v":""},{"$f":"IF($S115<>\"\",\"\",IF(AND($E115<=L$1,$B115=\"M\"),MAX(L$2:L114)+1,\"\"))","v":""},{"$f":"IF($S115<>\"\",\"\",IF(AND($E115<=M$1,$B115=\"M\"),MAX(M$2:M114)+1,\"\"))","v":""},{"$f":"IF($S115<>\"\",\"\",IF(AND($E115<=N$1,$B115=\"F\"),MAX(N$2:N114)+1,\"\"))","v":11},{"$f":"IF($S115<>\"\",\"\",IF(AND($E115<=O$1,$B115=\"F\"),MAX(O$2:O114)+1,\"\"))","v":""},{"$f":"IF(AND($S115<>\"\",$S115<>\"No pot jugar individual\"),\"\",IF(AND($F115<=P$1,$B115=\"M\"),MAX(P$2:P114)+1,\"\"))","v":""},{"$f":"IF(AND($S115<>\"\",$S115<>\"No pot jugar individual\"),\"\",IF(AND($F115<=Q$1,$B115=\"M\"),MAX(Q$2:Q114)+1,\"\"))","v":""},{"$f":"IF($S115<>\"\",\"\",IF($F115<=R$1,MAX(R$2:R114)+1,\"\"))","v":11},"",7,0,0,0,"F","F","E","E","E","E","E","F"]
[5954,"F","MUNNE Laia","ALE-1",2,0,"STCUGAT","STCUGAT",499.98,{"$f":"IF($S116<>\"\",\"\",IF(AND($E116<=J$1,$B116=\"M\"),MAX(J$2:J115)+1,\"\"))","v":""},{"$f":"IF($S116<>\"\",\"\",IF(AND($E116<=K$1,$B116=\"M\"),MAX(K$2:K115)+1,\"\"))","v":""},{"$f":"IF($S116<>\"\",\"\",IF(AND($E116<=L$1,$B116=\"M\"),MAX(L$2:L115)+1,\"\"))","v":""},{"$f":"IF($S116<>\"\",\"\",IF(AND($E116<=M$1,$B116=\"M\"),MAX(M$2:M115)+1,\"\"))","v":""},{"$f":"IF($S116<>\"\",\"\",IF(AND($E116<=N$1,$B116=\"F\"),MAX(N$2:N115)+1,\"\"))","v":12},{"$f":"IF($S116<>\"\",\"\",IF(AND($E116<=O$1,$B116=\"F\"),MAX(O$2:O115)+1,\"\"))","v":6},{"$f":"IF(AND($S116<>\"\",$S116<>\"No pot jugar individual\"),\"\",IF(AND($F116<=P$1,$B116=\"M\"),MAX(P$2:P115)+1,\"\"))","v":""},{"$f":"IF(AND($S116<>\"\",$S116<>\"No pot jugar individual\"),\"\",IF(AND($F116<=Q$1,$B116=\"M\"),MAX(Q$2:Q115)+1,\"\"))","v":""},{"$f":"IF($S116<>\"\",\"\",IF($F116<=R$1,MAX(R$2:R115)+1,\"\"))","v":12},"",7,0,0,0,"G","H","G","F","E","F","E","E","BJ"]
[7731,"F","MOSCOSO Camila Renata","BEN-2",1,0,"OLESA","OLESA",486.33000000000004,{"$f":"IF($S117<>\"\",\"\",IF(AND($E117<=J$1,$B117=\"M\"),MAX(J$2:J116)+1,\"\"))","v":""},{"$f":"IF($S117<>\"\",\"\",IF(AND($E117<=K$1,$B117=\"M\"),MAX(K$2:K116)+1,\"\"))","v":""},{"$f":"IF($S117<>\"\",\"\",IF(AND($E117<=L$1,$B117=\"M\"),MAX(L$2:L116)+1,\"\"))","v":""},{"$f":"IF($S117<>\"\",\"\",IF(AND($E117<=M$1,$B117=\"M\"),MAX(M$2:M116)+1,\"\"))","v":""},{"$f":"IF($S117<>\"\",\"\",IF(AND($E117<=N$1,$B117=\"F\"),MAX(N$2:N116)+1,\"\"))","v":13},{"$f":"IF($S117<>\"\",\"\",IF(AND($E117<=O$1,$B117=\"F\"),MAX(O$2:O116)+1,\"\"))","v":7},{"$f":"IF(AND($S117<>\"\",$S117<>\"No pot jugar individual\"),\"\",IF(AND($F117<=P$1,$B117=\"M\"),MAX(P$2:P116)+1,\"\"))","v":""},{"$f":"IF(AND($S117<>\"\",$S117<>\"No pot jugar individual\"),\"\",IF(AND($F117<=Q$1,$B117=\"M\"),MAX(Q$2:Q116)+1,\"\"))","v":""},{"$f":"IF($S117<>\"\",\"\",IF($F117<=R$1,MAX(R$2:R116)+1,\"\"))","v":13},"",7,1,0,0,"J","I","H","G","G","F","E","E",null,null,null,"BC"]
[8620,"M","TORRES Noel","JUV-1",4,2,"VILANOVA","VILANOVA",478.03,{"$f":"IF($S118<>\"\",\"\",IF(AND($E118<=J$1,$B118=\"M\"),MAX(J$2:J117)+1,\"\"))","v":103},{"$f":"IF($S118<>\"\",\"\",IF(AND($E118<=K$1,$B118=\"M\"),MAX(K$2:K117)+1,\"\"))","v":""},{"$f":"IF($S118<>\"\",\"\",IF(AND($E118<=L$1,$B118=\"M\"),MAX(L$2:L117)+1,\"\"))","v":""},{"$f":"IF($S118<>\"\",\"\",IF(AND($E118<=M$1,$B118=\"M\"),MAX(M$2:M117)+1,\"\"))","v":""},{"$f":"IF($S118<>\"\",\"\",IF(AND($E118<=N$1,$B118=\"F\"),MAX(N$2:N117)+1,\"\"))","v":""},{"$f":"IF($S118<>\"\",\"\",IF(AND($E118<=O$1,$B118=\"F\"),MAX(O$2:O117)+1,\"\"))","v":""},{"$f":"IF(AND($S118<>\"\",$S118<>\"No pot jugar individual\"),\"\",IF(AND($F118<=P$1,$B118=\"M\"),MAX(P$2:P117)+1,\"\"))","v":103},{"$f":"IF(AND($S118<>\"\",$S118<>\"No pot jugar individual\"),\"\",IF(AND($F118<=Q$1,$B118=\"M\"),MAX(Q$2:Q117)+1,\"\"))","v":""},{"$f":"IF($S118<>\"\",\"\",IF($F118<=R$1,MAX(R$2:R117)+1,\"\"))","v":""},"",7,0,0,0,"D","D","D","E","E","F","E","E"]
[7608,"M","MANZANEQUE Ruben","JUV-1",4,2,"ESPARREGU.","ESPARREGU.",453.09,{"$f":"IF($S119<>\"\",\"\",IF(AND($E119<=J$1,$B119=\"M\"),MAX(J$2:J118)+1,\"\"))","v":104},{"$f":"IF($S119<>\"\",\"\",IF(AND($E119<=K$1,$B119=\"M\"),MAX(K$2:K118)+1,\"\"))","v":""},{"$f":"IF($S119<>\"\",\"\",IF(AND($E119<=L$1,$B119=\"M\"),MAX(L$2:L118)+1,\"\"))","v":""},{"$f":"IF($S119<>\"\",\"\",IF(AND($E119<=M$1,$B119=\"M\"),MAX(M$2:M118)+1,\"\"))","v":""},{"$f":"IF($S119<>\"\",\"\",IF(AND($E119<=N$1,$B119=\"F\"),MAX(N$2:N118)+1,\"\"))","v":""},{"$f":"IF($S119<>\"\",\"\",IF(AND($E119<=O$1,$B119=\"F\"),MAX(O$2:O118)+1,\"\"))","v":""},{"$f":"IF(AND($S119<>\"\",$S119<>\"No pot jugar individual\"),\"\",IF(AND($F119<=P$1,$B119=\"M\"),MAX(P$2:P118)+1,\"\"))","v":104},{"$f":"IF(AND($S119<>\"\",$S119<>\"No pot jugar individual\"),\"\",IF(AND($F119<=Q$1,$B119=\"M\"),MAX(Q$2:Q118)+1,\"\"))","v":""},{"$f":"IF($S119<>\"\",\"\",IF($F119<=R$1,MAX(R$2:R118)+1,\"\"))","v":""},"",7,0,0,0,"F","F","E","F","F","F","F","E"]
[8178,"M","MARTÍNEZ Alex","INF-1",3,2,"CALELLA","CALELLA",434.93,{"$f":"IF($S120<>\"\",\"\",IF(AND($E120<=J$1,$B120=\"M\"),MAX(J$2:J119)+1,\"\"))","v":105},{"$f":"IF($S120<>\"\",\"\",IF(AND($E120<=K$1,$B120=\"M\"),MAX(K$2:K119)+1,\"\"))","v":60},{"$f":"IF($S120<>\"\",\"\",IF(AND($E120<=L$1,$B120=\"M\"),MAX(L$2:L119)+1,\"\"))","v":""},{"$f":"IF($S120<>\"\",\"\",IF(AND($E120<=M$1,$B120=\"M\"),MAX(M$2:M119)+1,\"\"))","v":""},{"$f":"IF($S120<>\"\",\"\",IF(AND($E120<=N$1,$B120=\"F\"),MAX(N$2:N119)+1,\"\"))","v":""},{"$f":"IF($S120<>\"\",\"\",IF(AND($E120<=O$1,$B120=\"F\"),MAX(O$2:O119)+1,\"\"))","v":""},{"$f":"IF(AND($S120<>\"\",$S120<>\"No pot jugar individual\"),\"\",IF(AND($F120<=P$1,$B120=\"M\"),MAX(P$2:P119)+1,\"\"))","v":105},{"$f":"IF(AND($S120<>\"\",$S120<>\"No pot jugar individual\"),\"\",IF(AND($F120<=Q$1,$B120=\"M\"),MAX(Q$2:Q119)+1,\"\"))","v":""},{"$f":"IF($S120<>\"\",\"\",IF($F120<=R$1,MAX(R$2:R119)+1,\"\"))","v":""},"",7,0,0,0,"F","F","F","F","F","F","F","E"]
[7616,"F","CASANOVA Claudia","INF-2",3,0,"CARDEDEU","CARDEDEU",421.82,{"$f":"IF($S121<>\"\",\"\",IF(AND($E121<=J$1,$B121=\"M\"),MAX(J$2:J120)+1,\"\"))","v":""},{"$f":"IF($S121<>\"\",\"\",IF(AND($E121<=K$1,$B121=\"M\"),MAX(K$2:K120)+1,\"\"))","v":""},{"$f":"IF($S121<>\"\",\"\",IF(AND($E121<=L$1,$B121=\"M\"),MAX(L$2:L120)+1,\"\"))","v":""},{"$f":"IF($S121<>\"\",\"\",IF(AND($E121<=M$1,$B121=\"M\"),MAX(M$2:M120)+1,\"\"))","v":""},{"$f":"IF($S121<>\"\",\"\",IF(AND($E121<=N$1,$B121=\"F\"),MAX(N$2:N120)+1,\"\"))","v":14},{"$f":"IF($S121<>\"\",\"\",IF(AND($E121<=O$1,$B121=\"F\"),MAX(O$2:O120)+1,\"\"))","v":""},{"$f":"IF(AND($S121<>\"\",$S121<>\"No pot jugar individual\"),\"\",IF(AND($F121<=P$1,$B121=\"M\"),MAX(P$2:P120)+1,\"\"))","v":""},{"$f":"IF(AND($S121<>\"\",$S121<>\"No pot jugar individual\"),\"\",IF(AND($F121<=Q$1,$B121=\"M\"),MAX(Q$2:Q120)+1,\"\"))","v":""},{"$f":"IF($S121<>\"\",\"\",IF($F121<=R$1,MAX(R$2:R120)+1,\"\"))","v":14},"",7,0,0,0,"E","E","F","E","F","E","E","F"]
[10195,"M","NAVARRO Marc","JUV-1",4,2,"CASTELLDEFELS","CASTELLDEFELS",416.97999999999996,{"$f":"IF($S122<>\"\",\"\",IF(AND($E122<=J$1,$B122=\"M\"),MAX(J$2:J121)+1,\"\"))","v":106},{"$f":"IF($S122<>\"\",\"\",IF(AND($E122<=K$1,$B122=\"M\"),MAX(K$2:K121)+1,\"\"))","v":""},{"$f":"IF($S122<>\"\",\"\",IF(AND($E122<=L$1,$B122=\"M\"),MAX(L$2:L121)+1,\"\"))","v":""},{"$f":"IF($S122<>\"\",\"\",IF(AND($E122<=M$1,$B122=\"M\"),MAX(M$2:M121)+1,\"\"))","v":""},{"$f":"IF($S122<>\"\",\"\",IF(AND($E122<=N$1,$B122=\"F\"),MAX(N$2:N121)+1,\"\"))","v":""},{"$f":"IF($S122<>\"\",\"\",IF(AND($E122<=O$1,$B122=\"F\"),MAX(O$2:O121)+1,\"\"))","v":""},{"$f":"IF(AND($S122<>\"\",$S122<>\"No pot jugar individual\"),\"\",IF(AND($F122<=P$1,$B122=\"M\"),MAX(P$2:P121)+1,\"\"))","v":106},{"$f":"IF(AND($S122<>\"\",$S122<>\"No pot jugar individual\"),\"\",IF(AND($F122<=Q$1,$B122=\"M\"),MAX(Q$2:Q121)+1,\"\"))","v":""},{"$f":"IF($S122<>\"\",\"\",IF($F122<=R$1,MAX(R$2:R121)+1,\"\"))","v":""},"",7,0,0,0,"G","G","F","F","E","E","E","F"]
[10122,"F","PEREZ Andrea","JUV-1",4,0,"ESPARREGU.","ESPARREGU.",399.99,{"$f":"IF($S123<>\"\",\"\",IF(AND($E123<=J$1,$B123=\"M\"),MAX(J$2:J122)+1,\"\"))","v":""},{"$f":"IF($S123<>\"\",\"\",IF(AND($E123<=K$1,$B123=\"M\"),MAX(K$2:K122)+1,\"\"))","v":""},{"$f":"IF($S123<>\"\",\"\",IF(AND($E123<=L$1,$B123=\"M\"),MAX(L$2:L122)+1,\"\"))","v":""},{"$f":"IF($S123<>\"\",\"\",IF(AND($E123<=M$1,$B123=\"M\"),MAX(M$2:M122)+1,\"\"))","v":""},{"$f":"IF($S123<>\"\",\"\",IF(AND($E123<=N$1,$B123=\"F\"),MAX(N$2:N122)+1,\"\"))","v":15},{"$f":"IF($S123<>\"\",\"\",IF(AND($E123<=O$1,$B123=\"F\"),MAX(O$2:O122)+1,\"\"))","v":""},{"$f":"IF(AND($S123<>\"\",$S123<>\"No pot jugar individual\"),\"\",IF(AND($F123<=P$1,$B123=\"M\"),MAX(P$2:P122)+1,\"\"))","v":""},{"$f":"IF(AND($S123<>\"\",$S123<>\"No pot jugar individual\"),\"\",IF(AND($F123<=Q$1,$B123=\"M\"),MAX(Q$2:Q122)+1,\"\"))","v":""},{"$f":"IF($S123<>\"\",\"\",IF($F123<=R$1,MAX(R$2:R122)+1,\"\"))","v":15},"",7,{"$f":"COUNTIF($AF123:$AL123,U$2)","v":0},1,0,"E","E","E","F","E","F","F","E",null,null,"BN"]
[10533,"M","MARTOS Adrián","JUV-2",4,2,"EUROCLIMA BDN","EUROCLIMA BDN",378.7,{"$f":"IF($S124<>\"\",\"\",IF(AND($E124<=J$1,$B124=\"M\"),MAX(J$2:J123)+1,\"\"))","v":107},{"$f":"IF($S124<>\"\",\"\",IF(AND($E124<=K$1,$B124=\"M\"),MAX(K$2:K123)+1,\"\"))","v":""},{"$f":"IF($S124<>\"\",\"\",IF(AND($E124<=L$1,$B124=\"M\"),MAX(L$2:L123)+1,\"\"))","v":""},{"$f":"IF($S124<>\"\",\"\",IF(AND($E124<=M$1,$B124=\"M\"),MAX(M$2:M123)+1,\"\"))","v":""},{"$f":"IF($S124<>\"\",\"\",IF(AND($E124<=N$1,$B124=\"F\"),MAX(N$2:N123)+1,\"\"))","v":""},{"$f":"IF($S124<>\"\",\"\",IF(AND($E124<=O$1,$B124=\"F\"),MAX(O$2:O123)+1,\"\"))","v":""},{"$f":"IF(AND($S124<>\"\",$S124<>\"No pot jugar individual\"),\"\",IF(AND($F124<=P$1,$B124=\"M\"),MAX(P$2:P123)+1,\"\"))","v":107},{"$f":"IF(AND($S124<>\"\",$S124<>\"No pot jugar individual\"),\"\",IF(AND($F124<=Q$1,$B124=\"M\"),MAX(Q$2:Q123)+1,\"\"))","v":""},{"$f":"IF($S124<>\"\",\"\",IF($F124<=R$1,MAX(R$2:R123)+1,\"\"))","v":""},"",7,0,0,0,"H","H","G","H","G","F","E","E"]
[8619,"M","SANZ Aitor","INF-2",3,2,"ESPARREGU.","ESPARREGU.",374.96,{"$f":"IF($S125<>\"\",\"\",IF(AND($E125<=J$1,$B125=\"M\"),MAX(J$2:J124)+1,\"\"))","v":108},{"$f":"IF($S125<>\"\",\"\",IF(AND($E125<=K$1,$B125=\"M\"),MAX(K$2:K124)+1,\"\"))","v":61},{"$f":"IF($S125<>\"\",\"\",IF(AND($E125<=L$1,$B125=\"M\"),MAX(L$2:L124)+1,\"\"))","v":""},{"$f":"IF($S125<>\"\",\"\",IF(AND($E125<=M$1,$B125=\"M\"),MAX(M$2:M124)+1,\"\"))","v":""},{"$f":"IF($S125<>\"\",\"\",IF(AND($E125<=N$1,$B125=\"F\"),MAX(N$2:N124)+1,\"\"))","v":""},{"$f":"IF($S125<>\"\",\"\",IF(AND($E125<=O$1,$B125=\"F\"),MAX(O$2:O124)+1,\"\"))","v":""},{"$f":"IF(AND($S125<>\"\",$S125<>\"No pot jugar individual\"),\"\",IF(AND($F125<=P$1,$B125=\"M\"),MAX(P$2:P124)+1,\"\"))","v":108},{"$f":"IF(AND($S125<>\"\",$S125<>\"No pot jugar individual\"),\"\",IF(AND($F125<=Q$1,$B125=\"M\"),MAX(Q$2:Q124)+1,\"\"))","v":""},{"$f":"IF($S125<>\"\",\"\",IF($F125<=R$1,MAX(R$2:R124)+1,\"\"))","v":""},"",7,0,0,0,"E","E","F","F","F","F","F","F"]
[6383,"F","GIMENO Irina","PRE-0",1,0,"VIC","VIC",374.61,{"$f":"IF($S126<>\"\",\"\",IF(AND($E126<=J$1,$B126=\"M\"),MAX(J$2:J125)+1,\"\"))","v":""},{"$f":"IF($S126<>\"\",\"\",IF(AND($E126<=K$1,$B126=\"M\"),MAX(K$2:K125)+1,\"\"))","v":""},{"$f":"IF($S126<>\"\",\"\",IF(AND($E126<=L$1,$B126=\"M\"),MAX(L$2:L125)+1,\"\"))","v":""},{"$f":"IF($S126<>\"\",\"\",IF(AND($E126<=M$1,$B126=\"M\"),MAX(M$2:M125)+1,\"\"))","v":""},{"$f":"IF($S126<>\"\",\"\",IF(AND($E126<=N$1,$B126=\"F\"),MAX(N$2:N125)+1,\"\"))","v":16},{"$f":"IF($S126<>\"\",\"\",IF(AND($E126<=O$1,$B126=\"F\"),MAX(O$2:O125)+1,\"\"))","v":8},{"$f":"IF(AND($S126<>\"\",$S126<>\"No pot jugar individual\"),\"\",IF(AND($F126<=P$1,$B126=\"M\"),MAX(P$2:P125)+1,\"\"))","v":""},{"$f":"IF(AND($S126<>\"\",$S126<>\"No pot jugar individual\"),\"\",IF(AND($F126<=Q$1,$B126=\"M\"),MAX(Q$2:Q125)+1,\"\"))","v":""},{"$f":"IF($S126<>\"\",\"\",IF($F126<=R$1,MAX(R$2:R125)+1,\"\"))","v":16},"",7,0,0,0,"H","H","G","F","F","E","E","F",null,null,null,null,null,null,"BJ"]
[10139,"M","HUERTAS Bruno","BEN-2",1,1,"STCUGAT","STCUGAT",373.75,{"$f":"IF($S127<>\"\",\"\",IF(AND($E127<=J$1,$B127=\"M\"),MAX(J$2:J126)+1,\"\"))","v":109},{"$f":"IF($S127<>\"\",\"\",IF(AND($E127<=K$1,$B127=\"M\"),MAX(K$2:K126)+1,\"\"))","v":62},{"$f":"IF($S127<>\"\",\"\",IF(AND($E127<=L$1,$B127=\"M\"),MAX(L$2:L126)+1,\"\"))","v":23},{"$f":"IF($S127<>\"\",\"\",IF(AND($E127<=M$1,$B127=\"M\"),MAX(M$2:M126)+1,\"\"))","v":2},{"$f":"IF($S127<>\"\",\"\",IF(AND($E127<=N$1,$B127=\"F\"),MAX(N$2:N126)+1,\"\"))","v":""},{"$f":"IF($S127<>\"\",\"\",IF(AND($E127<=O$1,$B127=\"F\"),MAX(O$2:O126)+1,\"\"))","v":""},{"$f":"IF(AND($S127<>\"\",$S127<>\"No pot jugar individual\"),\"\",IF(AND($F127<=P$1,$B127=\"M\"),MAX(P$2:P126)+1,\"\"))","v":109},{"$f":"IF(AND($S127<>\"\",$S127<>\"No pot jugar individual\"),\"\",IF(AND($F127<=Q$1,$B127=\"M\"),MAX(Q$2:Q126)+1,\"\"))","v":23},{"$f":"IF($S127<>\"\",\"\",IF($F127<=R$1,MAX(R$2:R126)+1,\"\"))","v":""},"",7,0,0,0,"F","F","G","F","G","F","F","F",null,"BJ",null,"BJ",null,null,"BJ"]
[7919,"M","GARCIA Enrique","JUV-2",4,2,"R.ELISENDA","R.ELISENDA",357.16999999999996,{"$f":"IF($S128<>\"\",\"\",IF(AND($E128<=J$1,$B128=\"M\"),MAX(J$2:J127)+1,\"\"))","v":110},{"$f":"IF($S128<>\"\",\"\",IF(AND($E128<=K$1,$B128=\"M\"),MAX(K$2:K127)+1,\"\"))","v":""},{"$f":"IF($S128<>\"\",\"\",IF(AND($E128<=L$1,$B128=\"M\"),MAX(L$2:L127)+1,\"\"))","v":""},{"$f":"IF($S128<>\"\",\"\",IF(AND($E128<=M$1,$B128=\"M\"),MAX(M$2:M127)+1,\"\"))","v":""},{"$f":"IF($S128<>\"\",\"\",IF(AND($E128<=N$1,$B128=\"F\"),MAX(N$2:N127)+1,\"\"))","v":""},{"$f":"IF($S128<>\"\",\"\",IF(AND($E128<=O$1,$B128=\"F\"),MAX(O$2:O127)+1,\"\"))","v":""},{"$f":"IF(AND($S128<>\"\",$S128<>\"No pot jugar individual\"),\"\",IF(AND($F128<=P$1,$B128=\"M\"),MAX(P$2:P127)+1,\"\"))","v":110},{"$f":"IF(AND($S128<>\"\",$S128<>\"No pot jugar individual\"),\"\",IF(AND($F128<=Q$1,$B128=\"M\"),MAX(Q$2:Q127)+1,\"\"))","v":""},{"$f":"IF($S128<>\"\",\"\",IF($F128<=R$1,MAX(R$2:R127)+1,\"\"))","v":""},"",7,0,0,0,"G","G","F","F","F","F","F","F"]
[8520,"M","GUZMÁN Arnau","ALE-2",2,1,"CASTELLDEFELS","CASTELLDEFELS",352.27000000000004,{"$f":"IF($S129<>\"\",\"\",IF(AND($E129<=J$1,$B129=\"M\"),MAX(J$2:J128)+1,\"\"))","v":111},{"$f":"IF($S129<>\"\",\"\",IF(AND($E129<=K$1,$B129=\"M\"),MAX(K$2:K128)+1,\"\"))","v":63},{"$f":"IF($S129<>\"\",\"\",IF(AND($E129<=L$1,$B129=\"M\"),MAX(L$2:L128)+1,\"\"))","v":24},{"$f":"IF($S129<>\"\",\"\",IF(AND($E129<=M$1,$B129=\"M\"),MAX(M$2:M128)+1,\"\"))","v":""},{"$f":"IF($S129<>\"\",\"\",IF(AND($E129<=N$1,$B129=\"F\"),MAX(N$2:N128)+1,\"\"))","v":""},{"$f":"IF($S129<>\"\",\"\",IF(AND($E129<=O$1,$B129=\"F\"),MAX(O$2:O128)+1,\"\"))","v":""},{"$f":"IF(AND($S129<>\"\",$S129<>\"No pot jugar individual\"),\"\",IF(AND($F129<=P$1,$B129=\"M\"),MAX(P$2:P128)+1,\"\"))","v":111},{"$f":"IF(AND($S129<>\"\",$S129<>\"No pot jugar individual\"),\"\",IF(AND($F129<=Q$1,$B129=\"M\"),MAX(Q$2:Q128)+1,\"\"))","v":24},{"$f":"IF($S129<>\"\",\"\",IF($F129<=R$1,MAX(R$2:R128)+1,\"\"))","v":""},"",7,0,0,0,"F","G","G","F","F","F","F","F",null,null,null,null,null,"BJ"]
[8067,"M","HIDALGO Hernan","JUV-1",4,2,"ATEN82","ATEN82",348.4,{"$f":"IF($S130<>\"\",\"\",IF(AND($E130<=J$1,$B130=\"M\"),MAX(J$2:J129)+1,\"\"))","v":112},{"$f":"IF($S130<>\"\",\"\",IF(AND($E130<=K$1,$B130=\"M\"),MAX(K$2:K129)+1,\"\"))","v":""},{"$f":"IF($S130<>\"\",\"\",IF(AND($E130<=L$1,$B130=\"M\"),MAX(L$2:L129)+1,\"\"))","v":""},{"$f":"IF($S130<>\"\",\"\",IF(AND($E130<=M$1,$B130=\"M\"),MAX(M$2:M129)+1,\"\"))","v":""},{"$f":"IF($S130<>\"\",\"\",IF(AND($E130<=N$1,$B130=\"F\"),MAX(N$2:N129)+1,\"\"))","v":""},{"$f":"IF($S130<>\"\",\"\",IF(AND($E130<=O$1,$B130=\"F\"),MAX(O$2:O129)+1,\"\"))","v":""},{"$f":"IF(AND($S130<>\"\",$S130<>\"No pot jugar individual\"),\"\",IF(AND($F130<=P$1,$B130=\"M\"),MAX(P$2:P129)+1,\"\"))","v":112},{"$f":"IF(AND($S130<>\"\",$S130<>\"No pot jugar individual\"),\"\",IF(AND($F130<=Q$1,$B130=\"M\"),MAX(Q$2:Q129)+1,\"\"))","v":""},{"$f":"IF($S130<>\"\",\"\",IF($F130<=R$1,MAX(R$2:R129)+1,\"\"))","v":""},"",7,0,0,0,"F","F","F","F","F","F","F","F"]
[8690,"M","HARO Gerard","JUV-1",{"$f":"IF(LEFT(D131,1)=\"P\",1,IF(LEFT(D131,1)=\"B\",1,IF(LEFT(D131,1)=\"A\",2,IF(LEFT(D131,1)=\"I\",3,4))))","v":4},{"$f":"IF(B131=\"F\",0,IF(LEFT(D131,1)=\"P\",1,IF(LEFT(D131,1)=\"B\",1,IF(LEFT(D131,1)=\"A\",1,IF(LEFT(D131,1)=\"I\",2,2)))))","v":2},"OLESA","OLESA",327.24,{"$f":"IF($S131<>\"\",\"\",IF(AND($E131<=J$1,$B131=\"M\"),MAX(J$2:J130)+1,\"\"))","v":113},{"$f":"IF($S131<>\"\",\"\",IF(AND($E131<=K$1,$B131=\"M\"),MAX(K$2:K130)+1,\"\"))","v":""},{"$f":"IF($S131<>\"\",\"\",IF(AND($E131<=L$1,$B131=\"M\"),MAX(L$2:L130)+1,\"\"))","v":""},{"$f":"IF($S131<>\"\",\"\",IF(AND($E131<=M$1,$B131=\"M\"),MAX(M$2:M130)+1,\"\"))","v":""},{"$f":"IF($S131<>\"\",\"\",IF(AND($E131<=N$1,$B131=\"F\"),MAX(N$2:N130)+1,\"\"))","v":""},{"$f":"IF($S131<>\"\",\"\",IF(AND($E131<=O$1,$B131=\"F\"),MAX(O$2:O130)+1,\"\"))","v":""},{"$f":"IF(AND($S131<>\"\",$S131<>\"No pot jugar individual\"),\"\",IF(AND($F131<=P$1,$B131=\"M\"),MAX(P$2:P130)+1,\"\"))","v":113},{"$f":"IF(AND($S131<>\"\",$S131<>\"No pot jugar individual\"),\"\",IF(AND($F131<=Q$1,$B131=\"M\"),MAX(Q$2:Q130)+1,\"\"))","v":""},{"$f":"IF($S131<>\"\",\"\",IF($F131<=R$1,MAX(R$2:R130)+1,\"\"))","v":""},{"$f":"IF(1=1,\"\",IF(W131<>0,\"No pot jugar\",IF(OR(AE131=\"Y\",AE131=\"Z\",G131=\"INDEPEN\",G131=\"R.ELISENDA\"),\"No pot jugar\",IF(T131-U131-V131-W131=0,IF(V131<>0,\"No pot jugar\",IF(AND(B131=\"M\",OR(G131=\"INDEPEN\",G131=\"R.ELISENDA\")),\"No pot jugar individual\",\"\")),IF(AND(B131=\"M\",OR(G131=\"INDEPEN\",G131=\"R.ELISENDA\")),\"No pot jugar individual\",\"\")))))","v":""},{"$f":"7-COUNTBLANK(X131:AD131)","v":7},2,0,0,"F","F","G","F","F","E","F","G",null,null,null,null,null,"BC","BC"]
[10389,"M","CABUS Adria","INF-2",3,2,"ESPARREGU.","ESPARREGU.",324.45999999999998,{"$f":"IF($S132<>\"\",\"\",IF(AND($E132<=J$1,$B132=\"M\"),MAX(J$2:J131)+1,\"\"))","v":114},{"$f":"IF($S132<>\"\",\"\",IF(AND($E132<=K$1,$B132=\"M\"),MAX(K$2:K131)+1,\"\"))","v":64},{"$f":"IF($S132<>\"\",\"\",IF(AND($E132<=L$1,$B132=\"M\"),MAX(L$2:L131)+1,\"\"))","v":""},{"$f":"IF($S132<>\"\",\"\",IF(AND($E132<=M$1,$B132=\"M\"),MAX(M$2:M131)+1,\"\"))","v":""},{"$f":"IF($S132<>\"\",\"\",IF(AND($E132<=N$1,$B132=\"F\"),MAX(N$2:N131)+1,\"\"))","v":""},{"$f":"IF($S132<>\"\",\"\",IF(AND($E132<=O$1,$B132=\"F\"),MAX(O$2:O131)+1,\"\"))","v":""},{"$f":"IF(AND($S132<>\"\",$S132<>\"No pot jugar individual\"),\"\",IF(AND($F132<=P$1,$B132=\"M\"),MAX(P$2:P131)+1,\"\"))","v":114},{"$f":"IF(AND($S132<>\"\",$S132<>\"No pot jugar individual\"),\"\",IF(AND($F132<=Q$1,$B132=\"M\"),MAX(Q$2:Q131)+1,\"\"))","v":""},{"$f":"IF($S132<>\"\",\"\",IF($F132<=R$1,MAX(R$2:R131)+1,\"\"))","v":""},"",7,0,0,0,"J","I","H","G","F","G","F","F"]
[8493,"M","RUIZ Jordi","ALE-2",2,1,"INDEPEN","INDEPEN",322.33,{"$f":"IF($S133<>\"\",\"\",IF(AND($E133<=J$1,$B133=\"M\"),MAX(J$2:J132)+1,\"\"))","v":115},{"$f":"IF($S133<>\"\",\"\",IF(AND($E133<=K$1,$B133=\"M\"),MAX(K$2:K132)+1,\"\"))","v":65},{"$f":"IF($S133<>\"\",\"\",IF(AND($E133<=L$1,$B133=\"M\"),MAX(L$2:L132)+1,\"\"))","v":25},{"$f":"IF($S133<>\"\",\"\",IF(AND($E133<=M$1,$B133=\"M\"),MAX(M$2:M132)+1,\"\"))","v":""},{"$f":"IF($S133<>\"\",\"\",IF(AND($E133<=N$1,$B133=\"F\"),MAX(N$2:N132)+1,\"\"))","v":""},{"$f":"IF($S133<>\"\",\"\",IF(AND($E133<=O$1,$B133=\"F\"),MAX(O$2:O132)+1,\"\"))","v":""},{"$f":"IF(AND($S133<>\"\",$S133<>\"No pot jugar individual\"),\"\",IF(AND($F133<=P$1,$B133=\"M\"),MAX(P$2:P132)+1,\"\"))","v":115},{"$f":"IF(AND($S133<>\"\",$S133<>\"No pot jugar individual\"),\"\",IF(AND($F133<=Q$1,$B133=\"M\"),MAX(Q$2:Q132)+1,\"\"))","v":25},{"$f":"IF($S133<>\"\",\"\",IF($F133<=R$1,MAX(R$2:R132)+1,\"\"))","v":""},"",7,0,1,0,"E","F","F","G","F","F","F","F","BN",null,"BJ",null,null,null,"BJ"]
[10298,"M","RODRÍGUEZ Gabriel","ALE-2",2,1,"LLUÏSOS","LLUÏSOS",317.65999999999997,{"$f":"IF($S134<>\"\",\"\",IF(AND($E134<=J$1,$B134=\"M\"),MAX(J$2:J133)+1,\"\"))","v":116},{"$f":"IF($S134<>\"\",\"\",IF(AND($E134<=K$1,$B134=\"M\"),MAX(K$2:K133)+1,\"\"))","v":66},{"$f":"IF($S134<>\"\",\"\",IF(AND($E134<=L$1,$B134=\"M\"),MAX(L$2:L133)+1,\"\"))","v":26},{"$f":"IF($S134<>\"\",\"\",IF(AND($E134<=M$1,$B134=\"M\"),MAX(M$2:M133)+1,\"\"))","v":""},{"$f":"IF($S134<>\"\",\"\",IF(AND($E134<=N$1,$B134=\"F\"),MAX(N$2:N133)+1,\"\"))","v":""},{"$f":"IF($S134<>\"\",\"\",IF(AND($E134<=O$1,$B134=\"F\"),MAX(O$2:O133)+1,\"\"))","v":""},{"$f":"IF(AND($S134<>\"\",$S134<>\"No pot jugar individual\"),\"\",IF(AND($F134<=P$1,$B134=\"M\"),MAX(P$2:P133)+1,\"\"))","v":116},{"$f":"IF(AND($S134<>\"\",$S134<>\"No pot jugar individual\"),\"\",IF(AND($F134<=Q$1,$B134=\"M\"),MAX(Q$2:Q133)+1,\"\"))","v":26},{"$f":"IF($S134<>\"\",\"\",IF($F134<=R$1,MAX(R$2:R133)+1,\"\"))","v":""},"",7,0,0,0,"G","G","G","F","F","F","F","F",null,null,null,null,null,"BJ"]
[7727,"M","VIVÓ Oriol","JUV-3",4,2,"OLESA","OLESA",317,{"$f":"IF($S135<>\"\",\"\",IF(AND($E135<=J$1,$B135=\"M\"),MAX(J$2:J134)+1,\"\"))","v":117},{"$f":"IF($S135<>\"\",\"\",IF(AND($E135<=K$1,$B135=\"M\"),MAX(K$2:K134)+1,\"\"))","v":""},{"$f":"IF($S135<>\"\",\"\",IF(AND($E135<=L$1,$B135=\"M\"),MAX(L$2:L134)+1,\"\"))","v":""},{"$f":"IF($S135<>\"\",\"\",IF(AND($E135<=M$1,$B135=\"M\"),MAX(M$2:M134)+1,\"\"))","v":""},{"$f":"IF($S135<>\"\",\"\",IF(AND($E135<=N$1,$B135=\"F\"),MAX(N$2:N134)+1,\"\"))","v":""},{"$f":"IF($S135<>\"\",\"\",IF(AND($E135<=O$1,$B135=\"F\"),MAX(O$2:O134)+1,\"\"))","v":""},{"$f":"IF(AND($S135<>\"\",$S135<>\"No pot jugar individual\"),\"\",IF(AND($F135<=P$1,$B135=\"M\"),MAX(P$2:P134)+1,\"\"))","v":117},{"$f":"IF(AND($S135<>\"\",$S135<>\"No pot jugar individual\"),\"\",IF(AND($F135<=Q$1,$B135=\"M\"),MAX(Q$2:Q134)+1,\"\"))","v":""},{"$f":"IF($S135<>\"\",\"\",IF($F135<=R$1,MAX(R$2:R134)+1,\"\"))","v":""},"",7,0,0,0,"K","J","I","H","H","G","F","E"]
[8570,"F","PEREZ Silvia","JUV-1",4,0,"PREMIA","PREMIA",313.67,{"$f":"IF($S136<>\"\",\"\",IF(AND($E136<=J$1,$B136=\"M\"),MAX(J$2:J135)+1,\"\"))","v":""},{"$f":"IF($S136<>\"\",\"\",IF(AND($E136<=K$1,$B136=\"M\"),MAX(K$2:K135)+1,\"\"))","v":""},{"$f":"IF($S136<>\"\",\"\",IF(AND($E136<=L$1,$B136=\"M\"),MAX(L$2:L135)+1,\"\"))","v":""},{"$f":"IF($S136<>\"\",\"\",IF(AND($E136<=M$1,$B136=\"M\"),MAX(M$2:M135)+1,\"\"))","v":""},{"$f":"IF($S136<>\"\",\"\",IF(AND($E136<=N$1,$B136=\"F\"),MAX(N$2:N135)+1,\"\"))","v":17},{"$f":"IF($S136<>\"\",\"\",IF(AND($E136<=O$1,$B136=\"F\"),MAX(O$2:O135)+1,\"\"))","v":""},{"$f":"IF(AND($S136<>\"\",$S136<>\"No pot jugar individual\"),\"\",IF(AND($F136<=P$1,$B136=\"M\"),MAX(P$2:P135)+1,\"\"))","v":""},{"$f":"IF(AND($S136<>\"\",$S136<>\"No pot jugar individual\"),\"\",IF(AND($F136<=Q$1,$B136=\"M\"),MAX(Q$2:Q135)+1,\"\"))","v":""},{"$f":"IF($S136<>\"\",\"\",IF($F136<=R$1,MAX(R$2:R135)+1,\"\"))","v":17},"",7,0,0,0,"E","F","F","F","F","F","F","F"]
[8888,"M","MORELL Biel","INF-1",3,2,"VIC","VIC",308.53000000000003,{"$f":"IF($S137<>\"\",\"\",IF(AND($E137<=J$1,$B137=\"M\"),MAX(J$2:J136)+1,\"\"))","v":118},{"$f":"IF($S137<>\"\",\"\",IF(AND($E137<=K$1,$B137=\"M\"),MAX(K$2:K136)+1,\"\"))","v":67},{"$f":"IF($S137<>\"\",\"\",IF(AND($E137<=L$1,$B137=\"M\"),MAX(L$2:L136)+1,\"\"))","v":""},{"$f":"IF($S137<>\"\",\"\",IF(AND($E137<=M$1,$B137=\"M\"),MAX(M$2:M136)+1,\"\"))","v":""},{"$f":"IF($S137<>\"\",\"\",IF(AND($E137<=N$1,$B137=\"F\"),MAX(N$2:N136)+1,\"\"))","v":""},{"$f":"IF($S137<>\"\",\"\",IF(AND($E137<=O$1,$B137=\"F\"),MAX(O$2:O136)+1,\"\"))","v":""},{"$f":"IF(AND($S137<>\"\",$S137<>\"No pot jugar individual\"),\"\",IF(AND($F137<=P$1,$B137=\"M\"),MAX(P$2:P136)+1,\"\"))","v":118},{"$f":"IF(AND($S137<>\"\",$S137<>\"No pot jugar individual\"),\"\",IF(AND($F137<=Q$1,$B137=\"M\"),MAX(Q$2:Q136)+1,\"\"))","v":""},{"$f":"IF($S137<>\"\",\"\",IF($F137<=R$1,MAX(R$2:R136)+1,\"\"))","v":""},"",7,1,0,0,"E","D","E","E","F","G","G","G",null,null,"BJ",null,"BC","BJ"]
[6416,"M","MOYA Carlos","JUV-1",4,2,"OLESA","OLESA",304.73999999999995,{"$f":"IF($S138<>\"\",\"\",IF(AND($E138<=J$1,$B138=\"M\"),MAX(J$2:J137)+1,\"\"))","v":119},{"$f":"IF($S138<>\"\",\"\",IF(AND($E138<=K$1,$B138=\"M\"),MAX(K$2:K137)+1,\"\"))","v":""},{"$f":"IF($S138<>\"\",\"\",IF(AND($E138<=L$1,$B138=\"M\"),MAX(L$2:L137)+1,\"\"))","v":""},{"$f":"IF($S138<>\"\",\"\",IF(AND($E138<=M$1,$B138=\"M\"),MAX(M$2:M137)+1,\"\"))","v":""},{"$f":"IF($S138<>\"\",\"\",IF(AND($E138<=N$1,$B138=\"F\"),MAX(N$2:N137)+1,\"\"))","v":""},{"$f":"IF($S138<>\"\",\"\",IF(AND($E138<=O$1,$B138=\"F\"),MAX(O$2:O137)+1,\"\"))","v":""},{"$f":"IF(AND($S138<>\"\",$S138<>\"No pot jugar individual\"),\"\",IF(AND($F138<=P$1,$B138=\"M\"),MAX(P$2:P137)+1,\"\"))","v":119},{"$f":"IF(AND($S138<>\"\",$S138<>\"No pot jugar individual\"),\"\",IF(AND($F138<=Q$1,$B138=\"M\"),MAX(Q$2:Q137)+1,\"\"))","v":""},{"$f":"IF($S138<>\"\",\"\",IF($F138<=R$1,MAX(R$2:R137)+1,\"\"))","v":""},"",7,1,0,0,"F","G","G","G","G","G","F","F","BC"]
[6489,"F","HIGUERAS Julia","INF-2",3,0,"MATARO","MATARO",296.20000000000005,{"$f":"IF($S139<>\"\",\"\",IF(AND($E139<=J$1,$B139=\"M\"),MAX(J$2:J138)+1,\"\"))","v":""},{"$f":"IF($S139<>\"\",\"\",IF(AND($E139<=K$1,$B139=\"M\"),MAX(K$2:K138)+1,\"\"))","v":""},{"$f":"IF($S139<>\"\",\"\",IF(AND($E139<=L$1,$B139=\"M\"),MAX(L$2:L138)+1,\"\"))","v":""},{"$f":"IF($S139<>\"\",\"\",IF(AND($E139<=M$1,$B139=\"M\"),MAX(M$2:M138)+1,\"\"))","v":""},{"$f":"IF($S139<>\"\",\"\",IF(AND($E139<=N$1,$B139=\"F\"),MAX(N$2:N138)+1,\"\"))","v":18},{"$f":"IF($S139<>\"\",\"\",IF(AND($E139<=O$1,$B139=\"F\"),MAX(O$2:O138)+1,\"\"))","v":""},{"$f":"IF(AND($S139<>\"\",$S139<>\"No pot jugar individual\"),\"\",IF(AND($F139<=P$1,$B139=\"M\"),MAX(P$2:P138)+1,\"\"))","v":""},{"$f":"IF(AND($S139<>\"\",$S139<>\"No pot jugar individual\"),\"\",IF(AND($F139<=Q$1,$B139=\"M\"),MAX(Q$2:Q138)+1,\"\"))","v":""},{"$f":"IF($S139<>\"\",\"\",IF($F139<=R$1,MAX(R$2:R138)+1,\"\"))","v":18},"",3,0,1,0,null,null,null,null,"D","C","D","E",null,null,null,null,null,null,"BN"]
[8553,"M","MÜLLER Àlex","INF-2",3,2,"HORTA","HORTA",288.13,{"$f":"IF($S140<>\"\",\"\",IF(AND($E140<=J$1,$B140=\"M\"),MAX(J$2:J139)+1,\"\"))","v":120},{"$f":"IF($S140<>\"\",\"\",IF(AND($E140<=K$1,$B140=\"M\"),MAX(K$2:K139)+1,\"\"))","v":68},{"$f":"IF($S140<>\"\",\"\",IF(AND($E140<=L$1,$B140=\"M\"),MAX(L$2:L139)+1,\"\"))","v":""},{"$f":"IF($S140<>\"\",\"\",IF(AND($E140<=M$1,$B140=\"M\"),MAX(M$2:M139)+1,\"\"))","v":""},{"$f":"IF($S140<>\"\",\"\",IF(AND($E140<=N$1,$B140=\"F\"),MAX(N$2:N139)+1,\"\"))","v":""},{"$f":"IF($S140<>\"\",\"\",IF(AND($E140<=O$1,$B140=\"F\"),MAX(O$2:O139)+1,\"\"))","v":""},{"$f":"IF(AND($S140<>\"\",$S140<>\"No pot jugar individual\"),\"\",IF(AND($F140<=P$1,$B140=\"M\"),MAX(P$2:P139)+1,\"\"))","v":120},{"$f":"IF(AND($S140<>\"\",$S140<>\"No pot jugar individual\"),\"\",IF(AND($F140<=Q$1,$B140=\"M\"),MAX(Q$2:Q139)+1,\"\"))","v":""},{"$f":"IF($S140<>\"\",\"\",IF($F140<=R$1,MAX(R$2:R139)+1,\"\"))","v":""},"",7,0,0,0,"D","E","F","F","F","G","F","G",null,null,null,null,null,null,"PI"]
[10196,"M","HEREDIA Roger","INF-1",3,2,"CASTELLDEFELS","CASTELLDEFELS",282.86,{"$f":"IF($S141<>\"\",\"\",IF(AND($E141<=J$1,$B141=\"M\"),MAX(J$2:J140)+1,\"\"))","v":121},{"$f":"IF($S141<>\"\",\"\",IF(AND($E141<=K$1,$B141=\"M\"),MAX(K$2:K140)+1,\"\"))","v":69},{"$f":"IF($S141<>\"\",\"\",IF(AND($E141<=L$1,$B141=\"M\"),MAX(L$2:L140)+1,\"\"))","v":""},{"$f":"IF($S141<>\"\",\"\",IF(AND($E141<=M$1,$B141=\"M\"),MAX(M$2:M140)+1,\"\"))","v":""},{"$f":"IF($S141<>\"\",\"\",IF(AND($E141<=N$1,$B141=\"F\"),MAX(N$2:N140)+1,\"\"))","v":""},{"$f":"IF($S141<>\"\",\"\",IF(AND($E141<=O$1,$B141=\"F\"),MAX(O$2:O140)+1,\"\"))","v":""},{"$f":"IF(AND($S141<>\"\",$S141<>\"No pot jugar individual\"),\"\",IF(AND($F141<=P$1,$B141=\"M\"),MAX(P$2:P140)+1,\"\"))","v":121},{"$f":"IF(AND($S141<>\"\",$S141<>\"No pot jugar individual\"),\"\",IF(AND($F141<=Q$1,$B141=\"M\"),MAX(Q$2:Q140)+1,\"\"))","v":""},{"$f":"IF($S141<>\"\",\"\",IF($F141<=R$1,MAX(R$2:R140)+1,\"\"))","v":""},"",7,1,0,0,"H","H","G","F","F","F","F","G",null,null,null,null,null,null,"BC"]
[10034,"F","MIGUELES María","ALE-2",2,0,"AMICS","AMICS",276.27,{"$f":"IF($S142<>\"\",\"\",IF(AND($E142<=J$1,$B142=\"M\"),MAX(J$2:J141)+1,\"\"))","v":""},{"$f":"IF($S142<>\"\",\"\",IF(AND($E142<=K$1,$B142=\"M\"),MAX(K$2:K141)+1,\"\"))","v":""},{"$f":"IF($S142<>\"\",\"\",IF(AND($E142<=L$1,$B142=\"M\"),MAX(L$2:L141)+1,\"\"))","v":""},{"$f":"IF($S142<>\"\",\"\",IF(AND($E142<=M$1,$B142=\"M\"),MAX(M$2:M141)+1,\"\"))","v":""},{"$f":"IF($S142<>\"\",\"\",IF(AND($E142<=N$1,$B142=\"F\"),MAX(N$2:N141)+1,\"\"))","v":19},{"$f":"IF($S142<>\"\",\"\",IF(AND($E142<=O$1,$B142=\"F\"),MAX(O$2:O141)+1,\"\"))","v":9},{"$f":"IF(AND($S142<>\"\",$S142<>\"No pot jugar individual\"),\"\",IF(AND($F142<=P$1,$B142=\"M\"),MAX(P$2:P141)+1,\"\"))","v":""},{"$f":"IF(AND($S142<>\"\",$S142<>\"No pot jugar individual\"),\"\",IF(AND($F142<=Q$1,$B142=\"M\"),MAX(Q$2:Q141)+1,\"\"))","v":""},{"$f":"IF($S142<>\"\",\"\",IF($F142<=R$1,MAX(R$2:R141)+1,\"\"))","v":19},"",7,0,0,0,"H","H","G","G","G","G","F","F",null,null,"BJ"]
[10730,"M","MONTAVEZ Alex","INF-1",3,2,"POBLENOU","POBLENOU",272.95999999999998,{"$f":"IF($S143<>\"\",\"\",IF(AND($E143<=J$1,$B143=\"M\"),MAX(J$2:J142)+1,\"\"))","v":122},{"$f":"IF($S143<>\"\",\"\",IF(AND($E143<=K$1,$B143=\"M\"),MAX(K$2:K142)+1,\"\"))","v":70},{"$f":"IF($S143<>\"\",\"\",IF(AND($E143<=L$1,$B143=\"M\"),MAX(L$2:L142)+1,\"\"))","v":""},{"$f":"IF($S143<>\"\",\"\",IF(AND($E143<=M$1,$B143=\"M\"),MAX(M$2:M142)+1,\"\"))","v":""},{"$f":"IF($S143<>\"\",\"\",IF(AND($E143<=N$1,$B143=\"F\"),MAX(N$2:N142)+1,\"\"))","v":""},{"$f":"IF($S143<>\"\",\"\",IF(AND($E143<=O$1,$B143=\"F\"),MAX(O$2:O142)+1,\"\"))","v":""},{"$f":"IF(AND($S143<>\"\",$S143<>\"No pot jugar individual\"),\"\",IF(AND($F143<=P$1,$B143=\"M\"),MAX(P$2:P142)+1,\"\"))","v":122},{"$f":"IF(AND($S143<>\"\",$S143<>\"No pot jugar individual\"),\"\",IF(AND($F143<=Q$1,$B143=\"M\"),MAX(Q$2:Q142)+1,\"\"))","v":""},{"$f":"IF($S143<>\"\",\"\",IF($F143<=R$1,MAX(R$2:R142)+1,\"\"))","v":""},"",7,{"$f":"COUNTIF($AF143:$AL143,U$2)","v":0},0,0,"I","H","H","G","G","G","F","F"]
[8563,"M","LLINARES Xavier","INF-2",3,2,"PREMIA","PREMIA",255.42,{"$f":"IF($S144<>\"\",\"\",IF(AND($E144<=J$1,$B144=\"M\"),MAX(J$2:J143)+1,\"\"))","v":123},{"$f":"IF($S144<>\"\",\"\",IF(AND($E144<=K$1,$B144=\"M\"),MAX(K$2:K143)+1,\"\"))","v":71},{"$f":"IF($S144<>\"\",\"\",IF(AND($E144<=L$1,$B144=\"M\"),MAX(L$2:L143)+1,\"\"))","v":""},{"$f":"IF($S144<>\"\",\"\",IF(AND($E144<=M$1,$B144=\"M\"),MAX(M$2:M143)+1,\"\"))","v":""},{"$f":"IF($S144<>\"\",\"\",IF(AND($E144<=N$1,$B144=\"F\"),MAX(N$2:N143)+1,\"\"))","v":""},{"$f":"IF($S144<>\"\",\"\",IF(AND($E144<=O$1,$B144=\"F\"),MAX(O$2:O143)+1,\"\"))","v":""},{"$f":"IF(AND($S144<>\"\",$S144<>\"No pot jugar individual\"),\"\",IF(AND($F144<=P$1,$B144=\"M\"),MAX(P$2:P143)+1,\"\"))","v":123},{"$f":"IF(AND($S144<>\"\",$S144<>\"No pot jugar individual\"),\"\",IF(AND($F144<=Q$1,$B144=\"M\"),MAX(Q$2:Q143)+1,\"\"))","v":""},{"$f":"IF($S144<>\"\",\"\",IF($F144<=R$1,MAX(R$2:R143)+1,\"\"))","v":""},"",7,2,0,0,"E","E","E","E","F","F","G","G",null,null,null,null,null,"BC","BC"]
[7745,"M","GARCIA David","JUV-3",4,2,"CONGRES","CONGRES",251.25,{"$f":"IF($S145<>\"\",\"\",IF(AND($E145<=J$1,$B145=\"M\"),MAX(J$2:J144)+1,\"\"))","v":124},{"$f":"IF($S145<>\"\",\"\",IF(AND($E145<=K$1,$B145=\"M\"),MAX(K$2:K144)+1,\"\"))","v":""},{"$f":"IF($S145<>\"\",\"\",IF(AND($E145<=L$1,$B145=\"M\"),MAX(L$2:L144)+1,\"\"))","v":""},{"$f":"IF($S145<>\"\",\"\",IF(AND($E145<=M$1,$B145=\"M\"),MAX(M$2:M144)+1,\"\"))","v":""},{"$f":"IF($S145<>\"\",\"\",IF(AND($E145<=N$1,$B145=\"F\"),MAX(N$2:N144)+1,\"\"))","v":""},{"$f":"IF($S145<>\"\",\"\",IF(AND($E145<=O$1,$B145=\"F\"),MAX(O$2:O144)+1,\"\"))","v":""},{"$f":"IF(AND($S145<>\"\",$S145<>\"No pot jugar individual\"),\"\",IF(AND($F145<=P$1,$B145=\"M\"),MAX(P$2:P144)+1,\"\"))","v":124},{"$f":"IF(AND($S145<>\"\",$S145<>\"No pot jugar individual\"),\"\",IF(AND($F145<=Q$1,$B145=\"M\"),MAX(Q$2:Q144)+1,\"\"))","v":""},{"$f":"IF($S145<>\"\",\"\",IF($F145<=R$1,MAX(R$2:R144)+1,\"\"))","v":""},"",7,0,0,0,"K","J","I","H","G","F","G","F",null,null,null,null,null,"BJ"]
[9108,"M","GUINJOAN Biel","JUV-1",4,2,"R.ELISENDA","R.ELISENDA",246.64,{"$f":"IF($S146<>\"\",\"\",IF(AND($E146<=J$1,$B146=\"M\"),MAX(J$2:J145)+1,\"\"))","v":125},{"$f":"IF($S146<>\"\",\"\",IF(AND($E146<=K$1,$B146=\"M\"),MAX(K$2:K145)+1,\"\"))","v":""},{"$f":"IF($S146<>\"\",\"\",IF(AND($E146<=L$1,$B146=\"M\"),MAX(L$2:L145)+1,\"\"))","v":""},{"$f":"IF($S146<>\"\",\"\",IF(AND($E146<=M$1,$B146=\"M\"),MAX(M$2:M145)+1,\"\"))","v":""},{"$f":"IF($S146<>\"\",\"\",IF(AND($E146<=N$1,$B146=\"F\"),MAX(N$2:N145)+1,\"\"))","v":""},{"$f":"IF($S146<>\"\",\"\",IF(AND($E146<=O$1,$B146=\"F\"),MAX(O$2:O145)+1,\"\"))","v":""},{"$f":"IF(AND($S146<>\"\",$S146<>\"No pot jugar individual\"),\"\",IF(AND($F146<=P$1,$B146=\"M\"),MAX(P$2:P145)+1,\"\"))","v":125},{"$f":"IF(AND($S146<>\"\",$S146<>\"No pot jugar individual\"),\"\",IF(AND($F146<=Q$1,$B146=\"M\"),MAX(Q$2:Q145)+1,\"\"))","v":""},{"$f":"IF($S146<>\"\",\"\",IF($F146<=R$1,MAX(R$2:R145)+1,\"\"))","v":""},"",7,0,1,0,"F","F","F","F","F","F","F","G",null,null,null,null,"BJ",null,"BN"]
[6549,"M","CANTON Bruno","ALE-2",2,1,"HOSPIT","HOSPIT",241.54000000000002,{"$f":"IF($S147<>\"\",\"\",IF(AND($E147<=J$1,$B147=\"M\"),MAX(J$2:J146)+1,\"\"))","v":126},{"$f":"IF($S147<>\"\",\"\",IF(AND($E147<=K$1,$B147=\"M\"),MAX(K$2:K146)+1,\"\"))","v":72},{"$f":"IF($S147<>\"\",\"\",IF(AND($E147<=L$1,$B147=\"M\"),MAX(L$2:L146)+1,\"\"))","v":27},{"$f":"IF($S147<>\"\",\"\",IF(AND($E147<=M$1,$B147=\"M\"),MAX(M$2:M146)+1,\"\"))","v":""},{"$f":"IF($S147<>\"\",\"\",IF(AND($E147<=N$1,$B147=\"F\"),MAX(N$2:N146)+1,\"\"))","v":""},{"$f":"IF($S147<>\"\",\"\",IF(AND($E147<=O$1,$B147=\"F\"),MAX(O$2:O146)+1,\"\"))","v":""},{"$f":"IF(AND($S147<>\"\",$S147<>\"No pot jugar individual\"),\"\",IF(AND($F147<=P$1,$B147=\"M\"),MAX(P$2:P146)+1,\"\"))","v":126},{"$f":"IF(AND($S147<>\"\",$S147<>\"No pot jugar individual\"),\"\",IF(AND($F147<=Q$1,$B147=\"M\"),MAX(Q$2:Q146)+1,\"\"))","v":27},{"$f":"IF($S147<>\"\",\"\",IF($F147<=R$1,MAX(R$2:R146)+1,\"\"))","v":""},"",7,1,1,0,"F","F","F","E","F","F","G","G",null,null,null,null,null,"BN","BC"]
[8568,"M","RODA Martí","INF-2",3,2,"PREMIA","PREMIA",234.45999999999998,{"$f":"IF($S148<>\"\",\"\",IF(AND($E148<=J$1,$B148=\"M\"),MAX(J$2:J147)+1,\"\"))","v":127},{"$f":"IF($S148<>\"\",\"\",IF(AND($E148<=K$1,$B148=\"M\"),MAX(K$2:K147)+1,\"\"))","v":73},{"$f":"IF($S148<>\"\",\"\",IF(AND($E148<=L$1,$B148=\"M\"),MAX(L$2:L147)+1,\"\"))","v":""},{"$f":"IF($S148<>\"\",\"\",IF(AND($E148<=M$1,$B148=\"M\"),MAX(M$2:M147)+1,\"\"))","v":""},{"$f":"IF($S148<>\"\",\"\",IF(AND($E148<=N$1,$B148=\"F\"),MAX(N$2:N147)+1,\"\"))","v":""},{"$f":"IF($S148<>\"\",\"\",IF(AND($E148<=O$1,$B148=\"F\"),MAX(O$2:O147)+1,\"\"))","v":""},{"$f":"IF(AND($S148<>\"\",$S148<>\"No pot jugar individual\"),\"\",IF(AND($F148<=P$1,$B148=\"M\"),MAX(P$2:P147)+1,\"\"))","v":127},{"$f":"IF(AND($S148<>\"\",$S148<>\"No pot jugar individual\"),\"\",IF(AND($F148<=Q$1,$B148=\"M\"),MAX(Q$2:Q147)+1,\"\"))","v":""},{"$f":"IF($S148<>\"\",\"\",IF($F148<=R$1,MAX(R$2:R147)+1,\"\"))","v":""},"",7,0,0,0,"F","F","G","G","G","G","G","G"]
[6391,"M","PAREDES Ferran","BEN-2",1,1,"INDEPEN","INDEPEN",233.58,{"$f":"IF($S149<>\"\",\"\",IF(AND($E149<=J$1,$B149=\"M\"),MAX(J$2:J148)+1,\"\"))","v":128},{"$f":"IF($S149<>\"\",\"\",IF(AND($E149<=K$1,$B149=\"M\"),MAX(K$2:K148)+1,\"\"))","v":74},{"$f":"IF($S149<>\"\",\"\",IF(AND($E149<=L$1,$B149=\"M\"),MAX(L$2:L148)+1,\"\"))","v":28},{"$f":"IF($S149<>\"\",\"\",IF(AND($E149<=M$1,$B149=\"M\"),MAX(M$2:M148)+1,\"\"))","v":3},{"$f":"IF($S149<>\"\",\"\",IF(AND($E149<=N$1,$B149=\"F\"),MAX(N$2:N148)+1,\"\"))","v":""},{"$f":"IF($S149<>\"\",\"\",IF(AND($E149<=O$1,$B149=\"F\"),MAX(O$2:O148)+1,\"\"))","v":""},{"$f":"IF(AND($S149<>\"\",$S149<>\"No pot jugar individual\"),\"\",IF(AND($F149<=P$1,$B149=\"M\"),MAX(P$2:P148)+1,\"\"))","v":128},{"$f":"IF(AND($S149<>\"\",$S149<>\"No pot jugar individual\"),\"\",IF(AND($F149<=Q$1,$B149=\"M\"),MAX(Q$2:Q148)+1,\"\"))","v":28},{"$f":"IF($S149<>\"\",\"\",IF($F149<=R$1,MAX(R$2:R148)+1,\"\"))","v":""},"",4,0,0,0,null,null,null,"H","G","G","F","F"]
[10123,"M","FERRER Bernat","INF-1",3,2,"STCUGAT","STCUGAT",231.48,{"$f":"IF($S150<>\"\",\"\",IF(AND($E150<=J$1,$B150=\"M\"),MAX(J$2:J149)+1,\"\"))","v":129},{"$f":"IF($S150<>\"\",\"\",IF(AND($E150<=K$1,$B150=\"M\"),MAX(K$2:K149)+1,\"\"))","v":75},{"$f":"IF($S150<>\"\",\"\",IF(AND($E150<=L$1,$B150=\"M\"),MAX(L$2:L149)+1,\"\"))","v":""},{"$f":"IF($S150<>\"\",\"\",IF(AND($E150<=M$1,$B150=\"M\"),MAX(M$2:M149)+1,\"\"))","v":""},{"$f":"IF($S150<>\"\",\"\",IF(AND($E150<=N$1,$B150=\"F\"),MAX(N$2:N149)+1,\"\"))","v":""},{"$f":"IF($S150<>\"\",\"\",IF(AND($E150<=O$1,$B150=\"F\"),MAX(O$2:O149)+1,\"\"))","v":""},{"$f":"IF(AND($S150<>\"\",$S150<>\"No pot jugar individual\"),\"\",IF(AND($F150<=P$1,$B150=\"M\"),MAX(P$2:P149)+1,\"\"))","v":129},{"$f":"IF(AND($S150<>\"\",$S150<>\"No pot jugar individual\"),\"\",IF(AND($F150<=Q$1,$B150=\"M\"),MAX(Q$2:Q149)+1,\"\"))","v":""},{"$f":"IF($S150<>\"\",\"\",IF($F150<=R$1,MAX(R$2:R149)+1,\"\"))","v":""},"",7,1,1,0,"G","H","G","G","G","G","G","G","BN",null,null,"SA","BC"]
[10534,"M","MARTOS Mario","JUV-1",4,2,"EUROCLIMA BDN","EUROCLIMA BDN",228.51,{"$f":"IF($S151<>\"\",\"\",IF(AND($E151<=J$1,$B151=\"M\"),MAX(J$2:J150)+1,\"\"))","v":130},{"$f":"IF($S151<>\"\",\"\",IF(AND($E151<=K$1,$B151=\"M\"),MAX(K$2:K150)+1,\"\"))","v":""},{"$f":"IF($S151<>\"\",\"\",IF(AND($E151<=L$1,$B151=\"M\"),MAX(L$2:L150)+1,\"\"))","v":""},{"$f":"IF($S151<>\"\",\"\",IF(AND($E151<=M$1,$B151=\"M\"),MAX(M$2:M150)+1,\"\"))","v":""},{"$f":"IF($S151<>\"\",\"\",IF(AND($E151<=N$1,$B151=\"F\"),MAX(N$2:N150)+1,\"\"))","v":""},{"$f":"IF($S151<>\"\",\"\",IF(AND($E151<=O$1,$B151=\"F\"),MAX(O$2:O150)+1,\"\"))","v":""},{"$f":"IF(AND($S151<>\"\",$S151<>\"No pot jugar individual\"),\"\",IF(AND($F151<=P$1,$B151=\"M\"),MAX(P$2:P150)+1,\"\"))","v":130},{"$f":"IF(AND($S151<>\"\",$S151<>\"No pot jugar individual\"),\"\",IF(AND($F151<=Q$1,$B151=\"M\"),MAX(Q$2:Q150)+1,\"\"))","v":""},{"$f":"IF($S151<>\"\",\"\",IF($F151<=R$1,MAX(R$2:R150)+1,\"\"))","v":""},"",7,0,0,0,"I","H","H","H","H","G","G","F"]
[7112,"M","OMS Marti","INF-2",3,2,"CNSABA","CNSABA",220.05,{"$f":"IF($S152<>\"\",\"\",IF(AND($E152<=J$1,$B152=\"M\"),MAX(J$2:J151)+1,\"\"))","v":131},{"$f":"IF($S152<>\"\",\"\",IF(AND($E152<=K$1,$B152=\"M\"),MAX(K$2:K151)+1,\"\"))","v":76},{"$f":"IF($S152<>\"\",\"\",IF(AND($E152<=L$1,$B152=\"M\"),MAX(L$2:L151)+1,\"\"))","v":""},{"$f":"IF($S152<>\"\",\"\",IF(AND($E152<=M$1,$B152=\"M\"),MAX(M$2:M151)+1,\"\"))","v":""},{"$f":"IF($S152<>\"\",\"\",IF(AND($E152<=N$1,$B152=\"F\"),MAX(N$2:N151)+1,\"\"))","v":""},{"$f":"IF($S152<>\"\",\"\",IF(AND($E152<=O$1,$B152=\"F\"),MAX(O$2:O151)+1,\"\"))","v":""},{"$f":"IF(AND($S152<>\"\",$S152<>\"No pot jugar individual\"),\"\",IF(AND($F152<=P$1,$B152=\"M\"),MAX(P$2:P151)+1,\"\"))","v":131},{"$f":"IF(AND($S152<>\"\",$S152<>\"No pot jugar individual\"),\"\",IF(AND($F152<=Q$1,$B152=\"M\"),MAX(Q$2:Q151)+1,\"\"))","v":""},{"$f":"IF($S152<>\"\",\"\",IF($F152<=R$1,MAX(R$2:R151)+1,\"\"))","v":""},"",7,0,0,0,"L","K","J","J","I","H","G","F"]
[10666,"M","BERENGUERAS Aleix","INF-1",3,2,"STCUGAT","STCUGAT",208,{"$f":"IF($S153<>\"\",\"\",IF(AND($E153<=J$1,$B153=\"M\"),MAX(J$2:J152)+1,\"\"))","v":132},{"$f":"IF($S153<>\"\",\"\",IF(AND($E153<=K$1,$B153=\"M\"),MAX(K$2:K152)+1,\"\"))","v":77},{"$f":"IF($S153<>\"\",\"\",IF(AND($E153<=L$1,$B153=\"M\"),MAX(L$2:L152)+1,\"\"))","v":""},{"$f":"IF($S153<>\"\",\"\",IF(AND($E153<=M$1,$B153=\"M\"),MAX(M$2:M152)+1,\"\"))","v":""},{"$f":"IF($S153<>\"\",\"\",IF(AND($E153<=N$1,$B153=\"F\"),MAX(N$2:N152)+1,\"\"))","v":""},{"$f":"IF($S153<>\"\",\"\",IF(AND($E153<=O$1,$B153=\"F\"),MAX(O$2:O152)+1,\"\"))","v":""},{"$f":"IF(AND($S153<>\"\",$S153<>\"No pot jugar individual\"),\"\",IF(AND($F153<=P$1,$B153=\"M\"),MAX(P$2:P152)+1,\"\"))","v":132},{"$f":"IF(AND($S153<>\"\",$S153<>\"No pot jugar individual\"),\"\",IF(AND($F153<=Q$1,$B153=\"M\"),MAX(Q$2:Q152)+1,\"\"))","v":""},{"$f":"IF($S153<>\"\",\"\",IF($F153<=R$1,MAX(R$2:R152)+1,\"\"))","v":""},"",7,0,0,0,"I","I","I","H","H","H","G","G"]
[7783,"M","CASES Alex","ALE-2",2,1,"EUROCLIMA BDN","EUROCLIMA BDN",203.74,{"$f":"IF($S154<>\"\",\"\",IF(AND($E154<=J$1,$B154=\"M\"),MAX(J$2:J153)+1,\"\"))","v":133},{"$f":"IF($S154<>\"\",\"\",IF(AND($E154<=K$1,$B154=\"M\"),MAX(K$2:K153)+1,\"\"))","v":78},{"$f":"IF($S154<>\"\",\"\",IF(AND($E154<=L$1,$B154=\"M\"),MAX(L$2:L153)+1,\"\"))","v":29},{"$f":"IF($S154<>\"\",\"\",IF(AND($E154<=M$1,$B154=\"M\"),MAX(M$2:M153)+1,\"\"))","v":""},{"$f":"IF($S154<>\"\",\"\",IF(AND($E154<=N$1,$B154=\"F\"),MAX(N$2:N153)+1,\"\"))","v":""},{"$f":"IF($S154<>\"\",\"\",IF(AND($E154<=O$1,$B154=\"F\"),MAX(O$2:O153)+1,\"\"))","v":""},{"$f":"IF(AND($S154<>\"\",$S154<>\"No pot jugar individual\"),\"\",IF(AND($F154<=P$1,$B154=\"M\"),MAX(P$2:P153)+1,\"\"))","v":133},{"$f":"IF(AND($S154<>\"\",$S154<>\"No pot jugar individual\"),\"\",IF(AND($F154<=Q$1,$B154=\"M\"),MAX(Q$2:Q153)+1,\"\"))","v":29},{"$f":"IF($S154<>\"\",\"\",IF($F154<=R$1,MAX(R$2:R153)+1,\"\"))","v":""},"",7,0,1,0,"G","F","G","G","G","G","G","G",null,"BN"]
[7618,"M","GUINART Joel","BEN-2",1,1,"STCUGAT","STCUGAT",199.76,{"$f":"IF($S155<>\"\",\"\",IF(AND($E155<=J$1,$B155=\"M\"),MAX(J$2:J154)+1,\"\"))","v":134},{"$f":"IF($S155<>\"\",\"\",IF(AND($E155<=K$1,$B155=\"M\"),MAX(K$2:K154)+1,\"\"))","v":79},{"$f":"IF($S155<>\"\",\"\",IF(AND($E155<=L$1,$B155=\"M\"),MAX(L$2:L154)+1,\"\"))","v":30},{"$f":"IF($S155<>\"\",\"\",IF(AND($E155<=M$1,$B155=\"M\"),MAX(M$2:M154)+1,\"\"))","v":4},{"$f":"IF($S155<>\"\",\"\",IF(AND($E155<=N$1,$B155=\"F\"),MAX(N$2:N154)+1,\"\"))","v":""},{"$f":"IF($S155<>\"\",\"\",IF(AND($E155<=O$1,$B155=\"F\"),MAX(O$2:O154)+1,\"\"))","v":""},{"$f":"IF(AND($S155<>\"\",$S155<>\"No pot jugar individual\"),\"\",IF(AND($F155<=P$1,$B155=\"M\"),MAX(P$2:P154)+1,\"\"))","v":134},{"$f":"IF(AND($S155<>\"\",$S155<>\"No pot jugar individual\"),\"\",IF(AND($F155<=Q$1,$B155=\"M\"),MAX(Q$2:Q154)+1,\"\"))","v":30},{"$f":"IF($S155<>\"\",\"\",IF($F155<=R$1,MAX(R$2:R154)+1,\"\"))","v":""},"",7,0,0,0,"G","G","G","G","H","H","G","G",null,null,"BJ"]
[11384,"M","SANCHEZ Carlo","INF-2",3,2,"STCUGAT","STCUGAT",199.15,{"$f":"IF($S156<>\"\",\"\",IF(AND($E156<=J$1,$B156=\"M\"),MAX(J$2:J155)+1,\"\"))","v":135},{"$f":"IF($S156<>\"\",\"\",IF(AND($E156<=K$1,$B156=\"M\"),MAX(K$2:K155)+1,\"\"))","v":80},{"$f":"IF($S156<>\"\",\"\",IF(AND($E156<=L$1,$B156=\"M\"),MAX(L$2:L155)+1,\"\"))","v":""},{"$f":"IF($S156<>\"\",\"\",IF(AND($E156<=M$1,$B156=\"M\"),MAX(M$2:M155)+1,\"\"))","v":""},{"$f":"IF($S156<>\"\",\"\",IF(AND($E156<=N$1,$B156=\"F\"),MAX(N$2:N155)+1,\"\"))","v":""},{"$f":"IF($S156<>\"\",\"\",IF(AND($E156<=O$1,$B156=\"F\"),MAX(O$2:O155)+1,\"\"))","v":""},{"$f":"IF(AND($S156<>\"\",$S156<>\"No pot jugar individual\"),\"\",IF(AND($F156<=P$1,$B156=\"M\"),MAX(P$2:P155)+1,\"\"))","v":135},{"$f":"IF(AND($S156<>\"\",$S156<>\"No pot jugar individual\"),\"\",IF(AND($F156<=Q$1,$B156=\"M\"),MAX(Q$2:Q155)+1,\"\"))","v":""},{"$f":"IF($S156<>\"\",\"\",IF($F156<=R$1,MAX(R$2:R155)+1,\"\"))","v":""},"",7,0,0,0,"L","L","K","J","I","H","G","F"]
[7476,"M","TRIGO Gerard","ALE-1",2,1,"ICELAND ELS 8","ICELAND ELS 8",197.81,{"$f":"IF($S157<>\"\",\"\",IF(AND($E157<=J$1,$B157=\"M\"),MAX(J$2:J156)+1,\"\"))","v":136},{"$f":"IF($S157<>\"\",\"\",IF(AND($E157<=K$1,$B157=\"M\"),MAX(K$2:K156)+1,\"\"))","v":81},{"$f":"IF($S157<>\"\",\"\",IF(AND($E157<=L$1,$B157=\"M\"),MAX(L$2:L156)+1,\"\"))","v":31},{"$f":"IF($S157<>\"\",\"\",IF(AND($E157<=M$1,$B157=\"M\"),MAX(M$2:M156)+1,\"\"))","v":""},{"$f":"IF($S157<>\"\",\"\",IF(AND($E157<=N$1,$B157=\"F\"),MAX(N$2:N156)+1,\"\"))","v":""},{"$f":"IF($S157<>\"\",\"\",IF(AND($E157<=O$1,$B157=\"F\"),MAX(O$2:O156)+1,\"\"))","v":""},{"$f":"IF(AND($S157<>\"\",$S157<>\"No pot jugar individual\"),\"\",IF(AND($F157<=P$1,$B157=\"M\"),MAX(P$2:P156)+1,\"\"))","v":136},{"$f":"IF(AND($S157<>\"\",$S157<>\"No pot jugar individual\"),\"\",IF(AND($F157<=Q$1,$B157=\"M\"),MAX(Q$2:Q156)+1,\"\"))","v":31},{"$f":"IF($S157<>\"\",\"\",IF($F157<=R$1,MAX(R$2:R156)+1,\"\"))","v":""},"",7,0,0,0,"F","G","G","G","G","G","G","G",null,null,null,"BJ","BJ"]
[7744,"M","GARCIA Eduardo","JUV-3",4,2,"CONGRES","CONGRES",194.43,{"$f":"IF($S158<>\"\",\"\",IF(AND($E158<=J$1,$B158=\"M\"),MAX(J$2:J157)+1,\"\"))","v":137},{"$f":"IF($S158<>\"\",\"\",IF(AND($E158<=K$1,$B158=\"M\"),MAX(K$2:K157)+1,\"\"))","v":""},{"$f":"IF($S158<>\"\",\"\",IF(AND($E158<=L$1,$B158=\"M\"),MAX(L$2:L157)+1,\"\"))","v":""},{"$f":"IF($S158<>\"\",\"\",IF(AND($E158<=M$1,$B158=\"M\"),MAX(M$2:M157)+1,\"\"))","v":""},{"$f":"IF($S158<>\"\",\"\",IF(AND($E158<=N$1,$B158=\"F\"),MAX(N$2:N157)+1,\"\"))","v":""},{"$f":"IF($S158<>\"\",\"\",IF(AND($E158<=O$1,$B158=\"F\"),MAX(O$2:O157)+1,\"\"))","v":""},{"$f":"IF(AND($S158<>\"\",$S158<>\"No pot jugar individual\"),\"\",IF(AND($F158<=P$1,$B158=\"M\"),MAX(P$2:P157)+1,\"\"))","v":137},{"$f":"IF(AND($S158<>\"\",$S158<>\"No pot jugar individual\"),\"\",IF(AND($F158<=Q$1,$B158=\"M\"),MAX(Q$2:Q157)+1,\"\"))","v":""},{"$f":"IF($S158<>\"\",\"\",IF($F158<=R$1,MAX(R$2:R157)+1,\"\"))","v":""},"",7,0,0,0,"K","K","J","I","H","G","F","F"]
[6792,"M","NOFUENTES David","JUV-1",4,2,"RIPOLLET","RIPOLLET",182.15000000000003,{"$f":"IF($S159<>\"\",\"\",IF(AND($E159<=J$1,$B159=\"M\"),MAX(J$2:J158)+1,\"\"))","v":138},{"$f":"IF($S159<>\"\",\"\",IF(AND($E159<=K$1,$B159=\"M\"),MAX(K$2:K158)+1,\"\"))","v":""},{"$f":"IF($S159<>\"\",\"\",IF(AND($E159<=L$1,$B159=\"M\"),MAX(L$2:L158)+1,\"\"))","v":""},{"$f":"IF($S159<>\"\",\"\",IF(AND($E159<=M$1,$B159=\"M\"),MAX(M$2:M158)+1,\"\"))","v":""},{"$f":"IF($S159<>\"\",\"\",IF(AND($E159<=N$1,$B159=\"F\"),MAX(N$2:N158)+1,\"\"))","v":""},{"$f":"IF($S159<>\"\",\"\",IF(AND($E159<=O$1,$B159=\"F\"),MAX(O$2:O158)+1,\"\"))","v":""},{"$f":"IF(AND($S159<>\"\",$S159<>\"No pot jugar individual\"),\"\",IF(AND($F159<=P$1,$B159=\"M\"),MAX(P$2:P158)+1,\"\"))","v":138},{"$f":"IF(AND($S159<>\"\",$S159<>\"No pot jugar individual\"),\"\",IF(AND($F159<=Q$1,$B159=\"M\"),MAX(Q$2:Q158)+1,\"\"))","v":""},{"$f":"IF($S159<>\"\",\"\",IF($F159<=R$1,MAX(R$2:R158)+1,\"\"))","v":""},"",7,1,1,0,"D","E","F","F","G","G","H","I",null,"SA",null,null,"PI","BC","BN"]
[9238,"F","MARTINEZ Meritxell","INF-2",3,0,"R.ELISENDA","R.ELISENDA",180.68,{"$f":"IF($S160<>\"\",\"\",IF(AND($E160<=J$1,$B160=\"M\"),MAX(J$2:J159)+1,\"\"))","v":""},{"$f":"IF($S160<>\"\",\"\",IF(AND($E160<=K$1,$B160=\"M\"),MAX(K$2:K159)+1,\"\"))","v":""},{"$f":"IF($S160<>\"\",\"\",IF(AND($E160<=L$1,$B160=\"M\"),MAX(L$2:L159)+1,\"\"))","v":""},{"$f":"IF($S160<>\"\",\"\",IF(AND($E160<=M$1,$B160=\"M\"),MAX(M$2:M159)+1,\"\"))","v":""},{"$f":"IF($S160<>\"\",\"\",IF(AND($E160<=N$1,$B160=\"F\"),MAX(N$2:N159)+1,\"\"))","v":20},{"$f":"IF($S160<>\"\",\"\",IF(AND($E160<=O$1,$B160=\"F\"),MAX(O$2:O159)+1,\"\"))","v":""},{"$f":"IF(AND($S160<>\"\",$S160<>\"No pot jugar individual\"),\"\",IF(AND($F160<=P$1,$B160=\"M\"),MAX(P$2:P159)+1,\"\"))","v":""},{"$f":"IF(AND($S160<>\"\",$S160<>\"No pot jugar individual\"),\"\",IF(AND($F160<=Q$1,$B160=\"M\"),MAX(Q$2:Q159)+1,\"\"))","v":""},{"$f":"IF($S160<>\"\",\"\",IF($F160<=R$1,MAX(R$2:R159)+1,\"\"))","v":20},"",7,0,0,0,"E","E","F","G","G","G","G","G",null,null,null,"PI"]
[6848,"M","RODRIGUEZ David","INF-1",3,2,"CARDEDEU","CARDEDEU",179.43000000000006,{"$f":"IF($S161<>\"\",\"\",IF(AND($E161<=J$1,$B161=\"M\"),MAX(J$2:J160)+1,\"\"))","v":139},{"$f":"IF($S161<>\"\",\"\",IF(AND($E161<=K$1,$B161=\"M\"),MAX(K$2:K160)+1,\"\"))","v":82},{"$f":"IF($S161<>\"\",\"\",IF(AND($E161<=L$1,$B161=\"M\"),MAX(L$2:L160)+1,\"\"))","v":""},{"$f":"IF($S161<>\"\",\"\",IF(AND($E161<=M$1,$B161=\"M\"),MAX(M$2:M160)+1,\"\"))","v":""},{"$f":"IF($S161<>\"\",\"\",IF(AND($E161<=N$1,$B161=\"F\"),MAX(N$2:N160)+1,\"\"))","v":""},{"$f":"IF($S161<>\"\",\"\",IF(AND($E161<=O$1,$B161=\"F\"),MAX(O$2:O160)+1,\"\"))","v":""},{"$f":"IF(AND($S161<>\"\",$S161<>\"No pot jugar individual\"),\"\",IF(AND($F161<=P$1,$B161=\"M\"),MAX(P$2:P160)+1,\"\"))","v":139},{"$f":"IF(AND($S161<>\"\",$S161<>\"No pot jugar individual\"),\"\",IF(AND($F161<=Q$1,$B161=\"M\"),MAX(Q$2:Q160)+1,\"\"))","v":""},{"$f":"IF($S161<>\"\",\"\",IF($F161<=R$1,MAX(R$2:R160)+1,\"\"))","v":""},"",7,0,0,0,"G","G","G","G","G","G","G","G"]
[10145,"M","BETETA Miquel","INF-1",3,2,"STCUGAT","STCUGAT",163.25,{"$f":"IF($S162<>\"\",\"\",IF(AND($E162<=J$1,$B162=\"M\"),MAX(J$2:J161)+1,\"\"))","v":140},{"$f":"IF($S162<>\"\",\"\",IF(AND($E162<=K$1,$B162=\"M\"),MAX(K$2:K161)+1,\"\"))","v":83},{"$f":"IF($S162<>\"\",\"\",IF(AND($E162<=L$1,$B162=\"M\"),MAX(L$2:L161)+1,\"\"))","v":""},{"$f":"IF($S162<>\"\",\"\",IF(AND($E162<=M$1,$B162=\"M\"),MAX(M$2:M161)+1,\"\"))","v":""},{"$f":"IF($S162<>\"\",\"\",IF(AND($E162<=N$1,$B162=\"F\"),MAX(N$2:N161)+1,\"\"))","v":""},{"$f":"IF($S162<>\"\",\"\",IF(AND($E162<=O$1,$B162=\"F\"),MAX(O$2:O161)+1,\"\"))","v":""},{"$f":"IF(AND($S162<>\"\",$S162<>\"No pot jugar individual\"),\"\",IF(AND($F162<=P$1,$B162=\"M\"),MAX(P$2:P161)+1,\"\"))","v":140},{"$f":"IF(AND($S162<>\"\",$S162<>\"No pot jugar individual\"),\"\",IF(AND($F162<=Q$1,$B162=\"M\"),MAX(Q$2:Q161)+1,\"\"))","v":""},{"$f":"IF($S162<>\"\",\"\",IF($F162<=R$1,MAX(R$2:R161)+1,\"\"))","v":""},"",7,1,1,0,"G","H","H","H","G","H","G","G","BC",null,null,null,"BN"]
[11211,"M","ALSINA Iu","INF-2",3,2,"LLUÏSOS","LLUÏSOS",163,{"$f":"IF($S163<>\"\",\"\",IF(AND($E163<=J$1,$B163=\"M\"),MAX(J$2:J162)+1,\"\"))","v":141},{"$f":"IF($S163<>\"\",\"\",IF(AND($E163<=K$1,$B163=\"M\"),MAX(K$2:K162)+1,\"\"))","v":84},{"$f":"IF($S163<>\"\",\"\",IF(AND($E163<=L$1,$B163=\"M\"),MAX(L$2:L162)+1,\"\"))","v":""},{"$f":"IF($S163<>\"\",\"\",IF(AND($E163<=M$1,$B163=\"M\"),MAX(M$2:M162)+1,\"\"))","v":""},{"$f":"IF($S163<>\"\",\"\",IF(AND($E163<=N$1,$B163=\"F\"),MAX(N$2:N162)+1,\"\"))","v":""},{"$f":"IF($S163<>\"\",\"\",IF(AND($E163<=O$1,$B163=\"F\"),MAX(O$2:O162)+1,\"\"))","v":""},{"$f":"IF(AND($S163<>\"\",$S163<>\"No pot jugar individual\"),\"\",IF(AND($F163<=P$1,$B163=\"M\"),MAX(P$2:P162)+1,\"\"))","v":141},{"$f":"IF(AND($S163<>\"\",$S163<>\"No pot jugar individual\"),\"\",IF(AND($F163<=Q$1,$B163=\"M\"),MAX(Q$2:Q162)+1,\"\"))","v":""},{"$f":"IF($S163<>\"\",\"\",IF($F163<=R$1,MAX(R$2:R162)+1,\"\"))","v":""},"",7,{"$f":"COUNTIF($AF163:$AL163,U$2)","v":1},0,0,"L","K","J","I","H","G","H","G",null,null,null,null,null,"BC"]
[10540,"M","FIGOLS Enric","ALE-1",2,1,"STCUGAT","STCUGAT",158.26000000000002,{"$f":"IF($S164<>\"\",\"\",IF(AND($E164<=J$1,$B164=\"M\"),MAX(J$2:J163)+1,\"\"))","v":142},{"$f":"IF($S164<>\"\",\"\",IF(AND($E164<=K$1,$B164=\"M\"),MAX(K$2:K163)+1,\"\"))","v":85},{"$f":"IF($S164<>\"\",\"\",IF(AND($E164<=L$1,$B164=\"M\"),MAX(L$2:L163)+1,\"\"))","v":32},{"$f":"IF($S164<>\"\",\"\",IF(AND($E164<=M$1,$B164=\"M\"),MAX(M$2:M163)+1,\"\"))","v":""},{"$f":"IF($S164<>\"\",\"\",IF(AND($E164<=N$1,$B164=\"F\"),MAX(N$2:N163)+1,\"\"))","v":""},{"$f":"IF($S164<>\"\",\"\",IF(AND($E164<=O$1,$B164=\"F\"),MAX(O$2:O163)+1,\"\"))","v":""},{"$f":"IF(AND($S164<>\"\",$S164<>\"No pot jugar individual\"),\"\",IF(AND($F164<=P$1,$B164=\"M\"),MAX(P$2:P163)+1,\"\"))","v":142},{"$f":"IF(AND($S164<>\"\",$S164<>\"No pot jugar individual\"),\"\",IF(AND($F164<=Q$1,$B164=\"M\"),MAX(Q$2:Q163)+1,\"\"))","v":32},{"$f":"IF($S164<>\"\",\"\",IF($F164<=R$1,MAX(R$2:R163)+1,\"\"))","v":""},"",7,1,0,0,"I","H","H","G","G","G","G","H",null,null,null,null,null,null,"BC"]
[9141,"M","FORES Joan","JUV-2",4,2,"LLUÏSOS","LLUÏSOS",157.80000000000001,{"$f":"IF($S165<>\"\",\"\",IF(AND($E165<=J$1,$B165=\"M\"),MAX(J$2:J164)+1,\"\"))","v":143},{"$f":"IF($S165<>\"\",\"\",IF(AND($E165<=K$1,$B165=\"M\"),MAX(K$2:K164)+1,\"\"))","v":""},{"$f":"IF($S165<>\"\",\"\",IF(AND($E165<=L$1,$B165=\"M\"),MAX(L$2:L164)+1,\"\"))","v":""},{"$f":"IF($S165<>\"\",\"\",IF(AND($E165<=M$1,$B165=\"M\"),MAX(M$2:M164)+1,\"\"))","v":""},{"$f":"IF($S165<>\"\",\"\",IF(AND($E165<=N$1,$B165=\"F\"),MAX(N$2:N164)+1,\"\"))","v":""},{"$f":"IF($S165<>\"\",\"\",IF(AND($E165<=O$1,$B165=\"F\"),MAX(O$2:O164)+1,\"\"))","v":""},{"$f":"IF(AND($S165<>\"\",$S165<>\"No pot jugar individual\"),\"\",IF(AND($F165<=P$1,$B165=\"M\"),MAX(P$2:P164)+1,\"\"))","v":143},{"$f":"IF(AND($S165<>\"\",$S165<>\"No pot jugar individual\"),\"\",IF(AND($F165<=Q$1,$B165=\"M\"),MAX(Q$2:Q164)+1,\"\"))","v":""},{"$f":"IF($S165<>\"\",\"\",IF($F165<=R$1,MAX(R$2:R164)+1,\"\"))","v":""},"",6,1,1,0,null,"G","H","G","F","G","H","G",null,"BJ",null,null,"BN","BC"]
[7757,"M","CIFUENTES Albert","INF-1",3,2,"SALLENT","SALLENT",157.01,{"$f":"IF($S166<>\"\",\"\",IF(AND($E166<=J$1,$B166=\"M\"),MAX(J$2:J165)+1,\"\"))","v":144},{"$f":"IF($S166<>\"\",\"\",IF(AND($E166<=K$1,$B166=\"M\"),MAX(K$2:K165)+1,\"\"))","v":86},{"$f":"IF($S166<>\"\",\"\",IF(AND($E166<=L$1,$B166=\"M\"),MAX(L$2:L165)+1,\"\"))","v":""},{"$f":"IF($S166<>\"\",\"\",IF(AND($E166<=M$1,$B166=\"M\"),MAX(M$2:M165)+1,\"\"))","v":""},{"$f":"IF($S166<>\"\",\"\",IF(AND($E166<=N$1,$B166=\"F\"),MAX(N$2:N165)+1,\"\"))","v":""},{"$f":"IF($S166<>\"\",\"\",IF(AND($E166<=O$1,$B166=\"F\"),MAX(O$2:O165)+1,\"\"))","v":""},{"$f":"IF(AND($S166<>\"\",$S166<>\"No pot jugar individual\"),\"\",IF(AND($F166<=P$1,$B166=\"M\"),MAX(P$2:P165)+1,\"\"))","v":144},{"$f":"IF(AND($S166<>\"\",$S166<>\"No pot jugar individual\"),\"\",IF(AND($F166<=Q$1,$B166=\"M\"),MAX(Q$2:Q165)+1,\"\"))","v":""},{"$f":"IF($S166<>\"\",\"\",IF($F166<=R$1,MAX(R$2:R165)+1,\"\"))","v":""},"",7,3,0,0,"E","F","F","F","G","G","G","H","BC",null,null,"BC",null,null,"BC"]
[10146,"M","HERMANS Ilko","ALE-2",2,1,"LLUÏSOS","LLUÏSOS",156.63999999999999,{"$f":"IF($S167<>\"\",\"\",IF(AND($E167<=J$1,$B167=\"M\"),MAX(J$2:J166)+1,\"\"))","v":145},{"$f":"IF($S167<>\"\",\"\",IF(AND($E167<=K$1,$B167=\"M\"),MAX(K$2:K166)+1,\"\"))","v":87},{"$f":"IF($S167<>\"\",\"\",IF(AND($E167<=L$1,$B167=\"M\"),MAX(L$2:L166)+1,\"\"))","v":33},{"$f":"IF($S167<>\"\",\"\",IF(AND($E167<=M$1,$B167=\"M\"),MAX(M$2:M166)+1,\"\"))","v":""},{"$f":"IF($S167<>\"\",\"\",IF(AND($E167<=N$1,$B167=\"F\"),MAX(N$2:N166)+1,\"\"))","v":""},{"$f":"IF($S167<>\"\",\"\",IF(AND($E167<=O$1,$B167=\"F\"),MAX(O$2:O166)+1,\"\"))","v":""},{"$f":"IF(AND($S167<>\"\",$S167<>\"No pot jugar individual\"),\"\",IF(AND($F167<=P$1,$B167=\"M\"),MAX(P$2:P166)+1,\"\"))","v":145},{"$f":"IF(AND($S167<>\"\",$S167<>\"No pot jugar individual\"),\"\",IF(AND($F167<=Q$1,$B167=\"M\"),MAX(Q$2:Q166)+1,\"\"))","v":33},{"$f":"IF($S167<>\"\",\"\",IF($F167<=R$1,MAX(R$2:R166)+1,\"\"))","v":""},"",7,2,0,0,"H","H","G","G","G","G","G","H",null,null,null,null,"BC",null,"BC"]
[7541,"M","ESPINOSA Alex","JUV-2",4,2,"ATEN82","ATEN82",150.69999999999999,{"$f":"IF($S168<>\"\",\"\",IF(AND($E168<=J$1,$B168=\"M\"),MAX(J$2:J167)+1,\"\"))","v":146},{"$f":"IF($S168<>\"\",\"\",IF(AND($E168<=K$1,$B168=\"M\"),MAX(K$2:K167)+1,\"\"))","v":""},{"$f":"IF($S168<>\"\",\"\",IF(AND($E168<=L$1,$B168=\"M\"),MAX(L$2:L167)+1,\"\"))","v":""},{"$f":"IF($S168<>\"\",\"\",IF(AND($E168<=M$1,$B168=\"M\"),MAX(M$2:M167)+1,\"\"))","v":""},{"$f":"IF($S168<>\"\",\"\",IF(AND($E168<=N$1,$B168=\"F\"),MAX(N$2:N167)+1,\"\"))","v":""},{"$f":"IF($S168<>\"\",\"\",IF(AND($E168<=O$1,$B168=\"F\"),MAX(O$2:O167)+1,\"\"))","v":""},{"$f":"IF(AND($S168<>\"\",$S168<>\"No pot jugar individual\"),\"\",IF(AND($F168<=P$1,$B168=\"M\"),MAX(P$2:P167)+1,\"\"))","v":146},{"$f":"IF(AND($S168<>\"\",$S168<>\"No pot jugar individual\"),\"\",IF(AND($F168<=Q$1,$B168=\"M\"),MAX(Q$2:Q167)+1,\"\"))","v":""},{"$f":"IF($S168<>\"\",\"\",IF($F168<=R$1,MAX(R$2:R167)+1,\"\"))","v":""},"",7,0,0,0,"H","I","H","H","H","H","G","G"]
[11768,"M","VASO Sebastian","JUV-1",4,2,"R.ELISENDA","R.ELISENDA",143.14999999999998,{"$f":"IF($S169<>\"\",\"\",IF(AND($E169<=J$1,$B169=\"M\"),MAX(J$2:J168)+1,\"\"))","v":147},{"$f":"IF($S169<>\"\",\"\",IF(AND($E169<=K$1,$B169=\"M\"),MAX(K$2:K168)+1,\"\"))","v":""},{"$f":"IF($S169<>\"\",\"\",IF(AND($E169<=L$1,$B169=\"M\"),MAX(L$2:L168)+1,\"\"))","v":""},{"$f":"IF($S169<>\"\",\"\",IF(AND($E169<=M$1,$B169=\"M\"),MAX(M$2:M168)+1,\"\"))","v":""},{"$f":"IF($S169<>\"\",\"\",IF(AND($E169<=N$1,$B169=\"F\"),MAX(N$2:N168)+1,\"\"))","v":""},{"$f":"IF($S169<>\"\",\"\",IF(AND($E169<=O$1,$B169=\"F\"),MAX(O$2:O168)+1,\"\"))","v":""},{"$f":"IF(AND($S169<>\"\",$S169<>\"No pot jugar individual\"),\"\",IF(AND($F169<=P$1,$B169=\"M\"),MAX(P$2:P168)+1,\"\"))","v":147},{"$f":"IF(AND($S169<>\"\",$S169<>\"No pot jugar individual\"),\"\",IF(AND($F169<=Q$1,$B169=\"M\"),MAX(Q$2:Q168)+1,\"\"))","v":""},{"$f":"IF($S169<>\"\",\"\",IF($F169<=R$1,MAX(R$2:R168)+1,\"\"))","v":""},"",3,0,1,0,null,null,null,null,"E","F","E","F",null,null,null,null,null,null,"BN"]
[8531,"M","LOPEZ Daniel","ALE-2",2,1,"LA UNIÓ","LA UNIÓ",141.81000000000003,{"$f":"IF($S170<>\"\",\"\",IF(AND($E170<=J$1,$B170=\"M\"),MAX(J$2:J169)+1,\"\"))","v":148},{"$f":"IF($S170<>\"\",\"\",IF(AND($E170<=K$1,$B170=\"M\"),MAX(K$2:K169)+1,\"\"))","v":88},{"$f":"IF($S170<>\"\",\"\",IF(AND($E170<=L$1,$B170=\"M\"),MAX(L$2:L169)+1,\"\"))","v":34},{"$f":"IF($S170<>\"\",\"\",IF(AND($E170<=M$1,$B170=\"M\"),MAX(M$2:M169)+1,\"\"))","v":""},{"$f":"IF($S170<>\"\",\"\",IF(AND($E170<=N$1,$B170=\"F\"),MAX(N$2:N169)+1,\"\"))","v":""},{"$f":"IF($S170<>\"\",\"\",IF(AND($E170<=O$1,$B170=\"F\"),MAX(O$2:O169)+1,\"\"))","v":""},{"$f":"IF(AND($S170<>\"\",$S170<>\"No pot jugar individual\"),\"\",IF(AND($F170<=P$1,$B170=\"M\"),MAX(P$2:P169)+1,\"\"))","v":148},{"$f":"IF(AND($S170<>\"\",$S170<>\"No pot jugar individual\"),\"\",IF(AND($F170<=Q$1,$B170=\"M\"),MAX(Q$2:Q169)+1,\"\"))","v":34},{"$f":"IF($S170<>\"\",\"\",IF($F170<=R$1,MAX(R$2:R169)+1,\"\"))","v":""},"",7,0,0,0,"G","G","G","G","H","H","G","G"]
[7146,"M","CRUZ Alejandro","INF-2",3,2,"FALCONS","FALCONS",136.92000000000002,{"$f":"IF($S171<>\"\",\"\",IF(AND($E171<=J$1,$B171=\"M\"),MAX(J$2:J170)+1,\"\"))","v":149},{"$f":"IF($S171<>\"\",\"\",IF(AND($E171<=K$1,$B171=\"M\"),MAX(K$2:K170)+1,\"\"))","v":89},{"$f":"IF($S171<>\"\",\"\",IF(AND($E171<=L$1,$B171=\"M\"),MAX(L$2:L170)+1,\"\"))","v":""},{"$f":"IF($S171<>\"\",\"\",IF(AND($E171<=M$1,$B171=\"M\"),MAX(M$2:M170)+1,\"\"))","v":""},{"$f":"IF($S171<>\"\",\"\",IF(AND($E171<=N$1,$B171=\"F\"),MAX(N$2:N170)+1,\"\"))","v":""},{"$f":"IF($S171<>\"\",\"\",IF(AND($E171<=O$1,$B171=\"F\"),MAX(O$2:O170)+1,\"\"))","v":""},{"$f":"IF(AND($S171<>\"\",$S171<>\"No pot jugar individual\"),\"\",IF(AND($F171<=P$1,$B171=\"M\"),MAX(P$2:P170)+1,\"\"))","v":149},{"$f":"IF(AND($S171<>\"\",$S171<>\"No pot jugar individual\"),\"\",IF(AND($F171<=Q$1,$B171=\"M\"),MAX(Q$2:Q170)+1,\"\"))","v":""},{"$f":"IF($S171<>\"\",\"\",IF($F171<=R$1,MAX(R$2:R170)+1,\"\"))","v":""},"",7,1,0,0,"L","K","J","I","H","I","H","G",null,null,null,null,"BC"]
[10229,"M","MARTI Eric","INF-2",3,2,"ATEN82","ATEN82",134.03,{"$f":"IF($S172<>\"\",\"\",IF(AND($E172<=J$1,$B172=\"M\"),MAX(J$2:J171)+1,\"\"))","v":150},{"$f":"IF($S172<>\"\",\"\",IF(AND($E172<=K$1,$B172=\"M\"),MAX(K$2:K171)+1,\"\"))","v":90},{"$f":"IF($S172<>\"\",\"\",IF(AND($E172<=L$1,$B172=\"M\"),MAX(L$2:L171)+1,\"\"))","v":""},{"$f":"IF($S172<>\"\",\"\",IF(AND($E172<=M$1,$B172=\"M\"),MAX(M$2:M171)+1,\"\"))","v":""},{"$f":"IF($S172<>\"\",\"\",IF(AND($E172<=N$1,$B172=\"F\"),MAX(N$2:N171)+1,\"\"))","v":""},{"$f":"IF($S172<>\"\",\"\",IF(AND($E172<=O$1,$B172=\"F\"),MAX(O$2:O171)+1,\"\"))","v":""},{"$f":"IF(AND($S172<>\"\",$S172<>\"No pot jugar individual\"),\"\",IF(AND($F172<=P$1,$B172=\"M\"),MAX(P$2:P171)+1,\"\"))","v":150},{"$f":"IF(AND($S172<>\"\",$S172<>\"No pot jugar individual\"),\"\",IF(AND($F172<=Q$1,$B172=\"M\"),MAX(Q$2:Q171)+1,\"\"))","v":""},{"$f":"IF($S172<>\"\",\"\",IF($F172<=R$1,MAX(R$2:R171)+1,\"\"))","v":""},"",7,0,0,0,"L","L","K","J","I","H","H","G"]
[7369,"M","GRAS Pau","JUV-1",4,2,"MATARO","MATARO",133.19999999999999,{"$f":"IF($S173<>\"\",\"\",IF(AND($E173<=J$1,$B173=\"M\"),MAX(J$2:J172)+1,\"\"))","v":151},{"$f":"IF($S173<>\"\",\"\",IF(AND($E173<=K$1,$B173=\"M\"),MAX(K$2:K172)+1,\"\"))","v":""},{"$f":"IF($S173<>\"\",\"\",IF(AND($E173<=L$1,$B173=\"M\"),MAX(L$2:L172)+1,\"\"))","v":""},{"$f":"IF($S173<>\"\",\"\",IF(AND($E173<=M$1,$B173=\"M\"),MAX(M$2:M172)+1,\"\"))","v":""},{"$f":"IF($S173<>\"\",\"\",IF(AND($E173<=N$1,$B173=\"F\"),MAX(N$2:N172)+1,\"\"))","v":""},{"$f":"IF($S173<>\"\",\"\",IF(AND($E173<=O$1,$B173=\"F\"),MAX(O$2:O172)+1,\"\"))","v":""},{"$f":"IF(AND($S173<>\"\",$S173<>\"No pot jugar individual\"),\"\",IF(AND($F173<=P$1,$B173=\"M\"),MAX(P$2:P172)+1,\"\"))","v":151},{"$f":"IF(AND($S173<>\"\",$S173<>\"No pot jugar individual\"),\"\",IF(AND($F173<=Q$1,$B173=\"M\"),MAX(Q$2:Q172)+1,\"\"))","v":""},{"$f":"IF($S173<>\"\",\"\",IF($F173<=R$1,MAX(R$2:R172)+1,\"\"))","v":""},"",7,2,0,0,"K","J","I","H","G","H","G","H",null,null,null,null,"BC",null,"BC"]
[7837,"M","VAN Patrik Joan","INF-2",3,2,"R.ELISENDA","R.ELISENDA",125.46,{"$f":"IF($S174<>\"\",\"\",IF(AND($E174<=J$1,$B174=\"M\"),MAX(J$2:J173)+1,\"\"))","v":152},{"$f":"IF($S174<>\"\",\"\",IF(AND($E174<=K$1,$B174=\"M\"),MAX(K$2:K173)+1,\"\"))","v":91},{"$f":"IF($S174<>\"\",\"\",IF(AND($E174<=L$1,$B174=\"M\"),MAX(L$2:L173)+1,\"\"))","v":""},{"$f":"IF($S174<>\"\",\"\",IF(AND($E174<=M$1,$B174=\"M\"),MAX(M$2:M173)+1,\"\"))","v":""},{"$f":"IF($S174<>\"\",\"\",IF(AND($E174<=N$1,$B174=\"F\"),MAX(N$2:N173)+1,\"\"))","v":""},{"$f":"IF($S174<>\"\",\"\",IF(AND($E174<=O$1,$B174=\"F\"),MAX(O$2:O173)+1,\"\"))","v":""},{"$f":"IF(AND($S174<>\"\",$S174<>\"No pot jugar individual\"),\"\",IF(AND($F174<=P$1,$B174=\"M\"),MAX(P$2:P173)+1,\"\"))","v":152},{"$f":"IF(AND($S174<>\"\",$S174<>\"No pot jugar individual\"),\"\",IF(AND($F174<=Q$1,$B174=\"M\"),MAX(Q$2:Q173)+1,\"\"))","v":""},{"$f":"IF($S174<>\"\",\"\",IF($F174<=R$1,MAX(R$2:R173)+1,\"\"))","v":""},"",7,0,0,0,"F","G","G","G","G","G","G","G","BJ"]
[6096,"M","POUS Jacob","BEN-2",1,1,"MATARO","MATARO",125.05,{"$f":"IF($S175<>\"\",\"\",IF(AND($E175<=J$1,$B175=\"M\"),MAX(J$2:J174)+1,\"\"))","v":153},{"$f":"IF($S175<>\"\",\"\",IF(AND($E175<=K$1,$B175=\"M\"),MAX(K$2:K174)+1,\"\"))","v":92},{"$f":"IF($S175<>\"\",\"\",IF(AND($E175<=L$1,$B175=\"M\"),MAX(L$2:L174)+1,\"\"))","v":35},{"$f":"IF($S175<>\"\",\"\",IF(AND($E175<=M$1,$B175=\"M\"),MAX(M$2:M174)+1,\"\"))","v":5},{"$f":"IF($S175<>\"\",\"\",IF(AND($E175<=N$1,$B175=\"F\"),MAX(N$2:N174)+1,\"\"))","v":""},{"$f":"IF($S175<>\"\",\"\",IF(AND($E175<=O$1,$B175=\"F\"),MAX(O$2:O174)+1,\"\"))","v":""},{"$f":"IF(AND($S175<>\"\",$S175<>\"No pot jugar individual\"),\"\",IF(AND($F175<=P$1,$B175=\"M\"),MAX(P$2:P174)+1,\"\"))","v":153},{"$f":"IF(AND($S175<>\"\",$S175<>\"No pot jugar individual\"),\"\",IF(AND($F175<=Q$1,$B175=\"M\"),MAX(Q$2:Q174)+1,\"\"))","v":35},{"$f":"IF($S175<>\"\",\"\",IF($F175<=R$1,MAX(R$2:R174)+1,\"\"))","v":""},"",7,0,0,0,"J","J","I","H","H","H","G","H"]
[10222,"M","MUÑOZ Miguel","INF-2",3,2,"CALELLA","CALELLA",124.61999999999999,{"$f":"IF($S176<>\"\",\"\",IF(AND($E176<=J$1,$B176=\"M\"),MAX(J$2:J175)+1,\"\"))","v":154},{"$f":"IF($S176<>\"\",\"\",IF(AND($E176<=K$1,$B176=\"M\"),MAX(K$2:K175)+1,\"\"))","v":93},{"$f":"IF($S176<>\"\",\"\",IF(AND($E176<=L$1,$B176=\"M\"),MAX(L$2:L175)+1,\"\"))","v":""},{"$f":"IF($S176<>\"\",\"\",IF(AND($E176<=M$1,$B176=\"M\"),MAX(M$2:M175)+1,\"\"))","v":""},{"$f":"IF($S176<>\"\",\"\",IF(AND($E176<=N$1,$B176=\"F\"),MAX(N$2:N175)+1,\"\"))","v":""},{"$f":"IF($S176<>\"\",\"\",IF(AND($E176<=O$1,$B176=\"F\"),MAX(O$2:O175)+1,\"\"))","v":""},{"$f":"IF(AND($S176<>\"\",$S176<>\"No pot jugar individual\"),\"\",IF(AND($F176<=P$1,$B176=\"M\"),MAX(P$2:P175)+1,\"\"))","v":154},{"$f":"IF(AND($S176<>\"\",$S176<>\"No pot jugar individual\"),\"\",IF(AND($F176<=Q$1,$B176=\"M\"),MAX(Q$2:Q175)+1,\"\"))","v":""},{"$f":"IF($S176<>\"\",\"\",IF($F176<=R$1,MAX(R$2:R175)+1,\"\"))","v":""},"",7,2,0,0,"G","F","G","G","H","H","I","H",null,null,null,"BC",null,"BC"]
[8574,"M","LOPEZ Alex","ALE-1",2,1,"LA UNIÓ","LA UNIÓ",123.38,{"$f":"IF($S177<>\"\",\"\",IF(AND($E177<=J$1,$B177=\"M\"),MAX(J$2:J176)+1,\"\"))","v":155},{"$f":"IF($S177<>\"\",\"\",IF(AND($E177<=K$1,$B177=\"M\"),MAX(K$2:K176)+1,\"\"))","v":94},{"$f":"IF($S177<>\"\",\"\",IF(AND($E177<=L$1,$B177=\"M\"),MAX(L$2:L176)+1,\"\"))","v":36},{"$f":"IF($S177<>\"\",\"\",IF(AND($E177<=M$1,$B177=\"M\"),MAX(M$2:M176)+1,\"\"))","v":""},{"$f":"IF($S177<>\"\",\"\",IF(AND($E177<=N$1,$B177=\"F\"),MAX(N$2:N176)+1,\"\"))","v":""},{"$f":"IF($S177<>\"\",\"\",IF(AND($E177<=O$1,$B177=\"F\"),MAX(O$2:O176)+1,\"\"))","v":""},{"$f":"IF(AND($S177<>\"\",$S177<>\"No pot jugar individual\"),\"\",IF(AND($F177<=P$1,$B177=\"M\"),MAX(P$2:P176)+1,\"\"))","v":155},{"$f":"IF(AND($S177<>\"\",$S177<>\"No pot jugar individual\"),\"\",IF(AND($F177<=Q$1,$B177=\"M\"),MAX(Q$2:Q176)+1,\"\"))","v":36},{"$f":"IF($S177<>\"\",\"\",IF($F177<=R$1,MAX(R$2:R176)+1,\"\"))","v":""},"",7,0,0,0,"F","G","H","I","I","H","H","H"]
[8722,"F","BACHS Mariona","BEN-2",1,0,"EUROCLIMA BDN","EUROCLIMA BDN",119.63,{"$f":"IF($S178<>\"\",\"\",IF(AND($E178<=J$1,$B178=\"M\"),MAX(J$2:J177)+1,\"\"))","v":""},{"$f":"IF($S178<>\"\",\"\",IF(AND($E178<=K$1,$B178=\"M\"),MAX(K$2:K177)+1,\"\"))","v":""},{"$f":"IF($S178<>\"\",\"\",IF(AND($E178<=L$1,$B178=\"M\"),MAX(L$2:L177)+1,\"\"))","v":""},{"$f":"IF($S178<>\"\",\"\",IF(AND($E178<=M$1,$B178=\"M\"),MAX(M$2:M177)+1,\"\"))","v":""},{"$f":"IF($S178<>\"\",\"\",IF(AND($E178<=N$1,$B178=\"F\"),MAX(N$2:N177)+1,\"\"))","v":21},{"$f":"IF($S178<>\"\",\"\",IF(AND($E178<=O$1,$B178=\"F\"),MAX(O$2:O177)+1,\"\"))","v":10},{"$f":"IF(AND($S178<>\"\",$S178<>\"No pot jugar individual\"),\"\",IF(AND($F178<=P$1,$B178=\"M\"),MAX(P$2:P177)+1,\"\"))","v":""},{"$f":"IF(AND($S178<>\"\",$S178<>\"No pot jugar individual\"),\"\",IF(AND($F178<=Q$1,$B178=\"M\"),MAX(Q$2:Q177)+1,\"\"))","v":""},{"$f":"IF($S178<>\"\",\"\",IF($F178<=R$1,MAX(R$2:R177)+1,\"\"))","v":21},"",7,0,0,0,"G","H","H","H","H","H","H","H"]
[10342,"F","DUEÑAS Clara","JUV-1",4,0,"HORTA","HORTA",119.09999999999998,{"$f":"IF($S179<>\"\",\"\",IF(AND($E179<=J$1,$B179=\"M\"),MAX(J$2:J178)+1,\"\"))","v":""},{"$f":"IF($S179<>\"\",\"\",IF(AND($E179<=K$1,$B179=\"M\"),MAX(K$2:K178)+1,\"\"))","v":""},{"$f":"IF($S179<>\"\",\"\",IF(AND($E179<=L$1,$B179=\"M\"),MAX(L$2:L178)+1,\"\"))","v":""},{"$f":"IF($S179<>\"\",\"\",IF(AND($E179<=M$1,$B179=\"M\"),MAX(M$2:M178)+1,\"\"))","v":""},{"$f":"IF($S179<>\"\",\"\",IF(AND($E179<=N$1,$B179=\"F\"),MAX(N$2:N178)+1,\"\"))","v":22},{"$f":"IF($S179<>\"\",\"\",IF(AND($E179<=O$1,$B179=\"F\"),MAX(O$2:O178)+1,\"\"))","v":""},{"$f":"IF(AND($S179<>\"\",$S179<>\"No pot jugar individual\"),\"\",IF(AND($F179<=P$1,$B179=\"M\"),MAX(P$2:P178)+1,\"\"))","v":""},{"$f":"IF(AND($S179<>\"\",$S179<>\"No pot jugar individual\"),\"\",IF(AND($F179<=Q$1,$B179=\"M\"),MAX(Q$2:Q178)+1,\"\"))","v":""},{"$f":"IF($S179<>\"\",\"\",IF($F179<=R$1,MAX(R$2:R178)+1,\"\"))","v":22},"",7,2,0,0,"H","G","H","G","H","H","H","H",null,"BC",null,"BJ","BC"]
[7589,"M","BUENO Poul Ignasi","BEN-2",1,1,"MASQUEFA","MASQUEFA",118.39000000000001,{"$f":"IF($S180<>\"\",\"\",IF(AND($E180<=J$1,$B180=\"M\"),MAX(J$2:J179)+1,\"\"))","v":156},{"$f":"IF($S180<>\"\",\"\",IF(AND($E180<=K$1,$B180=\"M\"),MAX(K$2:K179)+1,\"\"))","v":95},{"$f":"IF($S180<>\"\",\"\",IF(AND($E180<=L$1,$B180=\"M\"),MAX(L$2:L179)+1,\"\"))","v":37},{"$f":"IF($S180<>\"\",\"\",IF(AND($E180<=M$1,$B180=\"M\"),MAX(M$2:M179)+1,\"\"))","v":6},{"$f":"IF($S180<>\"\",\"\",IF(AND($E180<=N$1,$B180=\"F\"),MAX(N$2:N179)+1,\"\"))","v":""},{"$f":"IF($S180<>\"\",\"\",IF(AND($E180<=O$1,$B180=\"F\"),MAX(O$2:O179)+1,\"\"))","v":""},{"$f":"IF(AND($S180<>\"\",$S180<>\"No pot jugar individual\"),\"\",IF(AND($F180<=P$1,$B180=\"M\"),MAX(P$2:P179)+1,\"\"))","v":156},{"$f":"IF(AND($S180<>\"\",$S180<>\"No pot jugar individual\"),\"\",IF(AND($F180<=Q$1,$B180=\"M\"),MAX(Q$2:Q179)+1,\"\"))","v":37},{"$f":"IF($S180<>\"\",\"\",IF($F180<=R$1,MAX(R$2:R179)+1,\"\"))","v":""},"",7,1,0,0,"G","G","G","G","G","G","H","H",null,null,null,null,null,"BC"]
[8150,"M","LANDAJO Eric","INF-1",3,2,"R.ELISENDA","R.ELISENDA",116.85999999999999,{"$f":"IF($S181<>\"\",\"\",IF(AND($E181<=J$1,$B181=\"M\"),MAX(J$2:J180)+1,\"\"))","v":157},{"$f":"IF($S181<>\"\",\"\",IF(AND($E181<=K$1,$B181=\"M\"),MAX(K$2:K180)+1,\"\"))","v":96},{"$f":"IF($S181<>\"\",\"\",IF(AND($E181<=L$1,$B181=\"M\"),MAX(L$2:L180)+1,\"\"))","v":""},{"$f":"IF($S181<>\"\",\"\",IF(AND($E181<=M$1,$B181=\"M\"),MAX(M$2:M180)+1,\"\"))","v":""},{"$f":"IF($S181<>\"\",\"\",IF(AND($E181<=N$1,$B181=\"F\"),MAX(N$2:N180)+1,\"\"))","v":""},{"$f":"IF($S181<>\"\",\"\",IF(AND($E181<=O$1,$B181=\"F\"),MAX(O$2:O180)+1,\"\"))","v":""},{"$f":"IF(AND($S181<>\"\",$S181<>\"No pot jugar individual\"),\"\",IF(AND($F181<=P$1,$B181=\"M\"),MAX(P$2:P180)+1,\"\"))","v":157},{"$f":"IF(AND($S181<>\"\",$S181<>\"No pot jugar individual\"),\"\",IF(AND($F181<=Q$1,$B181=\"M\"),MAX(Q$2:Q180)+1,\"\"))","v":""},{"$f":"IF($S181<>\"\",\"\",IF($F181<=R$1,MAX(R$2:R180)+1,\"\"))","v":""},"",7,0,0,0,"H","H","H","H","H","H","H","H",null,null,null,"BJ"]
[7115,"M","ORTUÑO Ferran","JUV-1",4,2,"FALCONS","FALCONS",116.55,{"$f":"IF($S182<>\"\",\"\",IF(AND($E182<=J$1,$B182=\"M\"),MAX(J$2:J181)+1,\"\"))","v":158},{"$f":"IF($S182<>\"\",\"\",IF(AND($E182<=K$1,$B182=\"M\"),MAX(K$2:K181)+1,\"\"))","v":""},{"$f":"IF($S182<>\"\",\"\",IF(AND($E182<=L$1,$B182=\"M\"),MAX(L$2:L181)+1,\"\"))","v":""},{"$f":"IF($S182<>\"\",\"\",IF(AND($E182<=M$1,$B182=\"M\"),MAX(M$2:M181)+1,\"\"))","v":""},{"$f":"IF($S182<>\"\",\"\",IF(AND($E182<=N$1,$B182=\"F\"),MAX(N$2:N181)+1,\"\"))","v":""},{"$f":"IF($S182<>\"\",\"\",IF(AND($E182<=O$1,$B182=\"F\"),MAX(O$2:O181)+1,\"\"))","v":""},{"$f":"IF(AND($S182<>\"\",$S182<>\"No pot jugar individual\"),\"\",IF(AND($F182<=P$1,$B182=\"M\"),MAX(P$2:P181)+1,\"\"))","v":158},{"$f":"IF(AND($S182<>\"\",$S182<>\"No pot jugar individual\"),\"\",IF(AND($F182<=Q$1,$B182=\"M\"),MAX(Q$2:Q181)+1,\"\"))","v":""},{"$f":"IF($S182<>\"\",\"\",IF($F182<=R$1,MAX(R$2:R181)+1,\"\"))","v":""},"",7,0,0,0,"K","K","K","J","I","I","H","H"]
[9222,"M","ULLOA Ferran","JUV-1",4,2,"LLUÏSOS","LLUÏSOS",113.06,{"$f":"IF($S183<>\"\",\"\",IF(AND($E183<=J$1,$B183=\"M\"),MAX(J$2:J182)+1,\"\"))","v":159},{"$f":"IF($S183<>\"\",\"\",IF(AND($E183<=K$1,$B183=\"M\"),MAX(K$2:K182)+1,\"\"))","v":""},{"$f":"IF($S183<>\"\",\"\",IF(AND($E183<=L$1,$B183=\"M\"),MAX(L$2:L182)+1,\"\"))","v":""},{"$f":"IF($S183<>\"\",\"\",IF(AND($E183<=M$1,$B183=\"M\"),MAX(M$2:M182)+1,\"\"))","v":""},{"$f":"IF($S183<>\"\",\"\",IF(AND($E183<=N$1,$B183=\"F\"),MAX(N$2:N182)+1,\"\"))","v":""},{"$f":"IF($S183<>\"\",\"\",IF(AND($E183<=O$1,$B183=\"F\"),MAX(O$2:O182)+1,\"\"))","v":""},{"$f":"IF(AND($S183<>\"\",$S183<>\"No pot jugar individual\"),\"\",IF(AND($F183<=P$1,$B183=\"M\"),MAX(P$2:P182)+1,\"\"))","v":159},{"$f":"IF(AND($S183<>\"\",$S183<>\"No pot jugar individual\"),\"\",IF(AND($F183<=Q$1,$B183=\"M\"),MAX(Q$2:Q182)+1,\"\"))","v":""},{"$f":"IF($S183<>\"\",\"\",IF($F183<=R$1,MAX(R$2:R182)+1,\"\"))","v":""},"",7,{"$f":"COUNTIF($AF183:$AL183,U$2)","v":0},0,0,"K","K","J","J","I","H","H","H"]
[10252,"M","GRANADOS Joel","INF-1",3,2,"SALLENT","SALLENT",111.97,{"$f":"IF($S184<>\"\",\"\",IF(AND($E184<=J$1,$B184=\"M\"),MAX(J$2:J183)+1,\"\"))","v":160},{"$f":"IF($S184<>\"\",\"\",IF(AND($E184<=K$1,$B184=\"M\"),MAX(K$2:K183)+1,\"\"))","v":97},{"$f":"IF($S184<>\"\",\"\",IF(AND($E184<=L$1,$B184=\"M\"),MAX(L$2:L183)+1,\"\"))","v":""},{"$f":"IF($S184<>\"\",\"\",IF(AND($E184<=M$1,$B184=\"M\"),MAX(M$2:M183)+1,\"\"))","v":""},{"$f":"IF($S184<>\"\",\"\",IF(AND($E184<=N$1,$B184=\"F\"),MAX(N$2:N183)+1,\"\"))","v":""},{"$f":"IF($S184<>\"\",\"\",IF(AND($E184<=O$1,$B184=\"F\"),MAX(O$2:O183)+1,\"\"))","v":""},{"$f":"IF(AND($S184<>\"\",$S184<>\"No pot jugar individual\"),\"\",IF(AND($F184<=P$1,$B184=\"M\"),MAX(P$2:P183)+1,\"\"))","v":160},{"$f":"IF(AND($S184<>\"\",$S184<>\"No pot jugar individual\"),\"\",IF(AND($F184<=Q$1,$B184=\"M\"),MAX(Q$2:Q183)+1,\"\"))","v":""},{"$f":"IF($S184<>\"\",\"\",IF($F184<=R$1,MAX(R$2:R183)+1,\"\"))","v":""},"",7,2,0,0,"G","G","H","H","H","I","H","H",null,null,null,null,"BC",null,"BC"]
[10576,"M","SAURINA Guillem","INF-1",3,2,"HOSPIT","HOSPIT",107.47999999999999,{"$f":"IF($S185<>\"\",\"\",IF(AND($E185<=J$1,$B185=\"M\"),MAX(J$2:J184)+1,\"\"))","v":161},{"$f":"IF($S185<>\"\",\"\",IF(AND($E185<=K$1,$B185=\"M\"),MAX(K$2:K184)+1,\"\"))","v":98},{"$f":"IF($S185<>\"\",\"\",IF(AND($E185<=L$1,$B185=\"M\"),MAX(L$2:L184)+1,\"\"))","v":""},{"$f":"IF($S185<>\"\",\"\",IF(AND($E185<=M$1,$B185=\"M\"),MAX(M$2:M184)+1,\"\"))","v":""},{"$f":"IF($S185<>\"\",\"\",IF(AND($E185<=N$1,$B185=\"F\"),MAX(N$2:N184)+1,\"\"))","v":""},{"$f":"IF($S185<>\"\",\"\",IF(AND($E185<=O$1,$B185=\"F\"),MAX(O$2:O184)+1,\"\"))","v":""},{"$f":"IF(AND($S185<>\"\",$S185<>\"No pot jugar individual\"),\"\",IF(AND($F185<=P$1,$B185=\"M\"),MAX(P$2:P184)+1,\"\"))","v":161},{"$f":"IF(AND($S185<>\"\",$S185<>\"No pot jugar individual\"),\"\",IF(AND($F185<=Q$1,$B185=\"M\"),MAX(Q$2:Q184)+1,\"\"))","v":""},{"$f":"IF($S185<>\"\",\"\",IF($F185<=R$1,MAX(R$2:R184)+1,\"\"))","v":""},"",7,0,1,0,"I","I","I","H","I","H","H","H",null,null,null,"BN"]
[10299,"M","OLIVERAS Albert-Sobash","JUV-1",4,2,"LLUÏSOS","LLUÏSOS",105.76999999999998,{"$f":"IF($S186<>\"\",\"\",IF(AND($E186<=J$1,$B186=\"M\"),MAX(J$2:J185)+1,\"\"))","v":162},{"$f":"IF($S186<>\"\",\"\",IF(AND($E186<=K$1,$B186=\"M\"),MAX(K$2:K185)+1,\"\"))","v":""},{"$f":"IF($S186<>\"\",\"\",IF(AND($E186<=L$1,$B186=\"M\"),MAX(L$2:L185)+1,\"\"))","v":""},{"$f":"IF($S186<>\"\",\"\",IF(AND($E186<=M$1,$B186=\"M\"),MAX(M$2:M185)+1,\"\"))","v":""},{"$f":"IF($S186<>\"\",\"\",IF(AND($E186<=N$1,$B186=\"F\"),MAX(N$2:N185)+1,\"\"))","v":""},{"$f":"IF($S186<>\"\",\"\",IF(AND($E186<=O$1,$B186=\"F\"),MAX(O$2:O185)+1,\"\"))","v":""},{"$f":"IF(AND($S186<>\"\",$S186<>\"No pot jugar individual\"),\"\",IF(AND($F186<=P$1,$B186=\"M\"),MAX(P$2:P185)+1,\"\"))","v":162},{"$f":"IF(AND($S186<>\"\",$S186<>\"No pot jugar individual\"),\"\",IF(AND($F186<=Q$1,$B186=\"M\"),MAX(Q$2:Q185)+1,\"\"))","v":""},{"$f":"IF($S186<>\"\",\"\",IF($F186<=R$1,MAX(R$2:R185)+1,\"\"))","v":""},"",7,1,0,0,"I","I","H","H","H","H","I","I",null,null,null,null,null,null,"BC"]
[8689,"M","SANTOS Daniel","JUV-1",4,2,"OLESA","OLESA",104.19999999999999,{"$f":"IF($S187<>\"\",\"\",IF(AND($E187<=J$1,$B187=\"M\"),MAX(J$2:J186)+1,\"\"))","v":163},{"$f":"IF($S187<>\"\",\"\",IF(AND($E187<=K$1,$B187=\"M\"),MAX(K$2:K186)+1,\"\"))","v":""},{"$f":"IF($S187<>\"\",\"\",IF(AND($E187<=L$1,$B187=\"M\"),MAX(L$2:L186)+1,\"\"))","v":""},{"$f":"IF($S187<>\"\",\"\",IF(AND($E187<=M$1,$B187=\"M\"),MAX(M$2:M186)+1,\"\"))","v":""},{"$f":"IF($S187<>\"\",\"\",IF(AND($E187<=N$1,$B187=\"F\"),MAX(N$2:N186)+1,\"\"))","v":""},{"$f":"IF($S187<>\"\",\"\",IF(AND($E187<=O$1,$B187=\"F\"),MAX(O$2:O186)+1,\"\"))","v":""},{"$f":"IF(AND($S187<>\"\",$S187<>\"No pot jugar individual\"),\"\",IF(AND($F187<=P$1,$B187=\"M\"),MAX(P$2:P186)+1,\"\"))","v":163},{"$f":"IF(AND($S187<>\"\",$S187<>\"No pot jugar individual\"),\"\",IF(AND($F187<=Q$1,$B187=\"M\"),MAX(Q$2:Q186)+1,\"\"))","v":""},{"$f":"IF($S187<>\"\",\"\",IF($F187<=R$1,MAX(R$2:R186)+1,\"\"))","v":""},"",7,1,0,0,"G","H","H","H","H","H","I","H","BC"]
[6857,"M","CABOT Gerard","INF-2",3,2,"LLUÏSOS","LLUÏSOS",102.55,{"$f":"IF($S188<>\"\",\"\",IF(AND($E188<=J$1,$B188=\"M\"),MAX(J$2:J187)+1,\"\"))","v":164},{"$f":"IF($S188<>\"\",\"\",IF(AND($E188<=K$1,$B188=\"M\"),MAX(K$2:K187)+1,\"\"))","v":99},{"$f":"IF($S188<>\"\",\"\",IF(AND($E188<=L$1,$B188=\"M\"),MAX(L$2:L187)+1,\"\"))","v":""},{"$f":"IF($S188<>\"\",\"\",IF(AND($E188<=M$1,$B188=\"M\"),MAX(M$2:M187)+1,\"\"))","v":""},{"$f":"IF($S188<>\"\",\"\",IF(AND($E188<=N$1,$B188=\"F\"),MAX(N$2:N187)+1,\"\"))","v":""},{"$f":"IF($S188<>\"\",\"\",IF(AND($E188<=O$1,$B188=\"F\"),MAX(O$2:O187)+1,\"\"))","v":""},{"$f":"IF(AND($S188<>\"\",$S188<>\"No pot jugar individual\"),\"\",IF(AND($F188<=P$1,$B188=\"M\"),MAX(P$2:P187)+1,\"\"))","v":164},{"$f":"IF(AND($S188<>\"\",$S188<>\"No pot jugar individual\"),\"\",IF(AND($F188<=Q$1,$B188=\"M\"),MAX(Q$2:Q187)+1,\"\"))","v":""},{"$f":"IF($S188<>\"\",\"\",IF($F188<=R$1,MAX(R$2:R187)+1,\"\"))","v":""},"",7,1,0,0,"L","K","J","K","J","I","H","G",null,null,"BC"]
[10121,"M","EVANGELISTA Enzo","ALE-2",2,1,"LLUÏSOS","LLUÏSOS",99.139999999999986,{"$f":"IF($S189<>\"\",\"\",IF(AND($E189<=J$1,$B189=\"M\"),MAX(J$2:J188)+1,\"\"))","v":165},{"$f":"IF($S189<>\"\",\"\",IF(AND($E189<=K$1,$B189=\"M\"),MAX(K$2:K188)+1,\"\"))","v":100},{"$f":"IF($S189<>\"\",\"\",IF(AND($E189<=L$1,$B189=\"M\"),MAX(L$2:L188)+1,\"\"))","v":38},{"$f":"IF($S189<>\"\",\"\",IF(AND($E189<=M$1,$B189=\"M\"),MAX(M$2:M188)+1,\"\"))","v":""},{"$f":"IF($S189<>\"\",\"\",IF(AND($E189<=N$1,$B189=\"F\"),MAX(N$2:N188)+1,\"\"))","v":""},{"$f":"IF($S189<>\"\",\"\",IF(AND($E189<=O$1,$B189=\"F\"),MAX(O$2:O188)+1,\"\"))","v":""},{"$f":"IF(AND($S189<>\"\",$S189<>\"No pot jugar individual\"),\"\",IF(AND($F189<=P$1,$B189=\"M\"),MAX(P$2:P188)+1,\"\"))","v":165},{"$f":"IF(AND($S189<>\"\",$S189<>\"No pot jugar individual\"),\"\",IF(AND($F189<=Q$1,$B189=\"M\"),MAX(Q$2:Q188)+1,\"\"))","v":38},{"$f":"IF($S189<>\"\",\"\",IF($F189<=R$1,MAX(R$2:R188)+1,\"\"))","v":""},"",7,0,0,0,"I","I","I","I","I","I","H","H","SA"]
[7113,"M","MANENT Marti","JUV-1",4,2,"FALCONS","FALCONS",95.5,{"$f":"IF($S190<>\"\",\"\",IF(AND($E190<=J$1,$B190=\"M\"),MAX(J$2:J189)+1,\"\"))","v":166},{"$f":"IF($S190<>\"\",\"\",IF(AND($E190<=K$1,$B190=\"M\"),MAX(K$2:K189)+1,\"\"))","v":""},{"$f":"IF($S190<>\"\",\"\",IF(AND($E190<=L$1,$B190=\"M\"),MAX(L$2:L189)+1,\"\"))","v":""},{"$f":"IF($S190<>\"\",\"\",IF(AND($E190<=M$1,$B190=\"M\"),MAX(M$2:M189)+1,\"\"))","v":""},{"$f":"IF($S190<>\"\",\"\",IF(AND($E190<=N$1,$B190=\"F\"),MAX(N$2:N189)+1,\"\"))","v":""},{"$f":"IF($S190<>\"\",\"\",IF(AND($E190<=O$1,$B190=\"F\"),MAX(O$2:O189)+1,\"\"))","v":""},{"$f":"IF(AND($S190<>\"\",$S190<>\"No pot jugar individual\"),\"\",IF(AND($F190<=P$1,$B190=\"M\"),MAX(P$2:P189)+1,\"\"))","v":166},{"$f":"IF(AND($S190<>\"\",$S190<>\"No pot jugar individual\"),\"\",IF(AND($F190<=Q$1,$B190=\"M\"),MAX(Q$2:Q189)+1,\"\"))","v":""},{"$f":"IF($S190<>\"\",\"\",IF($F190<=R$1,MAX(R$2:R189)+1,\"\"))","v":""},"",7,0,0,0,"K","K","K","J","J","I","H","H"]
[5917,"M","ISERN Pau","JUV-1",4,2,"R.ELISENDA","R.ELISENDA",86.949999999999989,{"$f":"IF($S191<>\"\",\"\",IF(AND($E191<=J$1,$B191=\"M\"),MAX(J$2:J190)+1,\"\"))","v":167},{"$f":"IF($S191<>\"\",\"\",IF(AND($E191<=K$1,$B191=\"M\"),MAX(K$2:K190)+1,\"\"))","v":""},{"$f":"IF($S191<>\"\",\"\",IF(AND($E191<=L$1,$B191=\"M\"),MAX(L$2:L190)+1,\"\"))","v":""},{"$f":"IF($S191<>\"\",\"\",IF(AND($E191<=M$1,$B191=\"M\"),MAX(M$2:M190)+1,\"\"))","v":""},{"$f":"IF($S191<>\"\",\"\",IF(AND($E191<=N$1,$B191=\"F\"),MAX(N$2:N190)+1,\"\"))","v":""},{"$f":"IF($S191<>\"\",\"\",IF(AND($E191<=O$1,$B191=\"F\"),MAX(O$2:O190)+1,\"\"))","v":""},{"$f":"IF(AND($S191<>\"\",$S191<>\"No pot jugar individual\"),\"\",IF(AND($F191<=P$1,$B191=\"M\"),MAX(P$2:P190)+1,\"\"))","v":167},{"$f":"IF(AND($S191<>\"\",$S191<>\"No pot jugar individual\"),\"\",IF(AND($F191<=Q$1,$B191=\"M\"),MAX(Q$2:Q190)+1,\"\"))","v":""},{"$f":"IF($S191<>\"\",\"\",IF($F191<=R$1,MAX(R$2:R190)+1,\"\"))","v":""},"",7,0,0,0,"H","I","H","I","I","H","H","H"]
[10481,"M","VERGARA Dan","ALE-1",2,1,"MATARO","MATARO",86.949999999999989,{"$f":"IF($S192<>\"\",\"\",IF(AND($E192<=J$1,$B192=\"M\"),MAX(J$2:J191)+1,\"\"))","v":168},{"$f":"IF($S192<>\"\",\"\",IF(AND($E192<=K$1,$B192=\"M\"),MAX(K$2:K191)+1,\"\"))","v":101},{"$f":"IF($S192<>\"\",\"\",IF(AND($E192<=L$1,$B192=\"M\"),MAX(L$2:L191)+1,\"\"))","v":39},{"$f":"IF($S192<>\"\",\"\",IF(AND($E192<=M$1,$B192=\"M\"),MAX(M$2:M191)+1,\"\"))","v":""},{"$f":"IF($S192<>\"\",\"\",IF(AND($E192<=N$1,$B192=\"F\"),MAX(N$2:N191)+1,\"\"))","v":""},{"$f":"IF($S192<>\"\",\"\",IF(AND($E192<=O$1,$B192=\"F\"),MAX(O$2:O191)+1,\"\"))","v":""},{"$f":"IF(AND($S192<>\"\",$S192<>\"No pot jugar individual\"),\"\",IF(AND($F192<=P$1,$B192=\"M\"),MAX(P$2:P191)+1,\"\"))","v":168},{"$f":"IF(AND($S192<>\"\",$S192<>\"No pot jugar individual\"),\"\",IF(AND($F192<=Q$1,$B192=\"M\"),MAX(Q$2:Q191)+1,\"\"))","v":39},{"$f":"IF($S192<>\"\",\"\",IF($F192<=R$1,MAX(R$2:R191)+1,\"\"))","v":""},"",7,0,1,0,"I","I","I","H","H","H","H","I",null,null,null,null,null,null,"BN"]
[10510,"M","DARANAS Set","ALE-2",2,1,"VILANOVA","VILANOVA",85.949999999999989,{"$f":"IF($S193<>\"\",\"\",IF(AND($E193<=J$1,$B193=\"M\"),MAX(J$2:J192)+1,\"\"))","v":169},{"$f":"IF($S193<>\"\",\"\",IF(AND($E193<=K$1,$B193=\"M\"),MAX(K$2:K192)+1,\"\"))","v":102},{"$f":"IF($S193<>\"\",\"\",IF(AND($E193<=L$1,$B193=\"M\"),MAX(L$2:L192)+1,\"\"))","v":40},{"$f":"IF($S193<>\"\",\"\",IF(AND($E193<=M$1,$B193=\"M\"),MAX(M$2:M192)+1,\"\"))","v":""},{"$f":"IF($S193<>\"\",\"\",IF(AND($E193<=N$1,$B193=\"F\"),MAX(N$2:N192)+1,\"\"))","v":""},{"$f":"IF($S193<>\"\",\"\",IF(AND($E193<=O$1,$B193=\"F\"),MAX(O$2:O192)+1,\"\"))","v":""},{"$f":"IF(AND($S193<>\"\",$S193<>\"No pot jugar individual\"),\"\",IF(AND($F193<=P$1,$B193=\"M\"),MAX(P$2:P192)+1,\"\"))","v":169},{"$f":"IF(AND($S193<>\"\",$S193<>\"No pot jugar individual\"),\"\",IF(AND($F193<=Q$1,$B193=\"M\"),MAX(Q$2:Q192)+1,\"\"))","v":40},{"$f":"IF($S193<>\"\",\"\",IF($F193<=R$1,MAX(R$2:R192)+1,\"\"))","v":""},"",7,0,0,0,"I","I","I","I","I","I","H","H",null,null,null,null,"BJ"]
[10249,"M","HERNÁNDEZ Marc","INF-1",3,2,"OLESA","OLESA",85.66,{"$f":"IF($S194<>\"\",\"\",IF(AND($E194<=J$1,$B194=\"M\"),MAX(J$2:J193)+1,\"\"))","v":170},{"$f":"IF($S194<>\"\",\"\",IF(AND($E194<=K$1,$B194=\"M\"),MAX(K$2:K193)+1,\"\"))","v":103},{"$f":"IF($S194<>\"\",\"\",IF(AND($E194<=L$1,$B194=\"M\"),MAX(L$2:L193)+1,\"\"))","v":""},{"$f":"IF($S194<>\"\",\"\",IF(AND($E194<=M$1,$B194=\"M\"),MAX(M$2:M193)+1,\"\"))","v":""},{"$f":"IF($S194<>\"\",\"\",IF(AND($E194<=N$1,$B194=\"F\"),MAX(N$2:N193)+1,\"\"))","v":""},{"$f":"IF($S194<>\"\",\"\",IF(AND($E194<=O$1,$B194=\"F\"),MAX(O$2:O193)+1,\"\"))","v":""},{"$f":"IF(AND($S194<>\"\",$S194<>\"No pot jugar individual\"),\"\",IF(AND($F194<=P$1,$B194=\"M\"),MAX(P$2:P193)+1,\"\"))","v":170},{"$f":"IF(AND($S194<>\"\",$S194<>\"No pot jugar individual\"),\"\",IF(AND($F194<=Q$1,$B194=\"M\"),MAX(Q$2:Q193)+1,\"\"))","v":""},{"$f":"IF($S194<>\"\",\"\",IF($F194<=R$1,MAX(R$2:R193)+1,\"\"))","v":""},"",7,0,0,0,"M","L","K","J","I","I","I","H"]
[11179,"M","BAUCELLS Genís","ALE-2",{"$f":"IF(LEFT(D195,1)=\"P\",1,IF(LEFT(D195,1)=\"B\",1,IF(LEFT(D195,1)=\"A\",2,IF(LEFT(D195,1)=\"I\",3,4))))","v":2},{"$f":"IF(B195=\"F\",0,IF(LEFT(D195,1)=\"P\",1,IF(LEFT(D195,1)=\"B\",1,IF(LEFT(D195,1)=\"A\",1,IF(LEFT(D195,1)=\"I\",2,2)))))","v":1},"VIC","VIC",83.1,{"$f":"IF($S195<>\"\",\"\",IF(AND($E195<=J$1,$B195=\"M\"),MAX(J$2:J194)+1,\"\"))","v":171},{"$f":"IF($S195<>\"\",\"\",IF(AND($E195<=K$1,$B195=\"M\"),MAX(K$2:K194)+1,\"\"))","v":104},{"$f":"IF($S195<>\"\",\"\",IF(AND($E195<=L$1,$B195=\"M\"),MAX(L$2:L194)+1,\"\"))","v":41},{"$f":"IF($S195<>\"\",\"\",IF(AND($E195<=M$1,$B195=\"M\"),MAX(M$2:M194)+1,\"\"))","v":""},{"$f":"IF($S195<>\"\",\"\",IF(AND($E195<=N$1,$B195=\"F\"),MAX(N$2:N194)+1,\"\"))","v":""},{"$f":"IF($S195<>\"\",\"\",IF(AND($E195<=O$1,$B195=\"F\"),MAX(O$2:O194)+1,\"\"))","v":""},{"$f":"IF(AND($S195<>\"\",$S195<>\"No pot jugar individual\"),\"\",IF(AND($F195<=P$1,$B195=\"M\"),MAX(P$2:P194)+1,\"\"))","v":171},{"$f":"IF(AND($S195<>\"\",$S195<>\"No pot jugar individual\"),\"\",IF(AND($F195<=Q$1,$B195=\"M\"),MAX(Q$2:Q194)+1,\"\"))","v":41},{"$f":"IF($S195<>\"\",\"\",IF($F195<=R$1,MAX(R$2:R194)+1,\"\"))","v":""},{"$f":"IF(1=1,\"\",IF(W195<>0,\"No pot jugar\",IF(OR(AE195=\"Y\",AE195=\"Z\",G195=\"INDEPEN\",G195=\"R.ELISENDA\"),\"No pot jugar\",IF(T195-U195-V195-W195=0,IF(V195<>0,\"No pot jugar\",IF(AND(B195=\"M\",OR(G195=\"INDEPEN\",G195=\"R.ELISENDA\")),\"No pot jugar individual\",\"\")),IF(AND(B195=\"M\",OR(G195=\"INDEPEN\",G195=\"R.ELISENDA\")),\"No pot jugar individual\",\"\")))))","v":""},{"$f":"7-COUNTBLANK(X195:AD195)","v":7},1,0,0,"M","N","M","L","K","J","I","H","BC"]
[10157,"M","CAÑAS Hugo","ALE-2",2,1,"LA UNIÓ","LA UNIÓ",79.649999999999991,{"$f":"IF($S196<>\"\",\"\",IF(AND($E196<=J$1,$B196=\"M\"),MAX(J$2:J195)+1,\"\"))","v":172},{"$f":"IF($S196<>\"\",\"\",IF(AND($E196<=K$1,$B196=\"M\"),MAX(K$2:K195)+1,\"\"))","v":105},{"$f":"IF($S196<>\"\",\"\",IF(AND($E196<=L$1,$B196=\"M\"),MAX(L$2:L195)+1,\"\"))","v":42},{"$f":"IF($S196<>\"\",\"\",IF(AND($E196<=M$1,$B196=\"M\"),MAX(M$2:M195)+1,\"\"))","v":""},{"$f":"IF($S196<>\"\",\"\",IF(AND($E196<=N$1,$B196=\"F\"),MAX(N$2:N195)+1,\"\"))","v":""},{"$f":"IF($S196<>\"\",\"\",IF(AND($E196<=O$1,$B196=\"F\"),MAX(O$2:O195)+1,\"\"))","v":""},{"$f":"IF(AND($S196<>\"\",$S196<>\"No pot jugar individual\"),\"\",IF(AND($F196<=P$1,$B196=\"M\"),MAX(P$2:P195)+1,\"\"))","v":172},{"$f":"IF(AND($S196<>\"\",$S196<>\"No pot jugar individual\"),\"\",IF(AND($F196<=Q$1,$B196=\"M\"),MAX(Q$2:Q195)+1,\"\"))","v":42},{"$f":"IF($S196<>\"\",\"\",IF($F196<=R$1,MAX(R$2:R195)+1,\"\"))","v":""},"",7,0,0,0,"G","G","H","H","H","H","H","H",null,"BJ","BJ","BJ","BJ","BJ","BJ"]
[8128,"M","PINEDA Jordi","JUV-3",4,2,"PREMIA","PREMIA",76.98,{"$f":"IF($S197<>\"\",\"\",IF(AND($E197<=J$1,$B197=\"M\"),MAX(J$2:J196)+1,\"\"))","v":173},{"$f":"IF($S197<>\"\",\"\",IF(AND($E197<=K$1,$B197=\"M\"),MAX(K$2:K196)+1,\"\"))","v":""},{"$f":"IF($S197<>\"\",\"\",IF(AND($E197<=L$1,$B197=\"M\"),MAX(L$2:L196)+1,\"\"))","v":""},{"$f":"IF($S197<>\"\",\"\",IF(AND($E197<=M$1,$B197=\"M\"),MAX(M$2:M196)+1,\"\"))","v":""},{"$f":"IF($S197<>\"\",\"\",IF(AND($E197<=N$1,$B197=\"F\"),MAX(N$2:N196)+1,\"\"))","v":""},{"$f":"IF($S197<>\"\",\"\",IF(AND($E197<=O$1,$B197=\"F\"),MAX(O$2:O196)+1,\"\"))","v":""},{"$f":"IF(AND($S197<>\"\",$S197<>\"No pot jugar individual\"),\"\",IF(AND($F197<=P$1,$B197=\"M\"),MAX(P$2:P196)+1,\"\"))","v":173},{"$f":"IF(AND($S197<>\"\",$S197<>\"No pot jugar individual\"),\"\",IF(AND($F197<=Q$1,$B197=\"M\"),MAX(Q$2:Q196)+1,\"\"))","v":""},{"$f":"IF($S197<>\"\",\"\",IF($F197<=R$1,MAX(R$2:R196)+1,\"\"))","v":""},"",5,2,0,0,null,null,"F","G","H","H","H","I",null,null,null,"BC",null,null,"BC"]
[10051,"M","ROJO Mario","BEN-1",1,1,"EUROCLIMA BDN","EUROCLIMA BDN",75.70999999999998,{"$f":"IF($S198<>\"\",\"\",IF(AND($E198<=J$1,$B198=\"M\"),MAX(J$2:J197)+1,\"\"))","v":174},{"$f":"IF($S198<>\"\",\"\",IF(AND($E198<=K$1,$B198=\"M\"),MAX(K$2:K197)+1,\"\"))","v":106},{"$f":"IF($S198<>\"\",\"\",IF(AND($E198<=L$1,$B198=\"M\"),MAX(L$2:L197)+1,\"\"))","v":43},{"$f":"IF($S198<>\"\",\"\",IF(AND($E198<=M$1,$B198=\"M\"),MAX(M$2:M197)+1,\"\"))","v":7},{"$f":"IF($S198<>\"\",\"\",IF(AND($E198<=N$1,$B198=\"F\"),MAX(N$2:N197)+1,\"\"))","v":""},{"$f":"IF($S198<>\"\",\"\",IF(AND($E198<=O$1,$B198=\"F\"),MAX(O$2:O197)+1,\"\"))","v":""},{"$f":"IF(AND($S198<>\"\",$S198<>\"No pot jugar individual\"),\"\",IF(AND($F198<=P$1,$B198=\"M\"),MAX(P$2:P197)+1,\"\"))","v":174},{"$f":"IF(AND($S198<>\"\",$S198<>\"No pot jugar individual\"),\"\",IF(AND($F198<=Q$1,$B198=\"M\"),MAX(Q$2:Q197)+1,\"\"))","v":43},{"$f":"IF($S198<>\"\",\"\",IF($F198<=R$1,MAX(R$2:R197)+1,\"\"))","v":""},"",7,0,0,0,"H","H","I","I","I","I","H","I"]
[10213,"M","CREUS Oriol","INF-1",3,2,"PREMIA","PREMIA",74.399999999999991,{"$f":"IF($S199<>\"\",\"\",IF(AND($E199<=J$1,$B199=\"M\"),MAX(J$2:J198)+1,\"\"))","v":175},{"$f":"IF($S199<>\"\",\"\",IF(AND($E199<=K$1,$B199=\"M\"),MAX(K$2:K198)+1,\"\"))","v":107},{"$f":"IF($S199<>\"\",\"\",IF(AND($E199<=L$1,$B199=\"M\"),MAX(L$2:L198)+1,\"\"))","v":""},{"$f":"IF($S199<>\"\",\"\",IF(AND($E199<=M$1,$B199=\"M\"),MAX(M$2:M198)+1,\"\"))","v":""},{"$f":"IF($S199<>\"\",\"\",IF(AND($E199<=N$1,$B199=\"F\"),MAX(N$2:N198)+1,\"\"))","v":""},{"$f":"IF($S199<>\"\",\"\",IF(AND($E199<=O$1,$B199=\"F\"),MAX(O$2:O198)+1,\"\"))","v":""},{"$f":"IF(AND($S199<>\"\",$S199<>\"No pot jugar individual\"),\"\",IF(AND($F199<=P$1,$B199=\"M\"),MAX(P$2:P198)+1,\"\"))","v":175},{"$f":"IF(AND($S199<>\"\",$S199<>\"No pot jugar individual\"),\"\",IF(AND($F199<=Q$1,$B199=\"M\"),MAX(Q$2:Q198)+1,\"\"))","v":""},{"$f":"IF($S199<>\"\",\"\",IF($F199<=R$1,MAX(R$2:R198)+1,\"\"))","v":""},"",7,1,0,0,"H","H","H","H","H","H","H","I",null,null,null,null,null,null,"BC"]
[11165,"M","DINARES Jordi","JUV-1",4,2,"CNSABA","CNSABA",73.58,{"$f":"IF($S200<>\"\",\"\",IF(AND($E200<=J$1,$B200=\"M\"),MAX(J$2:J199)+1,\"\"))","v":176},{"$f":"IF($S200<>\"\",\"\",IF(AND($E200<=K$1,$B200=\"M\"),MAX(K$2:K199)+1,\"\"))","v":""},{"$f":"IF($S200<>\"\",\"\",IF(AND($E200<=L$1,$B200=\"M\"),MAX(L$2:L199)+1,\"\"))","v":""},{"$f":"IF($S200<>\"\",\"\",IF(AND($E200<=M$1,$B200=\"M\"),MAX(M$2:M199)+1,\"\"))","v":""},{"$f":"IF($S200<>\"\",\"\",IF(AND($E200<=N$1,$B200=\"F\"),MAX(N$2:N199)+1,\"\"))","v":""},{"$f":"IF($S200<>\"\",\"\",IF(AND($E200<=O$1,$B200=\"F\"),MAX(O$2:O199)+1,\"\"))","v":""},{"$f":"IF(AND($S200<>\"\",$S200<>\"No pot jugar individual\"),\"\",IF(AND($F200<=P$1,$B200=\"M\"),MAX(P$2:P199)+1,\"\"))","v":176},{"$f":"IF(AND($S200<>\"\",$S200<>\"No pot jugar individual\"),\"\",IF(AND($F200<=Q$1,$B200=\"M\"),MAX(Q$2:Q199)+1,\"\"))","v":""},{"$f":"IF($S200<>\"\",\"\",IF($F200<=R$1,MAX(R$2:R199)+1,\"\"))","v":""},"",7,0,0,0,"K","L","L","K","J","I","I","I"]
[7336,"F","AGUADO Irene","BEN-2",1,0,"OLESA","OLESA",71.78,{"$f":"IF($S201<>\"\",\"\",IF(AND($E201<=J$1,$B201=\"M\"),MAX(J$2:J200)+1,\"\"))","v":""},{"$f":"IF($S201<>\"\",\"\",IF(AND($E201<=K$1,$B201=\"M\"),MAX(K$2:K200)+1,\"\"))","v":""},{"$f":"IF($S201<>\"\",\"\",IF(AND($E201<=L$1,$B201=\"M\"),MAX(L$2:L200)+1,\"\"))","v":""},{"$f":"IF($S201<>\"\",\"\",IF(AND($E201<=M$1,$B201=\"M\"),MAX(M$2:M200)+1,\"\"))","v":""},{"$f":"IF($S201<>\"\",\"\",IF(AND($E201<=N$1,$B201=\"F\"),MAX(N$2:N200)+1,\"\"))","v":23},{"$f":"IF($S201<>\"\",\"\",IF(AND($E201<=O$1,$B201=\"F\"),MAX(O$2:O200)+1,\"\"))","v":11},{"$f":"IF(AND($S201<>\"\",$S201<>\"No pot jugar individual\"),\"\",IF(AND($F201<=P$1,$B201=\"M\"),MAX(P$2:P200)+1,\"\"))","v":""},{"$f":"IF(AND($S201<>\"\",$S201<>\"No pot jugar individual\"),\"\",IF(AND($F201<=Q$1,$B201=\"M\"),MAX(Q$2:Q200)+1,\"\"))","v":""},{"$f":"IF($S201<>\"\",\"\",IF($F201<=R$1,MAX(R$2:R200)+1,\"\"))","v":23},"",7,0,0,0,"H","H","I","I","I","I","I","I",null,"BJ","BJ",null,null,"BJ","BJ"]
[10726,"F","SOPENA Mar","INF-1",3,0,"POBLENOU","POBLENOU",71.400000000000006,{"$f":"IF($S202<>\"\",\"\",IF(AND($E202<=J$1,$B202=\"M\"),MAX(J$2:J201)+1,\"\"))","v":""},{"$f":"IF($S202<>\"\",\"\",IF(AND($E202<=K$1,$B202=\"M\"),MAX(K$2:K201)+1,\"\"))","v":""},{"$f":"IF($S202<>\"\",\"\",IF(AND($E202<=L$1,$B202=\"M\"),MAX(L$2:L201)+1,\"\"))","v":""},{"$f":"IF($S202<>\"\",\"\",IF(AND($E202<=M$1,$B202=\"M\"),MAX(M$2:M201)+1,\"\"))","v":""},{"$f":"IF($S202<>\"\",\"\",IF(AND($E202<=N$1,$B202=\"F\"),MAX(N$2:N201)+1,\"\"))","v":24},{"$f":"IF($S202<>\"\",\"\",IF(AND($E202<=O$1,$B202=\"F\"),MAX(O$2:O201)+1,\"\"))","v":""},{"$f":"IF(AND($S202<>\"\",$S202<>\"No pot jugar individual\"),\"\",IF(AND($F202<=P$1,$B202=\"M\"),MAX(P$2:P201)+1,\"\"))","v":""},{"$f":"IF(AND($S202<>\"\",$S202<>\"No pot jugar individual\"),\"\",IF(AND($F202<=Q$1,$B202=\"M\"),MAX(Q$2:Q201)+1,\"\"))","v":""},{"$f":"IF($S202<>\"\",\"\",IF($F202<=R$1,MAX(R$2:R201)+1,\"\"))","v":24},"",7,0,0,0,"I","J","J","I","I","I","I","I"]
[5929,"F","GARCIA Mar Africa","ALE-1",2,0,"AMICS","AMICS",67.72,{"$f":"IF($S203<>\"\",\"\",IF(AND($E203<=J$1,$B203=\"M\"),MAX(J$2:J202)+1,\"\"))","v":""},{"$f":"IF($S203<>\"\",\"\",IF(AND($E203<=K$1,$B203=\"M\"),MAX(K$2:K202)+1,\"\"))","v":""},{"$f":"IF($S203<>\"\",\"\",IF(AND($E203<=L$1,$B203=\"M\"),MAX(L$2:L202)+1,\"\"))","v":""},{"$f":"IF($S203<>\"\",\"\",IF(AND($E203<=M$1,$B203=\"M\"),MAX(M$2:M202)+1,\"\"))","v":""},{"$f":"IF($S203<>\"\",\"\",IF(AND($E203<=N$1,$B203=\"F\"),MAX(N$2:N202)+1,\"\"))","v":25},{"$f":"IF($S203<>\"\",\"\",IF(AND($E203<=O$1,$B203=\"F\"),MAX(O$2:O202)+1,\"\"))","v":12},{"$f":"IF(AND($S203<>\"\",$S203<>\"No pot jugar individual\"),\"\",IF(AND($F203<=P$1,$B203=\"M\"),MAX(P$2:P202)+1,\"\"))","v":""},{"$f":"IF(AND($S203<>\"\",$S203<>\"No pot jugar individual\"),\"\",IF(AND($F203<=Q$1,$B203=\"M\"),MAX(Q$2:Q202)+1,\"\"))","v":""},{"$f":"IF($S203<>\"\",\"\",IF($F203<=R$1,MAX(R$2:R202)+1,\"\"))","v":25},"",7,{"$f":"COUNTIF($AF203:$AL203,U$2)","v":0},0,0,"I","I","I","I","J","I","I","I",null,null,"BJ"]
[11029,"M","LÓPEZ Pau","INF-2",3,2,"EUROCLIMA BDN","EUROCLIMA BDN",67.03,{"$f":"IF($S204<>\"\",\"\",IF(AND($E204<=J$1,$B204=\"M\"),MAX(J$2:J203)+1,\"\"))","v":177},{"$f":"IF($S204<>\"\",\"\",IF(AND($E204<=K$1,$B204=\"M\"),MAX(K$2:K203)+1,\"\"))","v":108},{"$f":"IF($S204<>\"\",\"\",IF(AND($E204<=L$1,$B204=\"M\"),MAX(L$2:L203)+1,\"\"))","v":""},{"$f":"IF($S204<>\"\",\"\",IF(AND($E204<=M$1,$B204=\"M\"),MAX(M$2:M203)+1,\"\"))","v":""},{"$f":"IF($S204<>\"\",\"\",IF(AND($E204<=N$1,$B204=\"F\"),MAX(N$2:N203)+1,\"\"))","v":""},{"$f":"IF($S204<>\"\",\"\",IF(AND($E204<=O$1,$B204=\"F\"),MAX(O$2:O203)+1,\"\"))","v":""},{"$f":"IF(AND($S204<>\"\",$S204<>\"No pot jugar individual\"),\"\",IF(AND($F204<=P$1,$B204=\"M\"),MAX(P$2:P203)+1,\"\"))","v":177},{"$f":"IF(AND($S204<>\"\",$S204<>\"No pot jugar individual\"),\"\",IF(AND($F204<=Q$1,$B204=\"M\"),MAX(Q$2:Q203)+1,\"\"))","v":""},{"$f":"IF($S204<>\"\",\"\",IF($F204<=R$1,MAX(R$2:R203)+1,\"\"))","v":""},"",7,0,0,0,"L","L","K","K","J","J","I","H"]
[10116,"F","MAZCUÑAN Mar","JUV-1",4,0,"SALLENT","SALLENT",64.2,{"$f":"IF($S205<>\"\",\"\",IF(AND($E205<=J$1,$B205=\"M\"),MAX(J$2:J204)+1,\"\"))","v":""},{"$f":"IF($S205<>\"\",\"\",IF(AND($E205<=K$1,$B205=\"M\"),MAX(K$2:K204)+1,\"\"))","v":""},{"$f":"IF($S205<>\"\",\"\",IF(AND($E205<=L$1,$B205=\"M\"),MAX(L$2:L204)+1,\"\"))","v":""},{"$f":"IF($S205<>\"\",\"\",IF(AND($E205<=M$1,$B205=\"M\"),MAX(M$2:M204)+1,\"\"))","v":""},{"$f":"IF($S205<>\"\",\"\",IF(AND($E205<=N$1,$B205=\"F\"),MAX(N$2:N204)+1,\"\"))","v":26},{"$f":"IF($S205<>\"\",\"\",IF(AND($E205<=O$1,$B205=\"F\"),MAX(O$2:O204)+1,\"\"))","v":""},{"$f":"IF(AND($S205<>\"\",$S205<>\"No pot jugar individual\"),\"\",IF(AND($F205<=P$1,$B205=\"M\"),MAX(P$2:P204)+1,\"\"))","v":""},{"$f":"IF(AND($S205<>\"\",$S205<>\"No pot jugar individual\"),\"\",IF(AND($F205<=Q$1,$B205=\"M\"),MAX(Q$2:Q204)+1,\"\"))","v":""},{"$f":"IF($S205<>\"\",\"\",IF($F205<=R$1,MAX(R$2:R204)+1,\"\"))","v":26},"",7,1,0,0,"I","I","H","H","H","I","I","I",null,null,null,null,null,null,"BC"]
[10274,"M","SALINAS Rodrigo","INF-2",3,2,"CARDEDEU","CARDEDEU",63.529999999999994,{"$f":"IF($S206<>\"\",\"\",IF(AND($E206<=J$1,$B206=\"M\"),MAX(J$2:J205)+1,\"\"))","v":178},{"$f":"IF($S206<>\"\",\"\",IF(AND($E206<=K$1,$B206=\"M\"),MAX(K$2:K205)+1,\"\"))","v":109},{"$f":"IF($S206<>\"\",\"\",IF(AND($E206<=L$1,$B206=\"M\"),MAX(L$2:L205)+1,\"\"))","v":""},{"$f":"IF($S206<>\"\",\"\",IF(AND($E206<=M$1,$B206=\"M\"),MAX(M$2:M205)+1,\"\"))","v":""},{"$f":"IF($S206<>\"\",\"\",IF(AND($E206<=N$1,$B206=\"F\"),MAX(N$2:N205)+1,\"\"))","v":""},{"$f":"IF($S206<>\"\",\"\",IF(AND($E206<=O$1,$B206=\"F\"),MAX(O$2:O205)+1,\"\"))","v":""},{"$f":"IF(AND($S206<>\"\",$S206<>\"No pot jugar individual\"),\"\",IF(AND($F206<=P$1,$B206=\"M\"),MAX(P$2:P205)+1,\"\"))","v":178},{"$f":"IF(AND($S206<>\"\",$S206<>\"No pot jugar individual\"),\"\",IF(AND($F206<=Q$1,$B206=\"M\"),MAX(Q$2:Q205)+1,\"\"))","v":""},{"$f":"IF($S206<>\"\",\"\",IF($F206<=R$1,MAX(R$2:R205)+1,\"\"))","v":""},"",7,2,0,0,"H","H","H","I","I","I","I","I",null,null,"BC",null,null,null,"BC"]
[10753,"M","CENDRA Marc","INF-2",3,2,"VILANOVA","VILANOVA",62.45,{"$f":"IF($S207<>\"\",\"\",IF(AND($E207<=J$1,$B207=\"M\"),MAX(J$2:J206)+1,\"\"))","v":179},{"$f":"IF($S207<>\"\",\"\",IF(AND($E207<=K$1,$B207=\"M\"),MAX(K$2:K206)+1,\"\"))","v":110},{"$f":"IF($S207<>\"\",\"\",IF(AND($E207<=L$1,$B207=\"M\"),MAX(L$2:L206)+1,\"\"))","v":""},{"$f":"IF($S207<>\"\",\"\",IF(AND($E207<=M$1,$B207=\"M\"),MAX(M$2:M206)+1,\"\"))","v":""},{"$f":"IF($S207<>\"\",\"\",IF(AND($E207<=N$1,$B207=\"F\"),MAX(N$2:N206)+1,\"\"))","v":""},{"$f":"IF($S207<>\"\",\"\",IF(AND($E207<=O$1,$B207=\"F\"),MAX(O$2:O206)+1,\"\"))","v":""},{"$f":"IF(AND($S207<>\"\",$S207<>\"No pot jugar individual\"),\"\",IF(AND($F207<=P$1,$B207=\"M\"),MAX(P$2:P206)+1,\"\"))","v":179},{"$f":"IF(AND($S207<>\"\",$S207<>\"No pot jugar individual\"),\"\",IF(AND($F207<=Q$1,$B207=\"M\"),MAX(Q$2:Q206)+1,\"\"))","v":""},{"$f":"IF($S207<>\"\",\"\",IF($F207<=R$1,MAX(R$2:R206)+1,\"\"))","v":""},"",7,1,0,0,"J","J","I","I","I","I","I","I",null,null,null,null,"BC"]
[7676,"M","VAZQUEZ Alejandro","ALE-2",2,1,"AMICS","AMICS",62.23,{"$f":"IF($S208<>\"\",\"\",IF(AND($E208<=J$1,$B208=\"M\"),MAX(J$2:J207)+1,\"\"))","v":180},{"$f":"IF($S208<>\"\",\"\",IF(AND($E208<=K$1,$B208=\"M\"),MAX(K$2:K207)+1,\"\"))","v":111},{"$f":"IF($S208<>\"\",\"\",IF(AND($E208<=L$1,$B208=\"M\"),MAX(L$2:L207)+1,\"\"))","v":44},{"$f":"IF($S208<>\"\",\"\",IF(AND($E208<=M$1,$B208=\"M\"),MAX(M$2:M207)+1,\"\"))","v":""},{"$f":"IF($S208<>\"\",\"\",IF(AND($E208<=N$1,$B208=\"F\"),MAX(N$2:N207)+1,\"\"))","v":""},{"$f":"IF($S208<>\"\",\"\",IF(AND($E208<=O$1,$B208=\"F\"),MAX(O$2:O207)+1,\"\"))","v":""},{"$f":"IF(AND($S208<>\"\",$S208<>\"No pot jugar individual\"),\"\",IF(AND($F208<=P$1,$B208=\"M\"),MAX(P$2:P207)+1,\"\"))","v":180},{"$f":"IF(AND($S208<>\"\",$S208<>\"No pot jugar individual\"),\"\",IF(AND($F208<=Q$1,$B208=\"M\"),MAX(Q$2:Q207)+1,\"\"))","v":44},{"$f":"IF($S208<>\"\",\"\",IF($F208<=R$1,MAX(R$2:R207)+1,\"\"))","v":""},"",7,2,0,0,"J","J","I","I","I","J","I","I",null,null,null,"BC","BC"]
[11134,"M","GUTIERREZ Miquel","INF-2",3,2,"R.ELISENDA","R.ELISENDA",60.4,{"$f":"IF($S209<>\"\",\"\",IF(AND($E209<=J$1,$B209=\"M\"),MAX(J$2:J208)+1,\"\"))","v":181},{"$f":"IF($S209<>\"\",\"\",IF(AND($E209<=K$1,$B209=\"M\"),MAX(K$2:K208)+1,\"\"))","v":112},{"$f":"IF($S209<>\"\",\"\",IF(AND($E209<=L$1,$B209=\"M\"),MAX(L$2:L208)+1,\"\"))","v":""},{"$f":"IF($S209<>\"\",\"\",IF(AND($E209<=M$1,$B209=\"M\"),MAX(M$2:M208)+1,\"\"))","v":""},{"$f":"IF($S209<>\"\",\"\",IF(AND($E209<=N$1,$B209=\"F\"),MAX(N$2:N208)+1,\"\"))","v":""},{"$f":"IF($S209<>\"\",\"\",IF(AND($E209<=O$1,$B209=\"F\"),MAX(O$2:O208)+1,\"\"))","v":""},{"$f":"IF(AND($S209<>\"\",$S209<>\"No pot jugar individual\"),\"\",IF(AND($F209<=P$1,$B209=\"M\"),MAX(P$2:P208)+1,\"\"))","v":181},{"$f":"IF(AND($S209<>\"\",$S209<>\"No pot jugar individual\"),\"\",IF(AND($F209<=Q$1,$B209=\"M\"),MAX(Q$2:Q208)+1,\"\"))","v":""},{"$f":"IF($S209<>\"\",\"\",IF($F209<=R$1,MAX(R$2:R208)+1,\"\"))","v":""},"",7,0,0,0,"L","L","K","K","J","I","I","I",null,null,null,null,null,"BJ"]
[10755,"M","GARCIA Didac","INF-1",3,2,"VILANOVA","VILANOVA",58.84,{"$f":"IF($S210<>\"\",\"\",IF(AND($E210<=J$1,$B210=\"M\"),MAX(J$2:J209)+1,\"\"))","v":182},{"$f":"IF($S210<>\"\",\"\",IF(AND($E210<=K$1,$B210=\"M\"),MAX(K$2:K209)+1,\"\"))","v":113},{"$f":"IF($S210<>\"\",\"\",IF(AND($E210<=L$1,$B210=\"M\"),MAX(L$2:L209)+1,\"\"))","v":""},{"$f":"IF($S210<>\"\",\"\",IF(AND($E210<=M$1,$B210=\"M\"),MAX(M$2:M209)+1,\"\"))","v":""},{"$f":"IF($S210<>\"\",\"\",IF(AND($E210<=N$1,$B210=\"F\"),MAX(N$2:N209)+1,\"\"))","v":""},{"$f":"IF($S210<>\"\",\"\",IF(AND($E210<=O$1,$B210=\"F\"),MAX(O$2:O209)+1,\"\"))","v":""},{"$f":"IF(AND($S210<>\"\",$S210<>\"No pot jugar individual\"),\"\",IF(AND($F210<=P$1,$B210=\"M\"),MAX(P$2:P209)+1,\"\"))","v":182},{"$f":"IF(AND($S210<>\"\",$S210<>\"No pot jugar individual\"),\"\",IF(AND($F210<=Q$1,$B210=\"M\"),MAX(Q$2:Q209)+1,\"\"))","v":""},{"$f":"IF($S210<>\"\",\"\",IF($F210<=R$1,MAX(R$2:R209)+1,\"\"))","v":""},"",7,0,0,0,"J","J","J","J","J","I","I","I"]
[10049,"M","MAROTO Adrià","BEN-2",1,1,"EUROCLIMA BDN","EUROCLIMA BDN",57.400000000000006,{"$f":"IF($S211<>\"\",\"\",IF(AND($E211<=J$1,$B211=\"M\"),MAX(J$2:J210)+1,\"\"))","v":183},{"$f":"IF($S211<>\"\",\"\",IF(AND($E211<=K$1,$B211=\"M\"),MAX(K$2:K210)+1,\"\"))","v":114},{"$f":"IF($S211<>\"\",\"\",IF(AND($E211<=L$1,$B211=\"M\"),MAX(L$2:L210)+1,\"\"))","v":45},{"$f":"IF($S211<>\"\",\"\",IF(AND($E211<=M$1,$B211=\"M\"),MAX(M$2:M210)+1,\"\"))","v":8},{"$f":"IF($S211<>\"\",\"\",IF(AND($E211<=N$1,$B211=\"F\"),MAX(N$2:N210)+1,\"\"))","v":""},{"$f":"IF($S211<>\"\",\"\",IF(AND($E211<=O$1,$B211=\"F\"),MAX(O$2:O210)+1,\"\"))","v":""},{"$f":"IF(AND($S211<>\"\",$S211<>\"No pot jugar individual\"),\"\",IF(AND($F211<=P$1,$B211=\"M\"),MAX(P$2:P210)+1,\"\"))","v":183},{"$f":"IF(AND($S211<>\"\",$S211<>\"No pot jugar individual\"),\"\",IF(AND($F211<=Q$1,$B211=\"M\"),MAX(Q$2:Q210)+1,\"\"))","v":45},{"$f":"IF($S211<>\"\",\"\",IF($F211<=R$1,MAX(R$2:R210)+1,\"\"))","v":""},"",7,0,1,0,"H","I","I","H","I","I","I","J",null,null,null,"BJ","BJ","BJ","BN"]
[6547,"F","SACASAS Laia","ALE-1",2,0,"HOSPIT","HOSPIT",55.069999999999993,{"$f":"IF($S212<>\"\",\"\",IF(AND($E212<=J$1,$B212=\"M\"),MAX(J$2:J211)+1,\"\"))","v":""},{"$f":"IF($S212<>\"\",\"\",IF(AND($E212<=K$1,$B212=\"M\"),MAX(K$2:K211)+1,\"\"))","v":""},{"$f":"IF($S212<>\"\",\"\",IF(AND($E212<=L$1,$B212=\"M\"),MAX(L$2:L211)+1,\"\"))","v":""},{"$f":"IF($S212<>\"\",\"\",IF(AND($E212<=M$1,$B212=\"M\"),MAX(M$2:M211)+1,\"\"))","v":""},{"$f":"IF($S212<>\"\",\"\",IF(AND($E212<=N$1,$B212=\"F\"),MAX(N$2:N211)+1,\"\"))","v":27},{"$f":"IF($S212<>\"\",\"\",IF(AND($E212<=O$1,$B212=\"F\"),MAX(O$2:O211)+1,\"\"))","v":13},{"$f":"IF(AND($S212<>\"\",$S212<>\"No pot jugar individual\"),\"\",IF(AND($F212<=P$1,$B212=\"M\"),MAX(P$2:P211)+1,\"\"))","v":""},{"$f":"IF(AND($S212<>\"\",$S212<>\"No pot jugar individual\"),\"\",IF(AND($F212<=Q$1,$B212=\"M\"),MAX(Q$2:Q211)+1,\"\"))","v":""},{"$f":"IF($S212<>\"\",\"\",IF($F212<=R$1,MAX(R$2:R211)+1,\"\"))","v":27},"",7,0,0,0,"I","I","I","I","I","I","I","I"]
[10044,"M","LOPEZ Claudi","BEN-1",1,1,"INDEPEN","INDEPEN",53.73,{"$f":"IF($S213<>\"\",\"\",IF(AND($E213<=J$1,$B213=\"M\"),MAX(J$2:J212)+1,\"\"))","v":184},{"$f":"IF($S213<>\"\",\"\",IF(AND($E213<=K$1,$B213=\"M\"),MAX(K$2:K212)+1,\"\"))","v":115},{"$f":"IF($S213<>\"\",\"\",IF(AND($E213<=L$1,$B213=\"M\"),MAX(L$2:L212)+1,\"\"))","v":46},{"$f":"IF($S213<>\"\",\"\",IF(AND($E213<=M$1,$B213=\"M\"),MAX(M$2:M212)+1,\"\"))","v":9},{"$f":"IF($S213<>\"\",\"\",IF(AND($E213<=N$1,$B213=\"F\"),MAX(N$2:N212)+1,\"\"))","v":""},{"$f":"IF($S213<>\"\",\"\",IF(AND($E213<=O$1,$B213=\"F\"),MAX(O$2:O212)+1,\"\"))","v":""},{"$f":"IF(AND($S213<>\"\",$S213<>\"No pot jugar individual\"),\"\",IF(AND($F213<=P$1,$B213=\"M\"),MAX(P$2:P212)+1,\"\"))","v":184},{"$f":"IF(AND($S213<>\"\",$S213<>\"No pot jugar individual\"),\"\",IF(AND($F213<=Q$1,$B213=\"M\"),MAX(Q$2:Q212)+1,\"\"))","v":46},{"$f":"IF($S213<>\"\",\"\",IF($F213<=R$1,MAX(R$2:R212)+1,\"\"))","v":""},"",7,0,0,0,"O","N","M","L","K","J","I","I"]
[8153,"M","CALVETE Nil","INF-1",3,2,"R.ELISENDA","R.ELISENDA",50,{"$f":"IF($S214<>\"\",\"\",IF(AND($E214<=J$1,$B214=\"M\"),MAX(J$2:J213)+1,\"\"))","v":185},{"$f":"IF($S214<>\"\",\"\",IF(AND($E214<=K$1,$B214=\"M\"),MAX(K$2:K213)+1,\"\"))","v":116},{"$f":"IF($S214<>\"\",\"\",IF(AND($E214<=L$1,$B214=\"M\"),MAX(L$2:L213)+1,\"\"))","v":""},{"$f":"IF($S214<>\"\",\"\",IF(AND($E214<=M$1,$B214=\"M\"),MAX(M$2:M213)+1,\"\"))","v":""},{"$f":"IF($S214<>\"\",\"\",IF(AND($E214<=N$1,$B214=\"F\"),MAX(N$2:N213)+1,\"\"))","v":""},{"$f":"IF($S214<>\"\",\"\",IF(AND($E214<=O$1,$B214=\"F\"),MAX(O$2:O213)+1,\"\"))","v":""},{"$f":"IF(AND($S214<>\"\",$S214<>\"No pot jugar individual\"),\"\",IF(AND($F214<=P$1,$B214=\"M\"),MAX(P$2:P213)+1,\"\"))","v":185},{"$f":"IF(AND($S214<>\"\",$S214<>\"No pot jugar individual\"),\"\",IF(AND($F214<=Q$1,$B214=\"M\"),MAX(Q$2:Q213)+1,\"\"))","v":""},{"$f":"IF($S214<>\"\",\"\",IF($F214<=R$1,MAX(R$2:R213)+1,\"\"))","v":""},"",7,1,0,0,"I","I","J","J","J","J","K","J",null,"BC"]
[8162,"M","MUNTANE Albert","JUV-2",4,2,"R.ELISENDA","R.ELISENDA",49.169999999999995,{"$f":"IF($S215<>\"\",\"\",IF(AND($E215<=J$1,$B215=\"M\"),MAX(J$2:J214)+1,\"\"))","v":186},{"$f":"IF($S215<>\"\",\"\",IF(AND($E215<=K$1,$B215=\"M\"),MAX(K$2:K214)+1,\"\"))","v":""},{"$f":"IF($S215<>\"\",\"\",IF(AND($E215<=L$1,$B215=\"M\"),MAX(L$2:L214)+1,\"\"))","v":""},{"$f":"IF($S215<>\"\",\"\",IF(AND($E215<=M$1,$B215=\"M\"),MAX(M$2:M214)+1,\"\"))","v":""},{"$f":"IF($S215<>\"\",\"\",IF(AND($E215<=N$1,$B215=\"F\"),MAX(N$2:N214)+1,\"\"))","v":""},{"$f":"IF($S215<>\"\",\"\",IF(AND($E215<=O$1,$B215=\"F\"),MAX(O$2:O214)+1,\"\"))","v":""},{"$f":"IF(AND($S215<>\"\",$S215<>\"No pot jugar individual\"),\"\",IF(AND($F215<=P$1,$B215=\"M\"),MAX(P$2:P214)+1,\"\"))","v":186},{"$f":"IF(AND($S215<>\"\",$S215<>\"No pot jugar individual\"),\"\",IF(AND($F215<=Q$1,$B215=\"M\"),MAX(Q$2:Q214)+1,\"\"))","v":""},{"$f":"IF($S215<>\"\",\"\",IF($F215<=R$1,MAX(R$2:R214)+1,\"\"))","v":""},"",7,1,0,0,"I","I","J","I","I","J","I","I",null,null,null,null,"BC"]
[10133,"M","GAMEZ Hugo","JUV-3",4,2,"FALCONS","FALCONS",47.23,{"$f":"IF($S216<>\"\",\"\",IF(AND($E216<=J$1,$B216=\"M\"),MAX(J$2:J215)+1,\"\"))","v":187},{"$f":"IF($S216<>\"\",\"\",IF(AND($E216<=K$1,$B216=\"M\"),MAX(K$2:K215)+1,\"\"))","v":""},{"$f":"IF($S216<>\"\",\"\",IF(AND($E216<=L$1,$B216=\"M\"),MAX(L$2:L215)+1,\"\"))","v":""},{"$f":"IF($S216<>\"\",\"\",IF(AND($E216<=M$1,$B216=\"M\"),MAX(M$2:M215)+1,\"\"))","v":""},{"$f":"IF($S216<>\"\",\"\",IF(AND($E216<=N$1,$B216=\"F\"),MAX(N$2:N215)+1,\"\"))","v":""},{"$f":"IF($S216<>\"\",\"\",IF(AND($E216<=O$1,$B216=\"F\"),MAX(O$2:O215)+1,\"\"))","v":""},{"$f":"IF(AND($S216<>\"\",$S216<>\"No pot jugar individual\"),\"\",IF(AND($F216<=P$1,$B216=\"M\"),MAX(P$2:P215)+1,\"\"))","v":187},{"$f":"IF(AND($S216<>\"\",$S216<>\"No pot jugar individual\"),\"\",IF(AND($F216<=Q$1,$B216=\"M\"),MAX(Q$2:Q215)+1,\"\"))","v":""},{"$f":"IF($S216<>\"\",\"\",IF($F216<=R$1,MAX(R$2:R215)+1,\"\"))","v":""},"",7,0,0,0,"K","K","K","J","J","J","J","J"]
[10237,"M","CASILLAS David","JUV-1",4,2,"PREMIA","PREMIA",46.2,{"$f":"IF($S217<>\"\",\"\",IF(AND($E217<=J$1,$B217=\"M\"),MAX(J$2:J216)+1,\"\"))","v":188},{"$f":"IF($S217<>\"\",\"\",IF(AND($E217<=K$1,$B217=\"M\"),MAX(K$2:K216)+1,\"\"))","v":""},{"$f":"IF($S217<>\"\",\"\",IF(AND($E217<=L$1,$B217=\"M\"),MAX(L$2:L216)+1,\"\"))","v":""},{"$f":"IF($S217<>\"\",\"\",IF(AND($E217<=M$1,$B217=\"M\"),MAX(M$2:M216)+1,\"\"))","v":""},{"$f":"IF($S217<>\"\",\"\",IF(AND($E217<=N$1,$B217=\"F\"),MAX(N$2:N216)+1,\"\"))","v":""},{"$f":"IF($S217<>\"\",\"\",IF(AND($E217<=O$1,$B217=\"F\"),MAX(O$2:O216)+1,\"\"))","v":""},{"$f":"IF(AND($S217<>\"\",$S217<>\"No pot jugar individual\"),\"\",IF(AND($F217<=P$1,$B217=\"M\"),MAX(P$2:P216)+1,\"\"))","v":188},{"$f":"IF(AND($S217<>\"\",$S217<>\"No pot jugar individual\"),\"\",IF(AND($F217<=Q$1,$B217=\"M\"),MAX(Q$2:Q216)+1,\"\"))","v":""},{"$f":"IF($S217<>\"\",\"\",IF($F217<=R$1,MAX(R$2:R216)+1,\"\"))","v":""},"",7,0,0,0,"H","H","I","J","J","J","J","J"]
[8664,"F","MACIA Maria","INF-1",3,0,"FALCONS","FALCONS",45.05,{"$f":"IF($S218<>\"\",\"\",IF(AND($E218<=J$1,$B218=\"M\"),MAX(J$2:J217)+1,\"\"))","v":""},{"$f":"IF($S218<>\"\",\"\",IF(AND($E218<=K$1,$B218=\"M\"),MAX(K$2:K217)+1,\"\"))","v":""},{"$f":"IF($S218<>\"\",\"\",IF(AND($E218<=L$1,$B218=\"M\"),MAX(L$2:L217)+1,\"\"))","v":""},{"$f":"IF($S218<>\"\",\"\",IF(AND($E218<=M$1,$B218=\"M\"),MAX(M$2:M217)+1,\"\"))","v":""},{"$f":"IF($S218<>\"\",\"\",IF(AND($E218<=N$1,$B218=\"F\"),MAX(N$2:N217)+1,\"\"))","v":28},{"$f":"IF($S218<>\"\",\"\",IF(AND($E218<=O$1,$B218=\"F\"),MAX(O$2:O217)+1,\"\"))","v":""},{"$f":"IF(AND($S218<>\"\",$S218<>\"No pot jugar individual\"),\"\",IF(AND($F218<=P$1,$B218=\"M\"),MAX(P$2:P217)+1,\"\"))","v":""},{"$f":"IF(AND($S218<>\"\",$S218<>\"No pot jugar individual\"),\"\",IF(AND($F218<=Q$1,$B218=\"M\"),MAX(Q$2:Q217)+1,\"\"))","v":""},{"$f":"IF($S218<>\"\",\"\",IF($F218<=R$1,MAX(R$2:R217)+1,\"\"))","v":28},"",7,1,0,0,"M","L","K","J","J","I","I","J",null,null,null,null,null,null,"BC"]
[6317,"F","TANG Chenxin","ALE-2",2,0,"INDEPEN","INDEPEN",44.85,{"$f":"IF($S219<>\"\",\"\",IF(AND($E219<=J$1,$B219=\"M\"),MAX(J$2:J218)+1,\"\"))","v":""},{"$f":"IF($S219<>\"\",\"\",IF(AND($E219<=K$1,$B219=\"M\"),MAX(K$2:K218)+1,\"\"))","v":""},{"$f":"IF($S219<>\"\",\"\",IF(AND($E219<=L$1,$B219=\"M\"),MAX(L$2:L218)+1,\"\"))","v":""},{"$f":"IF($S219<>\"\",\"\",IF(AND($E219<=M$1,$B219=\"M\"),MAX(M$2:M218)+1,\"\"))","v":""},{"$f":"IF($S219<>\"\",\"\",IF(AND($E219<=N$1,$B219=\"F\"),MAX(N$2:N218)+1,\"\"))","v":29},{"$f":"IF($S219<>\"\",\"\",IF(AND($E219<=O$1,$B219=\"F\"),MAX(O$2:O218)+1,\"\"))","v":14},{"$f":"IF(AND($S219<>\"\",$S219<>\"No pot jugar individual\"),\"\",IF(AND($F219<=P$1,$B219=\"M\"),MAX(P$2:P218)+1,\"\"))","v":""},{"$f":"IF(AND($S219<>\"\",$S219<>\"No pot jugar individual\"),\"\",IF(AND($F219<=Q$1,$B219=\"M\"),MAX(Q$2:Q218)+1,\"\"))","v":""},{"$f":"IF($S219<>\"\",\"\",IF($F219<=R$1,MAX(R$2:R218)+1,\"\"))","v":29},"",5,0,0,0,null,null,"N","M","L","K","J","I"]
[11365,"M","ESCODA Jofre","ALE-1",2,1,"LLUÏSOS","LLUÏSOS",44.47,{"$f":"IF($S220<>\"\",\"\",IF(AND($E220<=J$1,$B220=\"M\"),MAX(J$2:J219)+1,\"\"))","v":189},{"$f":"IF($S220<>\"\",\"\",IF(AND($E220<=K$1,$B220=\"M\"),MAX(K$2:K219)+1,\"\"))","v":117},{"$f":"IF($S220<>\"\",\"\",IF(AND($E220<=L$1,$B220=\"M\"),MAX(L$2:L219)+1,\"\"))","v":47},{"$f":"IF($S220<>\"\",\"\",IF(AND($E220<=M$1,$B220=\"M\"),MAX(M$2:M219)+1,\"\"))","v":""},{"$f":"IF($S220<>\"\",\"\",IF(AND($E220<=N$1,$B220=\"F\"),MAX(N$2:N219)+1,\"\"))","v":""},{"$f":"IF($S220<>\"\",\"\",IF(AND($E220<=O$1,$B220=\"F\"),MAX(O$2:O219)+1,\"\"))","v":""},{"$f":"IF(AND($S220<>\"\",$S220<>\"No pot jugar individual\"),\"\",IF(AND($F220<=P$1,$B220=\"M\"),MAX(P$2:P219)+1,\"\"))","v":189},{"$f":"IF(AND($S220<>\"\",$S220<>\"No pot jugar individual\"),\"\",IF(AND($F220<=Q$1,$B220=\"M\"),MAX(Q$2:Q219)+1,\"\"))","v":47},{"$f":"IF($S220<>\"\",\"\",IF($F220<=R$1,MAX(R$2:R219)+1,\"\"))","v":""},"",7,0,0,0,"N","M","L","L","K","J","I","I"]
[10232,"M","TORRES Arnau","INF-1",3,2,"FALCONS","FALCONS",43.400000000000006,{"$f":"IF($S221<>\"\",\"\",IF(AND($E221<=J$1,$B221=\"M\"),MAX(J$2:J220)+1,\"\"))","v":190},{"$f":"IF($S221<>\"\",\"\",IF(AND($E221<=K$1,$B221=\"M\"),MAX(K$2:K220)+1,\"\"))","v":118},{"$f":"IF($S221<>\"\",\"\",IF(AND($E221<=L$1,$B221=\"M\"),MAX(L$2:L220)+1,\"\"))","v":""},{"$f":"IF($S221<>\"\",\"\",IF(AND($E221<=M$1,$B221=\"M\"),MAX(M$2:M220)+1,\"\"))","v":""},{"$f":"IF($S221<>\"\",\"\",IF(AND($E221<=N$1,$B221=\"F\"),MAX(N$2:N220)+1,\"\"))","v":""},{"$f":"IF($S221<>\"\",\"\",IF(AND($E221<=O$1,$B221=\"F\"),MAX(O$2:O220)+1,\"\"))","v":""},{"$f":"IF(AND($S221<>\"\",$S221<>\"No pot jugar individual\"),\"\",IF(AND($F221<=P$1,$B221=\"M\"),MAX(P$2:P220)+1,\"\"))","v":190},{"$f":"IF(AND($S221<>\"\",$S221<>\"No pot jugar individual\"),\"\",IF(AND($F221<=Q$1,$B221=\"M\"),MAX(Q$2:Q220)+1,\"\"))","v":""},{"$f":"IF($S221<>\"\",\"\",IF($F221<=R$1,MAX(R$2:R220)+1,\"\"))","v":""},"",7,2,0,0,"F","G","G","H","I","J","K","K",null,null,null,null,"BC","BC"]
[10628,"M","HERRERA Daniel","INF-2",3,2,"EUROCLIMA BDN","EUROCLIMA BDN",43.3,{"$f":"IF($S222<>\"\",\"\",IF(AND($E222<=J$1,$B222=\"M\"),MAX(J$2:J221)+1,\"\"))","v":191},{"$f":"IF($S222<>\"\",\"\",IF(AND($E222<=K$1,$B222=\"M\"),MAX(K$2:K221)+1,\"\"))","v":119},{"$f":"IF($S222<>\"\",\"\",IF(AND($E222<=L$1,$B222=\"M\"),MAX(L$2:L221)+1,\"\"))","v":""},{"$f":"IF($S222<>\"\",\"\",IF(AND($E222<=M$1,$B222=\"M\"),MAX(M$2:M221)+1,\"\"))","v":""},{"$f":"IF($S222<>\"\",\"\",IF(AND($E222<=N$1,$B222=\"F\"),MAX(N$2:N221)+1,\"\"))","v":""},{"$f":"IF($S222<>\"\",\"\",IF(AND($E222<=O$1,$B222=\"F\"),MAX(O$2:O221)+1,\"\"))","v":""},{"$f":"IF(AND($S222<>\"\",$S222<>\"No pot jugar individual\"),\"\",IF(AND($F222<=P$1,$B222=\"M\"),MAX(P$2:P221)+1,\"\"))","v":191},{"$f":"IF(AND($S222<>\"\",$S222<>\"No pot jugar individual\"),\"\",IF(AND($F222<=Q$1,$B222=\"M\"),MAX(Q$2:Q221)+1,\"\"))","v":""},{"$f":"IF($S222<>\"\",\"\",IF($F222<=R$1,MAX(R$2:R221)+1,\"\"))","v":""},"",7,0,0,0,"I","J","K","K","J","J","J","J",null,null,"BJ"]
[10575,"M","TILLÓ Eric","INF-1",3,2,"LLUÏSOS","LLUÏSOS",43.190000000000005,{"$f":"IF($S223<>\"\",\"\",IF(AND($E223<=J$1,$B223=\"M\"),MAX(J$2:J222)+1,\"\"))","v":192},{"$f":"IF($S223<>\"\",\"\",IF(AND($E223<=K$1,$B223=\"M\"),MAX(K$2:K222)+1,\"\"))","v":120},{"$f":"IF($S223<>\"\",\"\",IF(AND($E223<=L$1,$B223=\"M\"),MAX(L$2:L222)+1,\"\"))","v":""},{"$f":"IF($S223<>\"\",\"\",IF(AND($E223<=M$1,$B223=\"M\"),MAX(M$2:M222)+1,\"\"))","v":""},{"$f":"IF($S223<>\"\",\"\",IF(AND($E223<=N$1,$B223=\"F\"),MAX(N$2:N222)+1,\"\"))","v":""},{"$f":"IF($S223<>\"\",\"\",IF(AND($E223<=O$1,$B223=\"F\"),MAX(O$2:O222)+1,\"\"))","v":""},{"$f":"IF(AND($S223<>\"\",$S223<>\"No pot jugar individual\"),\"\",IF(AND($F223<=P$1,$B223=\"M\"),MAX(P$2:P222)+1,\"\"))","v":192},{"$f":"IF(AND($S223<>\"\",$S223<>\"No pot jugar individual\"),\"\",IF(AND($F223<=Q$1,$B223=\"M\"),MAX(Q$2:Q222)+1,\"\"))","v":""},{"$f":"IF($S223<>\"\",\"\",IF($F223<=R$1,MAX(R$2:R222)+1,\"\"))","v":""},"",7,{"$f":"COUNTIF($AF223:$AL223,U$2)","v":0},1,0,"I","J","J","J","J","J","I","J",null,null,null,null,null,null,"BN"]
[6057,"M","VILLARET Mateu","INF-2",3,2,"CALELLA","CALELLA",43.1,{"$f":"IF($S224<>\"\",\"\",IF(AND($E224<=J$1,$B224=\"M\"),MAX(J$2:J223)+1,\"\"))","v":193},{"$f":"IF($S224<>\"\",\"\",IF(AND($E224<=K$1,$B224=\"M\"),MAX(K$2:K223)+1,\"\"))","v":121},{"$f":"IF($S224<>\"\",\"\",IF(AND($E224<=L$1,$B224=\"M\"),MAX(L$2:L223)+1,\"\"))","v":""},{"$f":"IF($S224<>\"\",\"\",IF(AND($E224<=M$1,$B224=\"M\"),MAX(M$2:M223)+1,\"\"))","v":""},{"$f":"IF($S224<>\"\",\"\",IF(AND($E224<=N$1,$B224=\"F\"),MAX(N$2:N223)+1,\"\"))","v":""},{"$f":"IF($S224<>\"\",\"\",IF(AND($E224<=O$1,$B224=\"F\"),MAX(O$2:O223)+1,\"\"))","v":""},{"$f":"IF(AND($S224<>\"\",$S224<>\"No pot jugar individual\"),\"\",IF(AND($F224<=P$1,$B224=\"M\"),MAX(P$2:P223)+1,\"\"))","v":193},{"$f":"IF(AND($S224<>\"\",$S224<>\"No pot jugar individual\"),\"\",IF(AND($F224<=Q$1,$B224=\"M\"),MAX(Q$2:Q223)+1,\"\"))","v":""},{"$f":"IF($S224<>\"\",\"\",IF($F224<=R$1,MAX(R$2:R223)+1,\"\"))","v":""},"",7,0,1,0,"G","H","I","J","J","J","J","J","BJ","BJ","BN"]
[11339,"M","NÚÑEZ Pau","INF-2",3,2,"PREMIA","PREMIA",42.45,{"$f":"IF($S225<>\"\",\"\",IF(AND($E225<=J$1,$B225=\"M\"),MAX(J$2:J224)+1,\"\"))","v":194},{"$f":"IF($S225<>\"\",\"\",IF(AND($E225<=K$1,$B225=\"M\"),MAX(K$2:K224)+1,\"\"))","v":122},{"$f":"IF($S225<>\"\",\"\",IF(AND($E225<=L$1,$B225=\"M\"),MAX(L$2:L224)+1,\"\"))","v":""},{"$f":"IF($S225<>\"\",\"\",IF(AND($E225<=M$1,$B225=\"M\"),MAX(M$2:M224)+1,\"\"))","v":""},{"$f":"IF($S225<>\"\",\"\",IF(AND($E225<=N$1,$B225=\"F\"),MAX(N$2:N224)+1,\"\"))","v":""},{"$f":"IF($S225<>\"\",\"\",IF(AND($E225<=O$1,$B225=\"F\"),MAX(O$2:O224)+1,\"\"))","v":""},{"$f":"IF(AND($S225<>\"\",$S225<>\"No pot jugar individual\"),\"\",IF(AND($F225<=P$1,$B225=\"M\"),MAX(P$2:P224)+1,\"\"))","v":194},{"$f":"IF(AND($S225<>\"\",$S225<>\"No pot jugar individual\"),\"\",IF(AND($F225<=Q$1,$B225=\"M\"),MAX(Q$2:Q224)+1,\"\"))","v":""},{"$f":"IF($S225<>\"\",\"\",IF($F225<=R$1,MAX(R$2:R224)+1,\"\"))","v":""},"",7,0,0,0,"L","L","L","K","K","K","J","I"]
[10900,"M","RODRIGUEZ Victor","ALE-1",2,1,"LLUÏSOS","LLUÏSOS",42.25,{"$f":"IF($S226<>\"\",\"\",IF(AND($E226<=J$1,$B226=\"M\"),MAX(J$2:J225)+1,\"\"))","v":195},{"$f":"IF($S226<>\"\",\"\",IF(AND($E226<=K$1,$B226=\"M\"),MAX(K$2:K225)+1,\"\"))","v":123},{"$f":"IF($S226<>\"\",\"\",IF(AND($E226<=L$1,$B226=\"M\"),MAX(L$2:L225)+1,\"\"))","v":48},{"$f":"IF($S226<>\"\",\"\",IF(AND($E226<=M$1,$B226=\"M\"),MAX(M$2:M225)+1,\"\"))","v":""},{"$f":"IF($S226<>\"\",\"\",IF(AND($E226<=N$1,$B226=\"F\"),MAX(N$2:N225)+1,\"\"))","v":""},{"$f":"IF($S226<>\"\",\"\",IF(AND($E226<=O$1,$B226=\"F\"),MAX(O$2:O225)+1,\"\"))","v":""},{"$f":"IF(AND($S226<>\"\",$S226<>\"No pot jugar individual\"),\"\",IF(AND($F226<=P$1,$B226=\"M\"),MAX(P$2:P225)+1,\"\"))","v":195},{"$f":"IF(AND($S226<>\"\",$S226<>\"No pot jugar individual\"),\"\",IF(AND($F226<=Q$1,$B226=\"M\"),MAX(Q$2:Q225)+1,\"\"))","v":48},{"$f":"IF($S226<>\"\",\"\",IF($F226<=R$1,MAX(R$2:R225)+1,\"\"))","v":""},"",7,0,0,0,"N","M","L","K","K","J","J","J"]
[8713,"F","GARRIDO Mariona","BEN-2",1,0,"CALELLA","CALELLA",41.9,{"$f":"IF($S227<>\"\",\"\",IF(AND($E227<=J$1,$B227=\"M\"),MAX(J$2:J226)+1,\"\"))","v":""},{"$f":"IF($S227<>\"\",\"\",IF(AND($E227<=K$1,$B227=\"M\"),MAX(K$2:K226)+1,\"\"))","v":""},{"$f":"IF($S227<>\"\",\"\",IF(AND($E227<=L$1,$B227=\"M\"),MAX(L$2:L226)+1,\"\"))","v":""},{"$f":"IF($S227<>\"\",\"\",IF(AND($E227<=M$1,$B227=\"M\"),MAX(M$2:M226)+1,\"\"))","v":""},{"$f":"IF($S227<>\"\",\"\",IF(AND($E227<=N$1,$B227=\"F\"),MAX(N$2:N226)+1,\"\"))","v":30},{"$f":"IF($S227<>\"\",\"\",IF(AND($E227<=O$1,$B227=\"F\"),MAX(O$2:O226)+1,\"\"))","v":15},{"$f":"IF(AND($S227<>\"\",$S227<>\"No pot jugar individual\"),\"\",IF(AND($F227<=P$1,$B227=\"M\"),MAX(P$2:P226)+1,\"\"))","v":""},{"$f":"IF(AND($S227<>\"\",$S227<>\"No pot jugar individual\"),\"\",IF(AND($F227<=Q$1,$B227=\"M\"),MAX(Q$2:Q226)+1,\"\"))","v":""},{"$f":"IF($S227<>\"\",\"\",IF($F227<=R$1,MAX(R$2:R226)+1,\"\"))","v":30},"",7,1,0,0,"H","I","I","I","I","J","J","J","BC"]
[10539,"M","CORRAL Marc","ALE-1",2,1,"STCUGAT","STCUGAT",41.7,{"$f":"IF($S228<>\"\",\"\",IF(AND($E228<=J$1,$B228=\"M\"),MAX(J$2:J227)+1,\"\"))","v":196},{"$f":"IF($S228<>\"\",\"\",IF(AND($E228<=K$1,$B228=\"M\"),MAX(K$2:K227)+1,\"\"))","v":124},{"$f":"IF($S228<>\"\",\"\",IF(AND($E228<=L$1,$B228=\"M\"),MAX(L$2:L227)+1,\"\"))","v":49},{"$f":"IF($S228<>\"\",\"\",IF(AND($E228<=M$1,$B228=\"M\"),MAX(M$2:M227)+1,\"\"))","v":""},{"$f":"IF($S228<>\"\",\"\",IF(AND($E228<=N$1,$B228=\"F\"),MAX(N$2:N227)+1,\"\"))","v":""},{"$f":"IF($S228<>\"\",\"\",IF(AND($E228<=O$1,$B228=\"F\"),MAX(O$2:O227)+1,\"\"))","v":""},{"$f":"IF(AND($S228<>\"\",$S228<>\"No pot jugar individual\"),\"\",IF(AND($F228<=P$1,$B228=\"M\"),MAX(P$2:P227)+1,\"\"))","v":196},{"$f":"IF(AND($S228<>\"\",$S228<>\"No pot jugar individual\"),\"\",IF(AND($F228<=Q$1,$B228=\"M\"),MAX(Q$2:Q227)+1,\"\"))","v":49},{"$f":"IF($S228<>\"\",\"\",IF($F228<=R$1,MAX(R$2:R227)+1,\"\"))","v":""},"",7,1,0,0,"H","I","I","I","J","J","J","J",null,null,null,"BC",null,"BJ"]
[8908,"M","KHIDASHELI Luca","BEN-1",1,1,"CNSABA","CNSABA",41.35,{"$f":"IF($S229<>\"\",\"\",IF(AND($E229<=J$1,$B229=\"M\"),MAX(J$2:J228)+1,\"\"))","v":197},{"$f":"IF($S229<>\"\",\"\",IF(AND($E229<=K$1,$B229=\"M\"),MAX(K$2:K228)+1,\"\"))","v":125},{"$f":"IF($S229<>\"\",\"\",IF(AND($E229<=L$1,$B229=\"M\"),MAX(L$2:L228)+1,\"\"))","v":50},{"$f":"IF($S229<>\"\",\"\",IF(AND($E229<=M$1,$B229=\"M\"),MAX(M$2:M228)+1,\"\"))","v":10},{"$f":"IF($S229<>\"\",\"\",IF(AND($E229<=N$1,$B229=\"F\"),MAX(N$2:N228)+1,\"\"))","v":""},{"$f":"IF($S229<>\"\",\"\",IF(AND($E229<=O$1,$B229=\"F\"),MAX(O$2:O228)+1,\"\"))","v":""},{"$f":"IF(AND($S229<>\"\",$S229<>\"No pot jugar individual\"),\"\",IF(AND($F229<=P$1,$B229=\"M\"),MAX(P$2:P228)+1,\"\"))","v":197},{"$f":"IF(AND($S229<>\"\",$S229<>\"No pot jugar individual\"),\"\",IF(AND($F229<=Q$1,$B229=\"M\"),MAX(Q$2:Q228)+1,\"\"))","v":50},{"$f":"IF($S229<>\"\",\"\",IF($F229<=R$1,MAX(R$2:R228)+1,\"\"))","v":""},"",7,3,0,0,"I","J","K","L","K","J","J","I","BC","BC","BC"]
[10681,"F","BARRAU Anna","ALE-1",2,0,"AMICS","AMICS",41,{"$f":"IF($S230<>\"\",\"\",IF(AND($E230<=J$1,$B230=\"M\"),MAX(J$2:J229)+1,\"\"))","v":""},{"$f":"IF($S230<>\"\",\"\",IF(AND($E230<=K$1,$B230=\"M\"),MAX(K$2:K229)+1,\"\"))","v":""},{"$f":"IF($S230<>\"\",\"\",IF(AND($E230<=L$1,$B230=\"M\"),MAX(L$2:L229)+1,\"\"))","v":""},{"$f":"IF($S230<>\"\",\"\",IF(AND($E230<=M$1,$B230=\"M\"),MAX(M$2:M229)+1,\"\"))","v":""},{"$f":"IF($S230<>\"\",\"\",IF(AND($E230<=N$1,$B230=\"F\"),MAX(N$2:N229)+1,\"\"))","v":31},{"$f":"IF($S230<>\"\",\"\",IF(AND($E230<=O$1,$B230=\"F\"),MAX(O$2:O229)+1,\"\"))","v":16},{"$f":"IF(AND($S230<>\"\",$S230<>\"No pot jugar individual\"),\"\",IF(AND($F230<=P$1,$B230=\"M\"),MAX(P$2:P229)+1,\"\"))","v":""},{"$f":"IF(AND($S230<>\"\",$S230<>\"No pot jugar individual\"),\"\",IF(AND($F230<=Q$1,$B230=\"M\"),MAX(Q$2:Q229)+1,\"\"))","v":""},{"$f":"IF($S230<>\"\",\"\",IF($F230<=R$1,MAX(R$2:R229)+1,\"\"))","v":31},"",7,0,0,0,"J","J","J","J","J","J","J","J"]
[6413,"M","VENTOSA Marc","JUV-1",4,2,"R.ELISENDA","R.ELISENDA",39.730000000000004,{"$f":"IF($S231<>\"\",\"\",IF(AND($E231<=J$1,$B231=\"M\"),MAX(J$2:J230)+1,\"\"))","v":198},{"$f":"IF($S231<>\"\",\"\",IF(AND($E231<=K$1,$B231=\"M\"),MAX(K$2:K230)+1,\"\"))","v":""},{"$f":"IF($S231<>\"\",\"\",IF(AND($E231<=L$1,$B231=\"M\"),MAX(L$2:L230)+1,\"\"))","v":""},{"$f":"IF($S231<>\"\",\"\",IF(AND($E231<=M$1,$B231=\"M\"),MAX(M$2:M230)+1,\"\"))","v":""},{"$f":"IF($S231<>\"\",\"\",IF(AND($E231<=N$1,$B231=\"F\"),MAX(N$2:N230)+1,\"\"))","v":""},{"$f":"IF($S231<>\"\",\"\",IF(AND($E231<=O$1,$B231=\"F\"),MAX(O$2:O230)+1,\"\"))","v":""},{"$f":"IF(AND($S231<>\"\",$S231<>\"No pot jugar individual\"),\"\",IF(AND($F231<=P$1,$B231=\"M\"),MAX(P$2:P230)+1,\"\"))","v":198},{"$f":"IF(AND($S231<>\"\",$S231<>\"No pot jugar individual\"),\"\",IF(AND($F231<=Q$1,$B231=\"M\"),MAX(Q$2:Q230)+1,\"\"))","v":""},{"$f":"IF($S231<>\"\",\"\",IF($F231<=R$1,MAX(R$2:R230)+1,\"\"))","v":""},"",7,0,0,0,"K","L","K","K","J","J","J","J"]
[10387,"M","GIL Jofre V.","JUV-1",4,2,"EUROCLIMA BDN","EUROCLIMA BDN",38,{"$f":"IF($S232<>\"\",\"\",IF(AND($E232<=J$1,$B232=\"M\"),MAX(J$2:J231)+1,\"\"))","v":199},{"$f":"IF($S232<>\"\",\"\",IF(AND($E232<=K$1,$B232=\"M\"),MAX(K$2:K231)+1,\"\"))","v":""},{"$f":"IF($S232<>\"\",\"\",IF(AND($E232<=L$1,$B232=\"M\"),MAX(L$2:L231)+1,\"\"))","v":""},{"$f":"IF($S232<>\"\",\"\",IF(AND($E232<=M$1,$B232=\"M\"),MAX(M$2:M231)+1,\"\"))","v":""},{"$f":"IF($S232<>\"\",\"\",IF(AND($E232<=N$1,$B232=\"F\"),MAX(N$2:N231)+1,\"\"))","v":""},{"$f":"IF($S232<>\"\",\"\",IF(AND($E232<=O$1,$B232=\"F\"),MAX(O$2:O231)+1,\"\"))","v":""},{"$f":"IF(AND($S232<>\"\",$S232<>\"No pot jugar individual\"),\"\",IF(AND($F232<=P$1,$B232=\"M\"),MAX(P$2:P231)+1,\"\"))","v":199},{"$f":"IF(AND($S232<>\"\",$S232<>\"No pot jugar individual\"),\"\",IF(AND($F232<=Q$1,$B232=\"M\"),MAX(Q$2:Q231)+1,\"\"))","v":""},{"$f":"IF($S232<>\"\",\"\",IF($F232<=R$1,MAX(R$2:R231)+1,\"\"))","v":""},"",7,0,0,0,"J","J","J","J","J","J","J","J",null,null,null,null,"BJ"]
[10526,"M","ABIO Xavier","BEN-2",1,1,"CALELLA","CALELLA",35.9,{"$f":"IF($S233<>\"\",\"\",IF(AND($E233<=J$1,$B233=\"M\"),MAX(J$2:J232)+1,\"\"))","v":200},{"$f":"IF($S233<>\"\",\"\",IF(AND($E233<=K$1,$B233=\"M\"),MAX(K$2:K232)+1,\"\"))","v":126},{"$f":"IF($S233<>\"\",\"\",IF(AND($E233<=L$1,$B233=\"M\"),MAX(L$2:L232)+1,\"\"))","v":51},{"$f":"IF($S233<>\"\",\"\",IF(AND($E233<=M$1,$B233=\"M\"),MAX(M$2:M232)+1,\"\"))","v":11},{"$f":"IF($S233<>\"\",\"\",IF(AND($E233<=N$1,$B233=\"F\"),MAX(N$2:N232)+1,\"\"))","v":""},{"$f":"IF($S233<>\"\",\"\",IF(AND($E233<=O$1,$B233=\"F\"),MAX(O$2:O232)+1,\"\"))","v":""},{"$f":"IF(AND($S233<>\"\",$S233<>\"No pot jugar individual\"),\"\",IF(AND($F233<=P$1,$B233=\"M\"),MAX(P$2:P232)+1,\"\"))","v":200},{"$f":"IF(AND($S233<>\"\",$S233<>\"No pot jugar individual\"),\"\",IF(AND($F233<=Q$1,$B233=\"M\"),MAX(Q$2:Q232)+1,\"\"))","v":51},{"$f":"IF($S233<>\"\",\"\",IF($F233<=R$1,MAX(R$2:R232)+1,\"\"))","v":""},"",7,0,0,0,"O","O","N","M","L","K","J","I"]
[11325,"M","ESCOBAR Valentin","ALE-2",2,1,"VILANOVA","VILANOVA",35.25,{"$f":"IF($S234<>\"\",\"\",IF(AND($E234<=J$1,$B234=\"M\"),MAX(J$2:J233)+1,\"\"))","v":201},{"$f":"IF($S234<>\"\",\"\",IF(AND($E234<=K$1,$B234=\"M\"),MAX(K$2:K233)+1,\"\"))","v":127},{"$f":"IF($S234<>\"\",\"\",IF(AND($E234<=L$1,$B234=\"M\"),MAX(L$2:L233)+1,\"\"))","v":52},{"$f":"IF($S234<>\"\",\"\",IF(AND($E234<=M$1,$B234=\"M\"),MAX(M$2:M233)+1,\"\"))","v":""},{"$f":"IF($S234<>\"\",\"\",IF(AND($E234<=N$1,$B234=\"F\"),MAX(N$2:N233)+1,\"\"))","v":""},{"$f":"IF($S234<>\"\",\"\",IF(AND($E234<=O$1,$B234=\"F\"),MAX(O$2:O233)+1,\"\"))","v":""},{"$f":"IF(AND($S234<>\"\",$S234<>\"No pot jugar individual\"),\"\",IF(AND($F234<=P$1,$B234=\"M\"),MAX(P$2:P233)+1,\"\"))","v":201},{"$f":"IF(AND($S234<>\"\",$S234<>\"No pot jugar individual\"),\"\",IF(AND($F234<=Q$1,$B234=\"M\"),MAX(Q$2:Q233)+1,\"\"))","v":52},{"$f":"IF($S234<>\"\",\"\",IF($F234<=R$1,MAX(R$2:R233)+1,\"\"))","v":""},"",7,0,1,0,"M","L","K","K","L","K","J","J",null,null,null,"BN"]
[11137,"M","RUESCA Joaquim","INF-2",3,2,"POBLENOU","POBLENOU",34.800000000000004,{"$f":"IF($S235<>\"\",\"\",IF(AND($E235<=J$1,$B235=\"M\"),MAX(J$2:J234)+1,\"\"))","v":202},{"$f":"IF($S235<>\"\",\"\",IF(AND($E235<=K$1,$B235=\"M\"),MAX(K$2:K234)+1,\"\"))","v":128},{"$f":"IF($S235<>\"\",\"\",IF(AND($E235<=L$1,$B235=\"M\"),MAX(L$2:L234)+1,\"\"))","v":""},{"$f":"IF($S235<>\"\",\"\",IF(AND($E235<=M$1,$B235=\"M\"),MAX(M$2:M234)+1,\"\"))","v":""},{"$f":"IF($S235<>\"\",\"\",IF(AND($E235<=N$1,$B235=\"F\"),MAX(N$2:N234)+1,\"\"))","v":""},{"$f":"IF($S235<>\"\",\"\",IF(AND($E235<=O$1,$B235=\"F\"),MAX(O$2:O234)+1,\"\"))","v":""},{"$f":"IF(AND($S235<>\"\",$S235<>\"No pot jugar individual\"),\"\",IF(AND($F235<=P$1,$B235=\"M\"),MAX(P$2:P234)+1,\"\"))","v":202},{"$f":"IF(AND($S235<>\"\",$S235<>\"No pot jugar individual\"),\"\",IF(AND($F235<=Q$1,$B235=\"M\"),MAX(Q$2:Q234)+1,\"\"))","v":""},{"$f":"IF($S235<>\"\",\"\",IF($F235<=R$1,MAX(R$2:R234)+1,\"\"))","v":""},"",7,0,1,0,"L","L","L","K","J","J","I","J",null,null,null,null,null,null,"BN"]
[11161,"M","BADIA Enric","INF-2",3,2,"AMICS","AMICS",34.080000000000005,{"$f":"IF($S236<>\"\",\"\",IF(AND($E236<=J$1,$B236=\"M\"),MAX(J$2:J235)+1,\"\"))","v":203},{"$f":"IF($S236<>\"\",\"\",IF(AND($E236<=K$1,$B236=\"M\"),MAX(K$2:K235)+1,\"\"))","v":129},{"$f":"IF($S236<>\"\",\"\",IF(AND($E236<=L$1,$B236=\"M\"),MAX(L$2:L235)+1,\"\"))","v":""},{"$f":"IF($S236<>\"\",\"\",IF(AND($E236<=M$1,$B236=\"M\"),MAX(M$2:M235)+1,\"\"))","v":""},{"$f":"IF($S236<>\"\",\"\",IF(AND($E236<=N$1,$B236=\"F\"),MAX(N$2:N235)+1,\"\"))","v":""},{"$f":"IF($S236<>\"\",\"\",IF(AND($E236<=O$1,$B236=\"F\"),MAX(O$2:O235)+1,\"\"))","v":""},{"$f":"IF(AND($S236<>\"\",$S236<>\"No pot jugar individual\"),\"\",IF(AND($F236<=P$1,$B236=\"M\"),MAX(P$2:P235)+1,\"\"))","v":203},{"$f":"IF(AND($S236<>\"\",$S236<>\"No pot jugar individual\"),\"\",IF(AND($F236<=Q$1,$B236=\"M\"),MAX(Q$2:Q235)+1,\"\"))","v":""},{"$f":"IF($S236<>\"\",\"\",IF($F236<=R$1,MAX(R$2:R235)+1,\"\"))","v":""},"",7,1,0,0,"L","L","L","K","K","J","K","J",null,null,null,null,null,"BC"]
[10525,"M","VILLARET Pol","ALE-1",2,1,"CALELLA","CALELLA",31.78,{"$f":"IF($S237<>\"\",\"\",IF(AND($E237<=J$1,$B237=\"M\"),MAX(J$2:J236)+1,\"\"))","v":204},{"$f":"IF($S237<>\"\",\"\",IF(AND($E237<=K$1,$B237=\"M\"),MAX(K$2:K236)+1,\"\"))","v":130},{"$f":"IF($S237<>\"\",\"\",IF(AND($E237<=L$1,$B237=\"M\"),MAX(L$2:L236)+1,\"\"))","v":53},{"$f":"IF($S237<>\"\",\"\",IF(AND($E237<=M$1,$B237=\"M\"),MAX(M$2:M236)+1,\"\"))","v":""},{"$f":"IF($S237<>\"\",\"\",IF(AND($E237<=N$1,$B237=\"F\"),MAX(N$2:N236)+1,\"\"))","v":""},{"$f":"IF($S237<>\"\",\"\",IF(AND($E237<=O$1,$B237=\"F\"),MAX(O$2:O236)+1,\"\"))","v":""},{"$f":"IF(AND($S237<>\"\",$S237<>\"No pot jugar individual\"),\"\",IF(AND($F237<=P$1,$B237=\"M\"),MAX(P$2:P236)+1,\"\"))","v":204},{"$f":"IF(AND($S237<>\"\",$S237<>\"No pot jugar individual\"),\"\",IF(AND($F237<=Q$1,$B237=\"M\"),MAX(Q$2:Q236)+1,\"\"))","v":53},{"$f":"IF($S237<>\"\",\"\",IF($F237<=R$1,MAX(R$2:R236)+1,\"\"))","v":""},"",7,0,0,0,"N","M","L","L","K","K","J","J"]
[11373,"M","BUISAN Marti","ALE-2",2,1,"FALCONS","FALCONS",30.94,{"$f":"IF($S238<>\"\",\"\",IF(AND($E238<=J$1,$B238=\"M\"),MAX(J$2:J237)+1,\"\"))","v":205},{"$f":"IF($S238<>\"\",\"\",IF(AND($E238<=K$1,$B238=\"M\"),MAX(K$2:K237)+1,\"\"))","v":131},{"$f":"IF($S238<>\"\",\"\",IF(AND($E238<=L$1,$B238=\"M\"),MAX(L$2:L237)+1,\"\"))","v":54},{"$f":"IF($S238<>\"\",\"\",IF(AND($E238<=M$1,$B238=\"M\"),MAX(M$2:M237)+1,\"\"))","v":""},{"$f":"IF($S238<>\"\",\"\",IF(AND($E238<=N$1,$B238=\"F\"),MAX(N$2:N237)+1,\"\"))","v":""},{"$f":"IF($S238<>\"\",\"\",IF(AND($E238<=O$1,$B238=\"F\"),MAX(O$2:O237)+1,\"\"))","v":""},{"$f":"IF(AND($S238<>\"\",$S238<>\"No pot jugar individual\"),\"\",IF(AND($F238<=P$1,$B238=\"M\"),MAX(P$2:P237)+1,\"\"))","v":205},{"$f":"IF(AND($S238<>\"\",$S238<>\"No pot jugar individual\"),\"\",IF(AND($F238<=Q$1,$B238=\"M\"),MAX(Q$2:Q237)+1,\"\"))","v":54},{"$f":"IF($S238<>\"\",\"\",IF($F238<=R$1,MAX(R$2:R237)+1,\"\"))","v":""},"",7,0,0,0,"N","N","M","L","K","K","K","J"]
[7907,"M","LLORET Jordi","PRE-0",1,1,"EUROCLIMA BDN","EUROCLIMA BDN",30.7,{"$f":"IF($S239<>\"\",\"\",IF(AND($E239<=J$1,$B239=\"M\"),MAX(J$2:J238)+1,\"\"))","v":206},{"$f":"IF($S239<>\"\",\"\",IF(AND($E239<=K$1,$B239=\"M\"),MAX(K$2:K238)+1,\"\"))","v":132},{"$f":"IF($S239<>\"\",\"\",IF(AND($E239<=L$1,$B239=\"M\"),MAX(L$2:L238)+1,\"\"))","v":55},{"$f":"IF($S239<>\"\",\"\",IF(AND($E239<=M$1,$B239=\"M\"),MAX(M$2:M238)+1,\"\"))","v":12},{"$f":"IF($S239<>\"\",\"\",IF(AND($E239<=N$1,$B239=\"F\"),MAX(N$2:N238)+1,\"\"))","v":""},{"$f":"IF($S239<>\"\",\"\",IF(AND($E239<=O$1,$B239=\"F\"),MAX(O$2:O238)+1,\"\"))","v":""},{"$f":"IF(AND($S239<>\"\",$S239<>\"No pot jugar individual\"),\"\",IF(AND($F239<=P$1,$B239=\"M\"),MAX(P$2:P238)+1,\"\"))","v":206},{"$f":"IF(AND($S239<>\"\",$S239<>\"No pot jugar individual\"),\"\",IF(AND($F239<=Q$1,$B239=\"M\"),MAX(Q$2:Q238)+1,\"\"))","v":55},{"$f":"IF($S239<>\"\",\"\",IF($F239<=R$1,MAX(R$2:R238)+1,\"\"))","v":""},"",7,0,0,0,"H","I","J","K","J","J","J","J",null,null,"BJ"]
[6370,"M","LAHIGUERA Arnau","INF-1",3,2,"R.ELISENDA","R.ELISENDA",30.200000000000003,{"$f":"IF($S240<>\"\",\"\",IF(AND($E240<=J$1,$B240=\"M\"),MAX(J$2:J239)+1,\"\"))","v":207},{"$f":"IF($S240<>\"\",\"\",IF(AND($E240<=K$1,$B240=\"M\"),MAX(K$2:K239)+1,\"\"))","v":133},{"$f":"IF($S240<>\"\",\"\",IF(AND($E240<=L$1,$B240=\"M\"),MAX(L$2:L239)+1,\"\"))","v":""},{"$f":"IF($S240<>\"\",\"\",IF(AND($E240<=M$1,$B240=\"M\"),MAX(M$2:M239)+1,\"\"))","v":""},{"$f":"IF($S240<>\"\",\"\",IF(AND($E240<=N$1,$B240=\"F\"),MAX(N$2:N239)+1,\"\"))","v":""},{"$f":"IF($S240<>\"\",\"\",IF(AND($E240<=O$1,$B240=\"F\"),MAX(O$2:O239)+1,\"\"))","v":""},{"$f":"IF(AND($S240<>\"\",$S240<>\"No pot jugar individual\"),\"\",IF(AND($F240<=P$1,$B240=\"M\"),MAX(P$2:P239)+1,\"\"))","v":207},{"$f":"IF(AND($S240<>\"\",$S240<>\"No pot jugar individual\"),\"\",IF(AND($F240<=Q$1,$B240=\"M\"),MAX(Q$2:Q239)+1,\"\"))","v":""},{"$f":"IF($S240<>\"\",\"\",IF($F240<=R$1,MAX(R$2:R239)+1,\"\"))","v":""},"",7,0,0,0,"M","M","L","K","K","K","J","K"]
[11293,"M","VALERO Alex","INF-2",3,2,"CLARAM","CLARAM",29.5,{"$f":"IF($S241<>\"\",\"\",IF(AND($E241<=J$1,$B241=\"M\"),MAX(J$2:J240)+1,\"\"))","v":208},{"$f":"IF($S241<>\"\",\"\",IF(AND($E241<=K$1,$B241=\"M\"),MAX(K$2:K240)+1,\"\"))","v":134},{"$f":"IF($S241<>\"\",\"\",IF(AND($E241<=L$1,$B241=\"M\"),MAX(L$2:L240)+1,\"\"))","v":""},{"$f":"IF($S241<>\"\",\"\",IF(AND($E241<=M$1,$B241=\"M\"),MAX(M$2:M240)+1,\"\"))","v":""},{"$f":"IF($S241<>\"\",\"\",IF(AND($E241<=N$1,$B241=\"F\"),MAX(N$2:N240)+1,\"\"))","v":""},{"$f":"IF($S241<>\"\",\"\",IF(AND($E241<=O$1,$B241=\"F\"),MAX(O$2:O240)+1,\"\"))","v":""},{"$f":"IF(AND($S241<>\"\",$S241<>\"No pot jugar individual\"),\"\",IF(AND($F241<=P$1,$B241=\"M\"),MAX(P$2:P240)+1,\"\"))","v":208},{"$f":"IF(AND($S241<>\"\",$S241<>\"No pot jugar individual\"),\"\",IF(AND($F241<=Q$1,$B241=\"M\"),MAX(Q$2:Q240)+1,\"\"))","v":""},{"$f":"IF($S241<>\"\",\"\",IF($F241<=R$1,MAX(R$2:R240)+1,\"\"))","v":""},"",7,0,0,0,"K","K","K","K","K","K","J","J"]
[7829,"M","GRAS Tomàs","ALE-2",2,1,"MATARO","MATARO",29.299999999999997,{"$f":"IF($S242<>\"\",\"\",IF(AND($E242<=J$1,$B242=\"M\"),MAX(J$2:J241)+1,\"\"))","v":209},{"$f":"IF($S242<>\"\",\"\",IF(AND($E242<=K$1,$B242=\"M\"),MAX(K$2:K241)+1,\"\"))","v":135},{"$f":"IF($S242<>\"\",\"\",IF(AND($E242<=L$1,$B242=\"M\"),MAX(L$2:L241)+1,\"\"))","v":56},{"$f":"IF($S242<>\"\",\"\",IF(AND($E242<=M$1,$B242=\"M\"),MAX(M$2:M241)+1,\"\"))","v":""},{"$f":"IF($S242<>\"\",\"\",IF(AND($E242<=N$1,$B242=\"F\"),MAX(N$2:N241)+1,\"\"))","v":""},{"$f":"IF($S242<>\"\",\"\",IF(AND($E242<=O$1,$B242=\"F\"),MAX(O$2:O241)+1,\"\"))","v":""},{"$f":"IF(AND($S242<>\"\",$S242<>\"No pot jugar individual\"),\"\",IF(AND($F242<=P$1,$B242=\"M\"),MAX(P$2:P241)+1,\"\"))","v":209},{"$f":"IF(AND($S242<>\"\",$S242<>\"No pot jugar individual\"),\"\",IF(AND($F242<=Q$1,$B242=\"M\"),MAX(Q$2:Q241)+1,\"\"))","v":56},{"$f":"IF($S242<>\"\",\"\",IF($F242<=R$1,MAX(R$2:R241)+1,\"\"))","v":""},"",7,1,0,0,"N","M","N","M","L","K","J","K",null,"PI",null,null,null,null,"BC"]
[8074,"M","PEDROSA Hector","BEN-1",1,1,"ESPARREGU.","ESPARREGU.",28.75,{"$f":"IF($S243<>\"\",\"\",IF(AND($E243<=J$1,$B243=\"M\"),MAX(J$2:J242)+1,\"\"))","v":210},{"$f":"IF($S243<>\"\",\"\",IF(AND($E243<=K$1,$B243=\"M\"),MAX(K$2:K242)+1,\"\"))","v":136},{"$f":"IF($S243<>\"\",\"\",IF(AND($E243<=L$1,$B243=\"M\"),MAX(L$2:L242)+1,\"\"))","v":57},{"$f":"IF($S243<>\"\",\"\",IF(AND($E243<=M$1,$B243=\"M\"),MAX(M$2:M242)+1,\"\"))","v":13},{"$f":"IF($S243<>\"\",\"\",IF(AND($E243<=N$1,$B243=\"F\"),MAX(N$2:N242)+1,\"\"))","v":""},{"$f":"IF($S243<>\"\",\"\",IF(AND($E243<=O$1,$B243=\"F\"),MAX(O$2:O242)+1,\"\"))","v":""},{"$f":"IF(AND($S243<>\"\",$S243<>\"No pot jugar individual\"),\"\",IF(AND($F243<=P$1,$B243=\"M\"),MAX(P$2:P242)+1,\"\"))","v":210},{"$f":"IF(AND($S243<>\"\",$S243<>\"No pot jugar individual\"),\"\",IF(AND($F243<=Q$1,$B243=\"M\"),MAX(Q$2:Q242)+1,\"\"))","v":57},{"$f":"IF($S243<>\"\",\"\",IF($F243<=R$1,MAX(R$2:R242)+1,\"\"))","v":""},"",7,{"$f":"COUNTIF($AF243:$AL243,U$2)","v":1},0,0,"I","J","J","K","L","K","J","J",null,null,null,"BC"]
[11238,"M","MARTINEZ Biel","INF-2",3,2,"SALLENT","SALLENT",28.450000000000003,{"$f":"IF($S244<>\"\",\"\",IF(AND($E244<=J$1,$B244=\"M\"),MAX(J$2:J243)+1,\"\"))","v":211},{"$f":"IF($S244<>\"\",\"\",IF(AND($E244<=K$1,$B244=\"M\"),MAX(K$2:K243)+1,\"\"))","v":137},{"$f":"IF($S244<>\"\",\"\",IF(AND($E244<=L$1,$B244=\"M\"),MAX(L$2:L243)+1,\"\"))","v":""},{"$f":"IF($S244<>\"\",\"\",IF(AND($E244<=M$1,$B244=\"M\"),MAX(M$2:M243)+1,\"\"))","v":""},{"$f":"IF($S244<>\"\",\"\",IF(AND($E244<=N$1,$B244=\"F\"),MAX(N$2:N243)+1,\"\"))","v":""},{"$f":"IF($S244<>\"\",\"\",IF(AND($E244<=O$1,$B244=\"F\"),MAX(O$2:O243)+1,\"\"))","v":""},{"$f":"IF(AND($S244<>\"\",$S244<>\"No pot jugar individual\"),\"\",IF(AND($F244<=P$1,$B244=\"M\"),MAX(P$2:P243)+1,\"\"))","v":211},{"$f":"IF(AND($S244<>\"\",$S244<>\"No pot jugar individual\"),\"\",IF(AND($F244<=Q$1,$B244=\"M\"),MAX(Q$2:Q243)+1,\"\"))","v":""},{"$f":"IF($S244<>\"\",\"\",IF($F244<=R$1,MAX(R$2:R243)+1,\"\"))","v":""},"",7,0,0,0,"L","L","L","L","L","K","K","K"]
[10247,"M","BOLTÀ Ot","INF-1",3,2,"OLESA","OLESA",28.35,{"$f":"IF($S245<>\"\",\"\",IF(AND($E245<=J$1,$B245=\"M\"),MAX(J$2:J244)+1,\"\"))","v":212},{"$f":"IF($S245<>\"\",\"\",IF(AND($E245<=K$1,$B245=\"M\"),MAX(K$2:K244)+1,\"\"))","v":138},{"$f":"IF($S245<>\"\",\"\",IF(AND($E245<=L$1,$B245=\"M\"),MAX(L$2:L244)+1,\"\"))","v":""},{"$f":"IF($S245<>\"\",\"\",IF(AND($E245<=M$1,$B245=\"M\"),MAX(M$2:M244)+1,\"\"))","v":""},{"$f":"IF($S245<>\"\",\"\",IF(AND($E245<=N$1,$B245=\"F\"),MAX(N$2:N244)+1,\"\"))","v":""},{"$f":"IF($S245<>\"\",\"\",IF(AND($E245<=O$1,$B245=\"F\"),MAX(O$2:O244)+1,\"\"))","v":""},{"$f":"IF(AND($S245<>\"\",$S245<>\"No pot jugar individual\"),\"\",IF(AND($F245<=P$1,$B245=\"M\"),MAX(P$2:P244)+1,\"\"))","v":212},{"$f":"IF(AND($S245<>\"\",$S245<>\"No pot jugar individual\"),\"\",IF(AND($F245<=Q$1,$B245=\"M\"),MAX(Q$2:Q244)+1,\"\"))","v":""},{"$f":"IF($S245<>\"\",\"\",IF($F245<=R$1,MAX(R$2:R244)+1,\"\"))","v":""},"",7,0,1,0,"M","M","L","K","L","K","K","J",null,null,null,"BN"]
[11241,"M","ALEGRET Martí","INF-2",3,2,"SALLENT","SALLENT",28.11,{"$f":"IF($S246<>\"\",\"\",IF(AND($E246<=J$1,$B246=\"M\"),MAX(J$2:J245)+1,\"\"))","v":213},{"$f":"IF($S246<>\"\",\"\",IF(AND($E246<=K$1,$B246=\"M\"),MAX(K$2:K245)+1,\"\"))","v":139},{"$f":"IF($S246<>\"\",\"\",IF(AND($E246<=L$1,$B246=\"M\"),MAX(L$2:L245)+1,\"\"))","v":""},{"$f":"IF($S246<>\"\",\"\",IF(AND($E246<=M$1,$B246=\"M\"),MAX(M$2:M245)+1,\"\"))","v":""},{"$f":"IF($S246<>\"\",\"\",IF(AND($E246<=N$1,$B246=\"F\"),MAX(N$2:N245)+1,\"\"))","v":""},{"$f":"IF($S246<>\"\",\"\",IF(AND($E246<=O$1,$B246=\"F\"),MAX(O$2:O245)+1,\"\"))","v":""},{"$f":"IF(AND($S246<>\"\",$S246<>\"No pot jugar individual\"),\"\",IF(AND($F246<=P$1,$B246=\"M\"),MAX(P$2:P245)+1,\"\"))","v":213},{"$f":"IF(AND($S246<>\"\",$S246<>\"No pot jugar individual\"),\"\",IF(AND($F246<=Q$1,$B246=\"M\"),MAX(Q$2:Q245)+1,\"\"))","v":""},{"$f":"IF($S246<>\"\",\"\",IF($F246<=R$1,MAX(R$2:R245)+1,\"\"))","v":""},"",7,0,0,0,"L","L","L","L","K","K","K","K"]
[7988,"M","NAVARRO Angel","ALE-1",2,1,"CASTELLDEFELS","CASTELLDEFELS",28,{"$f":"IF($S247<>\"\",\"\",IF(AND($E247<=J$1,$B247=\"M\"),MAX(J$2:J246)+1,\"\"))","v":214},{"$f":"IF($S247<>\"\",\"\",IF(AND($E247<=K$1,$B247=\"M\"),MAX(K$2:K246)+1,\"\"))","v":140},{"$f":"IF($S247<>\"\",\"\",IF(AND($E247<=L$1,$B247=\"M\"),MAX(L$2:L246)+1,\"\"))","v":58},{"$f":"IF($S247<>\"\",\"\",IF(AND($E247<=M$1,$B247=\"M\"),MAX(M$2:M246)+1,\"\"))","v":""},{"$f":"IF($S247<>\"\",\"\",IF(AND($E247<=N$1,$B247=\"F\"),MAX(N$2:N246)+1,\"\"))","v":""},{"$f":"IF($S247<>\"\",\"\",IF(AND($E247<=O$1,$B247=\"F\"),MAX(O$2:O246)+1,\"\"))","v":""},{"$f":"IF(AND($S247<>\"\",$S247<>\"No pot jugar individual\"),\"\",IF(AND($F247<=P$1,$B247=\"M\"),MAX(P$2:P246)+1,\"\"))","v":214},{"$f":"IF(AND($S247<>\"\",$S247<>\"No pot jugar individual\"),\"\",IF(AND($F247<=Q$1,$B247=\"M\"),MAX(Q$2:Q246)+1,\"\"))","v":58},{"$f":"IF($S247<>\"\",\"\",IF($F247<=R$1,MAX(R$2:R246)+1,\"\"))","v":""},"",7,1,0,0,"I","J","J","J","K","K","K","K",null,null,null,"BC"]
[8665,"F","VALERO Sol","ALE-1",2,0,"FALCONS","FALCONS",27.999999999999996,{"$f":"IF($S248<>\"\",\"\",IF(AND($E248<=J$1,$B248=\"M\"),MAX(J$2:J247)+1,\"\"))","v":""},{"$f":"IF($S248<>\"\",\"\",IF(AND($E248<=K$1,$B248=\"M\"),MAX(K$2:K247)+1,\"\"))","v":""},{"$f":"IF($S248<>\"\",\"\",IF(AND($E248<=L$1,$B248=\"M\"),MAX(L$2:L247)+1,\"\"))","v":""},{"$f":"IF($S248<>\"\",\"\",IF(AND($E248<=M$1,$B248=\"M\"),MAX(M$2:M247)+1,\"\"))","v":""},{"$f":"IF($S248<>\"\",\"\",IF(AND($E248<=N$1,$B248=\"F\"),MAX(N$2:N247)+1,\"\"))","v":32},{"$f":"IF($S248<>\"\",\"\",IF(AND($E248<=O$1,$B248=\"F\"),MAX(O$2:O247)+1,\"\"))","v":17},{"$f":"IF(AND($S248<>\"\",$S248<>\"No pot jugar individual\"),\"\",IF(AND($F248<=P$1,$B248=\"M\"),MAX(P$2:P247)+1,\"\"))","v":""},{"$f":"IF(AND($S248<>\"\",$S248<>\"No pot jugar individual\"),\"\",IF(AND($F248<=Q$1,$B248=\"M\"),MAX(Q$2:Q247)+1,\"\"))","v":""},{"$f":"IF($S248<>\"\",\"\",IF($F248<=R$1,MAX(R$2:R247)+1,\"\"))","v":32},"",7,2,0,0,"H","I","I","I","J","K","K","L",null,null,null,null,"BC",null,"BC"]
[10030,"M","NAVACERRADA Martí","ALE-1",2,1,"AMICS","AMICS",23.77,{"$f":"IF($S249<>\"\",\"\",IF(AND($E249<=J$1,$B249=\"M\"),MAX(J$2:J248)+1,\"\"))","v":215},{"$f":"IF($S249<>\"\",\"\",IF(AND($E249<=K$1,$B249=\"M\"),MAX(K$2:K248)+1,\"\"))","v":141},{"$f":"IF($S249<>\"\",\"\",IF(AND($E249<=L$1,$B249=\"M\"),MAX(L$2:L248)+1,\"\"))","v":59},{"$f":"IF($S249<>\"\",\"\",IF(AND($E249<=M$1,$B249=\"M\"),MAX(M$2:M248)+1,\"\"))","v":""},{"$f":"IF($S249<>\"\",\"\",IF(AND($E249<=N$1,$B249=\"F\"),MAX(N$2:N248)+1,\"\"))","v":""},{"$f":"IF($S249<>\"\",\"\",IF(AND($E249<=O$1,$B249=\"F\"),MAX(O$2:O248)+1,\"\"))","v":""},{"$f":"IF(AND($S249<>\"\",$S249<>\"No pot jugar individual\"),\"\",IF(AND($F249<=P$1,$B249=\"M\"),MAX(P$2:P248)+1,\"\"))","v":215},{"$f":"IF(AND($S249<>\"\",$S249<>\"No pot jugar individual\"),\"\",IF(AND($F249<=Q$1,$B249=\"M\"),MAX(Q$2:Q248)+1,\"\"))","v":59},{"$f":"IF($S249<>\"\",\"\",IF($F249<=R$1,MAX(R$2:R248)+1,\"\"))","v":""},"",7,1,0,0,"J","J","J","J","K","K","K","K",null,null,"BJ","BC","PI",null,"BJ"]
[11235,"M","FRINCU Danut Marian","JUV-1",4,2,"CTGALI","CTGALI",23.2,{"$f":"IF($S250<>\"\",\"\",IF(AND($E250<=J$1,$B250=\"M\"),MAX(J$2:J249)+1,\"\"))","v":216},{"$f":"IF($S250<>\"\",\"\",IF(AND($E250<=K$1,$B250=\"M\"),MAX(K$2:K249)+1,\"\"))","v":""},{"$f":"IF($S250<>\"\",\"\",IF(AND($E250<=L$1,$B250=\"M\"),MAX(L$2:L249)+1,\"\"))","v":""},{"$f":"IF($S250<>\"\",\"\",IF(AND($E250<=M$1,$B250=\"M\"),MAX(M$2:M249)+1,\"\"))","v":""},{"$f":"IF($S250<>\"\",\"\",IF(AND($E250<=N$1,$B250=\"F\"),MAX(N$2:N249)+1,\"\"))","v":""},{"$f":"IF($S250<>\"\",\"\",IF(AND($E250<=O$1,$B250=\"F\"),MAX(O$2:O249)+1,\"\"))","v":""},{"$f":"IF(AND($S250<>\"\",$S250<>\"No pot jugar individual\"),\"\",IF(AND($F250<=P$1,$B250=\"M\"),MAX(P$2:P249)+1,\"\"))","v":216},{"$f":"IF(AND($S250<>\"\",$S250<>\"No pot jugar individual\"),\"\",IF(AND($F250<=Q$1,$B250=\"M\"),MAX(Q$2:Q249)+1,\"\"))","v":""},{"$f":"IF($S250<>\"\",\"\",IF($F250<=R$1,MAX(R$2:R249)+1,\"\"))","v":""},"",7,3,0,0,"K","K","K","K","K","K","J","K",null,null,"BC",null,"BC",null,"BC"]
[10378,"M","CHAPÍN Joan","JUV-1",4,2,"EUROCLIMA BDN","EUROCLIMA BDN",21.93,{"$f":"IF($S251<>\"\",\"\",IF(AND($E251<=J$1,$B251=\"M\"),MAX(J$2:J250)+1,\"\"))","v":217},{"$f":"IF($S251<>\"\",\"\",IF(AND($E251<=K$1,$B251=\"M\"),MAX(K$2:K250)+1,\"\"))","v":""},{"$f":"IF($S251<>\"\",\"\",IF(AND($E251<=L$1,$B251=\"M\"),MAX(L$2:L250)+1,\"\"))","v":""},{"$f":"IF($S251<>\"\",\"\",IF(AND($E251<=M$1,$B251=\"M\"),MAX(M$2:M250)+1,\"\"))","v":""},{"$f":"IF($S251<>\"\",\"\",IF(AND($E251<=N$1,$B251=\"F\"),MAX(N$2:N250)+1,\"\"))","v":""},{"$f":"IF($S251<>\"\",\"\",IF(AND($E251<=O$1,$B251=\"F\"),MAX(O$2:O250)+1,\"\"))","v":""},{"$f":"IF(AND($S251<>\"\",$S251<>\"No pot jugar individual\"),\"\",IF(AND($F251<=P$1,$B251=\"M\"),MAX(P$2:P250)+1,\"\"))","v":217},{"$f":"IF(AND($S251<>\"\",$S251<>\"No pot jugar individual\"),\"\",IF(AND($F251<=Q$1,$B251=\"M\"),MAX(Q$2:Q250)+1,\"\"))","v":""},{"$f":"IF($S251<>\"\",\"\",IF($F251<=R$1,MAX(R$2:R250)+1,\"\"))","v":""},"",7,2,0,0,"J","K","L","L","L","L","K","K","BC","BC"]
[11191,"M","HERNANDEZ Jordi","BEN-2",1,1,"CTGALI","CTGALI",21.82,{"$f":"IF($S252<>\"\",\"\",IF(AND($E252<=J$1,$B252=\"M\"),MAX(J$2:J251)+1,\"\"))","v":218},{"$f":"IF($S252<>\"\",\"\",IF(AND($E252<=K$1,$B252=\"M\"),MAX(K$2:K251)+1,\"\"))","v":142},{"$f":"IF($S252<>\"\",\"\",IF(AND($E252<=L$1,$B252=\"M\"),MAX(L$2:L251)+1,\"\"))","v":60},{"$f":"IF($S252<>\"\",\"\",IF(AND($E252<=M$1,$B252=\"M\"),MAX(M$2:M251)+1,\"\"))","v":14},{"$f":"IF($S252<>\"\",\"\",IF(AND($E252<=N$1,$B252=\"F\"),MAX(N$2:N251)+1,\"\"))","v":""},{"$f":"IF($S252<>\"\",\"\",IF(AND($E252<=O$1,$B252=\"F\"),MAX(O$2:O251)+1,\"\"))","v":""},{"$f":"IF(AND($S252<>\"\",$S252<>\"No pot jugar individual\"),\"\",IF(AND($F252<=P$1,$B252=\"M\"),MAX(P$2:P251)+1,\"\"))","v":218},{"$f":"IF(AND($S252<>\"\",$S252<>\"No pot jugar individual\"),\"\",IF(AND($F252<=Q$1,$B252=\"M\"),MAX(Q$2:Q251)+1,\"\"))","v":60},{"$f":"IF($S252<>\"\",\"\",IF($F252<=R$1,MAX(R$2:R251)+1,\"\"))","v":""},"",7,1,0,0,"O","P","O","N","M","L","K","K","BC"]
[11385,"M","TURON Albert","INF-1",3,2,"STCUGAT","STCUGAT",21.53,{"$f":"IF($S253<>\"\",\"\",IF(AND($E253<=J$1,$B253=\"M\"),MAX(J$2:J252)+1,\"\"))","v":219},{"$f":"IF($S253<>\"\",\"\",IF(AND($E253<=K$1,$B253=\"M\"),MAX(K$2:K252)+1,\"\"))","v":143},{"$f":"IF($S253<>\"\",\"\",IF(AND($E253<=L$1,$B253=\"M\"),MAX(L$2:L252)+1,\"\"))","v":""},{"$f":"IF($S253<>\"\",\"\",IF(AND($E253<=M$1,$B253=\"M\"),MAX(M$2:M252)+1,\"\"))","v":""},{"$f":"IF($S253<>\"\",\"\",IF(AND($E253<=N$1,$B253=\"F\"),MAX(N$2:N252)+1,\"\"))","v":""},{"$f":"IF($S253<>\"\",\"\",IF(AND($E253<=O$1,$B253=\"F\"),MAX(O$2:O252)+1,\"\"))","v":""},{"$f":"IF(AND($S253<>\"\",$S253<>\"No pot jugar individual\"),\"\",IF(AND($F253<=P$1,$B253=\"M\"),MAX(P$2:P252)+1,\"\"))","v":219},{"$f":"IF(AND($S253<>\"\",$S253<>\"No pot jugar individual\"),\"\",IF(AND($F253<=Q$1,$B253=\"M\"),MAX(Q$2:Q252)+1,\"\"))","v":""},{"$f":"IF($S253<>\"\",\"\",IF($F253<=R$1,MAX(R$2:R252)+1,\"\"))","v":""},"",7,0,0,0,"M","L","M","L","L","K","K","K"]
[8151,"M","CALVETE Victor","INF-2",3,2,"R.ELISENDA","R.ELISENDA",21.450000000000003,{"$f":"IF($S254<>\"\",\"\",IF(AND($E254<=J$1,$B254=\"M\"),MAX(J$2:J253)+1,\"\"))","v":220},{"$f":"IF($S254<>\"\",\"\",IF(AND($E254<=K$1,$B254=\"M\"),MAX(K$2:K253)+1,\"\"))","v":144},{"$f":"IF($S254<>\"\",\"\",IF(AND($E254<=L$1,$B254=\"M\"),MAX(L$2:L253)+1,\"\"))","v":""},{"$f":"IF($S254<>\"\",\"\",IF(AND($E254<=M$1,$B254=\"M\"),MAX(M$2:M253)+1,\"\"))","v":""},{"$f":"IF($S254<>\"\",\"\",IF(AND($E254<=N$1,$B254=\"F\"),MAX(N$2:N253)+1,\"\"))","v":""},{"$f":"IF($S254<>\"\",\"\",IF(AND($E254<=O$1,$B254=\"F\"),MAX(O$2:O253)+1,\"\"))","v":""},{"$f":"IF(AND($S254<>\"\",$S254<>\"No pot jugar individual\"),\"\",IF(AND($F254<=P$1,$B254=\"M\"),MAX(P$2:P253)+1,\"\"))","v":220},{"$f":"IF(AND($S254<>\"\",$S254<>\"No pot jugar individual\"),\"\",IF(AND($F254<=Q$1,$B254=\"M\"),MAX(Q$2:Q253)+1,\"\"))","v":""},{"$f":"IF($S254<>\"\",\"\",IF($F254<=R$1,MAX(R$2:R253)+1,\"\"))","v":""},"",7,1,0,0,"J","K","L","L","M","L","K","K","BJ","BC",null,"BJ"]
[11305,"M","ESCOBAR David","BEN-2",1,1,"CASTELLDEFELS","CASTELLDEFELS",20.529999999999998,{"$f":"IF($S255<>\"\",\"\",IF(AND($E255<=J$1,$B255=\"M\"),MAX(J$2:J254)+1,\"\"))","v":221},{"$f":"IF($S255<>\"\",\"\",IF(AND($E255<=K$1,$B255=\"M\"),MAX(K$2:K254)+1,\"\"))","v":145},{"$f":"IF($S255<>\"\",\"\",IF(AND($E255<=L$1,$B255=\"M\"),MAX(L$2:L254)+1,\"\"))","v":61},{"$f":"IF($S255<>\"\",\"\",IF(AND($E255<=M$1,$B255=\"M\"),MAX(M$2:M254)+1,\"\"))","v":15},{"$f":"IF($S255<>\"\",\"\",IF(AND($E255<=N$1,$B255=\"F\"),MAX(N$2:N254)+1,\"\"))","v":""},{"$f":"IF($S255<>\"\",\"\",IF(AND($E255<=O$1,$B255=\"F\"),MAX(O$2:O254)+1,\"\"))","v":""},{"$f":"IF(AND($S255<>\"\",$S255<>\"No pot jugar individual\"),\"\",IF(AND($F255<=P$1,$B255=\"M\"),MAX(P$2:P254)+1,\"\"))","v":221},{"$f":"IF(AND($S255<>\"\",$S255<>\"No pot jugar individual\"),\"\",IF(AND($F255<=Q$1,$B255=\"M\"),MAX(Q$2:Q254)+1,\"\"))","v":61},{"$f":"IF($S255<>\"\",\"\",IF($F255<=R$1,MAX(R$2:R254)+1,\"\"))","v":""},"",7,0,0,0,"O","N","N","M","L","L","K","K"]
[11358,"M","GOMEZ Ruben","INF-1",3,2,"VILCAMI","VILCAMI",20.45,{"$f":"IF($S256<>\"\",\"\",IF(AND($E256<=J$1,$B256=\"M\"),MAX(J$2:J255)+1,\"\"))","v":222},{"$f":"IF($S256<>\"\",\"\",IF(AND($E256<=K$1,$B256=\"M\"),MAX(K$2:K255)+1,\"\"))","v":146},{"$f":"IF($S256<>\"\",\"\",IF(AND($E256<=L$1,$B256=\"M\"),MAX(L$2:L255)+1,\"\"))","v":""},{"$f":"IF($S256<>\"\",\"\",IF(AND($E256<=M$1,$B256=\"M\"),MAX(M$2:M255)+1,\"\"))","v":""},{"$f":"IF($S256<>\"\",\"\",IF(AND($E256<=N$1,$B256=\"F\"),MAX(N$2:N255)+1,\"\"))","v":""},{"$f":"IF($S256<>\"\",\"\",IF(AND($E256<=O$1,$B256=\"F\"),MAX(O$2:O255)+1,\"\"))","v":""},{"$f":"IF(AND($S256<>\"\",$S256<>\"No pot jugar individual\"),\"\",IF(AND($F256<=P$1,$B256=\"M\"),MAX(P$2:P255)+1,\"\"))","v":222},{"$f":"IF(AND($S256<>\"\",$S256<>\"No pot jugar individual\"),\"\",IF(AND($F256<=Q$1,$B256=\"M\"),MAX(Q$2:Q255)+1,\"\"))","v":""},{"$f":"IF($S256<>\"\",\"\",IF($F256<=R$1,MAX(R$2:R255)+1,\"\"))","v":""},"",7,0,0,0,"M","N","M","M","L","L","K","J"]
[10656,"M","RUIZ Adrian","ALE-2",2,1,"ESPARREGU.","ESPARREGU.",19.119999999999997,{"$f":"IF($S257<>\"\",\"\",IF(AND($E257<=J$1,$B257=\"M\"),MAX(J$2:J256)+1,\"\"))","v":223},{"$f":"IF($S257<>\"\",\"\",IF(AND($E257<=K$1,$B257=\"M\"),MAX(K$2:K256)+1,\"\"))","v":147},{"$f":"IF($S257<>\"\",\"\",IF(AND($E257<=L$1,$B257=\"M\"),MAX(L$2:L256)+1,\"\"))","v":62},{"$f":"IF($S257<>\"\",\"\",IF(AND($E257<=M$1,$B257=\"M\"),MAX(M$2:M256)+1,\"\"))","v":""},{"$f":"IF($S257<>\"\",\"\",IF(AND($E257<=N$1,$B257=\"F\"),MAX(N$2:N256)+1,\"\"))","v":""},{"$f":"IF($S257<>\"\",\"\",IF(AND($E257<=O$1,$B257=\"F\"),MAX(O$2:O256)+1,\"\"))","v":""},{"$f":"IF(AND($S257<>\"\",$S257<>\"No pot jugar individual\"),\"\",IF(AND($F257<=P$1,$B257=\"M\"),MAX(P$2:P256)+1,\"\"))","v":223},{"$f":"IF(AND($S257<>\"\",$S257<>\"No pot jugar individual\"),\"\",IF(AND($F257<=Q$1,$B257=\"M\"),MAX(Q$2:Q256)+1,\"\"))","v":62},{"$f":"IF($S257<>\"\",\"\",IF($F257<=R$1,MAX(R$2:R256)+1,\"\"))","v":""},"",7,1,0,0,"N","N","M","M","N","M","L","K",null,null,null,"BC"]
[11406,"M","SOLÀ Pol","ALE-2",2,1,"ICELAND ELS 8","ICELAND ELS 8",18.03,{"$f":"IF($S258<>\"\",\"\",IF(AND($E258<=J$1,$B258=\"M\"),MAX(J$2:J257)+1,\"\"))","v":224},{"$f":"IF($S258<>\"\",\"\",IF(AND($E258<=K$1,$B258=\"M\"),MAX(K$2:K257)+1,\"\"))","v":148},{"$f":"IF($S258<>\"\",\"\",IF(AND($E258<=L$1,$B258=\"M\"),MAX(L$2:L257)+1,\"\"))","v":63},{"$f":"IF($S258<>\"\",\"\",IF(AND($E258<=M$1,$B258=\"M\"),MAX(M$2:M257)+1,\"\"))","v":""},{"$f":"IF($S258<>\"\",\"\",IF(AND($E258<=N$1,$B258=\"F\"),MAX(N$2:N257)+1,\"\"))","v":""},{"$f":"IF($S258<>\"\",\"\",IF(AND($E258<=O$1,$B258=\"F\"),MAX(O$2:O257)+1,\"\"))","v":""},{"$f":"IF(AND($S258<>\"\",$S258<>\"No pot jugar individual\"),\"\",IF(AND($F258<=P$1,$B258=\"M\"),MAX(P$2:P257)+1,\"\"))","v":224},{"$f":"IF(AND($S258<>\"\",$S258<>\"No pot jugar individual\"),\"\",IF(AND($F258<=Q$1,$B258=\"M\"),MAX(Q$2:Q257)+1,\"\"))","v":63},{"$f":"IF($S258<>\"\",\"\",IF($F258<=R$1,MAX(R$2:R257)+1,\"\"))","v":""},"",6,0,0,0,null,"O","N","M","M","L","K","K"]
[11389,"M","VENDRELL Pau","ALE-1",{"$f":"IF(LEFT(D259,1)=\"P\",1,IF(LEFT(D259,1)=\"B\",1,IF(LEFT(D259,1)=\"A\",2,IF(LEFT(D259,1)=\"I\",3,4))))","v":2},{"$f":"IF(B259=\"F\",0,IF(LEFT(D259,1)=\"P\",1,IF(LEFT(D259,1)=\"B\",1,IF(LEFT(D259,1)=\"A\",1,IF(LEFT(D259,1)=\"I\",2,2)))))","v":1},"POBLENOU","POBLENOU",17.399999999999999,{"$f":"IF($S259<>\"\",\"\",IF(AND($E259<=J$1,$B259=\"M\"),MAX(J$2:J258)+1,\"\"))","v":225},{"$f":"IF($S259<>\"\",\"\",IF(AND($E259<=K$1,$B259=\"M\"),MAX(K$2:K258)+1,\"\"))","v":149},{"$f":"IF($S259<>\"\",\"\",IF(AND($E259<=L$1,$B259=\"M\"),MAX(L$2:L258)+1,\"\"))","v":64},{"$f":"IF($S259<>\"\",\"\",IF(AND($E259<=M$1,$B259=\"M\"),MAX(M$2:M258)+1,\"\"))","v":""},{"$f":"IF($S259<>\"\",\"\",IF(AND($E259<=N$1,$B259=\"F\"),MAX(N$2:N258)+1,\"\"))","v":""},{"$f":"IF($S259<>\"\",\"\",IF(AND($E259<=O$1,$B259=\"F\"),MAX(O$2:O258)+1,\"\"))","v":""},{"$f":"IF(AND($S259<>\"\",$S259<>\"No pot jugar individual\"),\"\",IF(AND($F259<=P$1,$B259=\"M\"),MAX(P$2:P258)+1,\"\"))","v":225},{"$f":"IF(AND($S259<>\"\",$S259<>\"No pot jugar individual\"),\"\",IF(AND($F259<=Q$1,$B259=\"M\"),MAX(Q$2:Q258)+1,\"\"))","v":64},{"$f":"IF($S259<>\"\",\"\",IF($F259<=R$1,MAX(R$2:R258)+1,\"\"))","v":""},{"$f":"IF(1=1,\"\",IF(W259<>0,\"No pot jugar\",IF(OR(AE259=\"Y\",AE259=\"Z\",G259=\"INDEPEN\",G259=\"R.ELISENDA\"),\"No pot jugar\",IF(T259-U259-V259-W259=0,IF(V259<>0,\"No pot jugar\",IF(AND(B259=\"M\",OR(G259=\"INDEPEN\",G259=\"R.ELISENDA\")),\"No pot jugar individual\",\"\")),IF(AND(B259=\"M\",OR(G259=\"INDEPEN\",G259=\"R.ELISENDA\")),\"No pot jugar individual\",\"\")))))","v":""},{"$f":"7-COUNTBLANK(X259:AD259)","v":7},0,1,0,"N","M","N","O","N","M","L","K",null,null,"BN"]
[9226,"M","GASSET Guillem","INF-2",3,2,"R.ELISENDA","R.ELISENDA",17.059999999999999,{"$f":"IF($S260<>\"\",\"\",IF(AND($E260<=J$1,$B260=\"M\"),MAX(J$2:J259)+1,\"\"))","v":226},{"$f":"IF($S260<>\"\",\"\",IF(AND($E260<=K$1,$B260=\"M\"),MAX(K$2:K259)+1,\"\"))","v":150},{"$f":"IF($S260<>\"\",\"\",IF(AND($E260<=L$1,$B260=\"M\"),MAX(L$2:L259)+1,\"\"))","v":""},{"$f":"IF($S260<>\"\",\"\",IF(AND($E260<=M$1,$B260=\"M\"),MAX(M$2:M259)+1,\"\"))","v":""},{"$f":"IF($S260<>\"\",\"\",IF(AND($E260<=N$1,$B260=\"F\"),MAX(N$2:N259)+1,\"\"))","v":""},{"$f":"IF($S260<>\"\",\"\",IF(AND($E260<=O$1,$B260=\"F\"),MAX(O$2:O259)+1,\"\"))","v":""},{"$f":"IF(AND($S260<>\"\",$S260<>\"No pot jugar individual\"),\"\",IF(AND($F260<=P$1,$B260=\"M\"),MAX(P$2:P259)+1,\"\"))","v":226},{"$f":"IF(AND($S260<>\"\",$S260<>\"No pot jugar individual\"),\"\",IF(AND($F260<=Q$1,$B260=\"M\"),MAX(Q$2:Q259)+1,\"\"))","v":""},{"$f":"IF($S260<>\"\",\"\",IF($F260<=R$1,MAX(R$2:R259)+1,\"\"))","v":""},"",7,1,0,0,"L","L","L","M","L","L","L","K",null,null,"PI",null,null,"BC"]
[11377,"M","MUÑOZ Albert","JUV-1",4,2,"ESPARREGU.","ESPARREGU.",16.740000000000002,{"$f":"IF($S261<>\"\",\"\",IF(AND($E261<=J$1,$B261=\"M\"),MAX(J$2:J260)+1,\"\"))","v":227},{"$f":"IF($S261<>\"\",\"\",IF(AND($E261<=K$1,$B261=\"M\"),MAX(K$2:K260)+1,\"\"))","v":""},{"$f":"IF($S261<>\"\",\"\",IF(AND($E261<=L$1,$B261=\"M\"),MAX(L$2:L260)+1,\"\"))","v":""},{"$f":"IF($S261<>\"\",\"\",IF(AND($E261<=M$1,$B261=\"M\"),MAX(M$2:M260)+1,\"\"))","v":""},{"$f":"IF($S261<>\"\",\"\",IF(AND($E261<=N$1,$B261=\"F\"),MAX(N$2:N260)+1,\"\"))","v":""},{"$f":"IF($S261<>\"\",\"\",IF(AND($E261<=O$1,$B261=\"F\"),MAX(O$2:O260)+1,\"\"))","v":""},{"$f":"IF(AND($S261<>\"\",$S261<>\"No pot jugar individual\"),\"\",IF(AND($F261<=P$1,$B261=\"M\"),MAX(P$2:P260)+1,\"\"))","v":227},{"$f":"IF(AND($S261<>\"\",$S261<>\"No pot jugar individual\"),\"\",IF(AND($F261<=Q$1,$B261=\"M\"),MAX(Q$2:Q260)+1,\"\"))","v":""},{"$f":"IF($S261<>\"\",\"\",IF($F261<=R$1,MAX(R$2:R260)+1,\"\"))","v":""},"",7,0,0,0,"K","L","M","M","M","L","L","K"]
[5881,"M","GIL Eloi","INF-1",3,2,"LLUÏSOS","LLUÏSOS",16.5,{"$f":"IF($S262<>\"\",\"\",IF(AND($E262<=J$1,$B262=\"M\"),MAX(J$2:J261)+1,\"\"))","v":228},{"$f":"IF($S262<>\"\",\"\",IF(AND($E262<=K$1,$B262=\"M\"),MAX(K$2:K261)+1,\"\"))","v":151},{"$f":"IF($S262<>\"\",\"\",IF(AND($E262<=L$1,$B262=\"M\"),MAX(L$2:L261)+1,\"\"))","v":""},{"$f":"IF($S262<>\"\",\"\",IF(AND($E262<=M$1,$B262=\"M\"),MAX(M$2:M261)+1,\"\"))","v":""},{"$f":"IF($S262<>\"\",\"\",IF(AND($E262<=N$1,$B262=\"F\"),MAX(N$2:N261)+1,\"\"))","v":""},{"$f":"IF($S262<>\"\",\"\",IF(AND($E262<=O$1,$B262=\"F\"),MAX(O$2:O261)+1,\"\"))","v":""},{"$f":"IF(AND($S262<>\"\",$S262<>\"No pot jugar individual\"),\"\",IF(AND($F262<=P$1,$B262=\"M\"),MAX(P$2:P261)+1,\"\"))","v":228},{"$f":"IF(AND($S262<>\"\",$S262<>\"No pot jugar individual\"),\"\",IF(AND($F262<=Q$1,$B262=\"M\"),MAX(Q$2:Q261)+1,\"\"))","v":""},{"$f":"IF($S262<>\"\",\"\",IF($F262<=R$1,MAX(R$2:R261)+1,\"\"))","v":""},"",7,2,0,0,"J","J","K","K","K","K","K","K",null,"BC","BC"]
[10934,"M","PRIEGO Hristo","BEN-2",1,1,"CASTELLDEFELS","CASTELLDEFELS",16.499999999999996,{"$f":"IF($S263<>\"\",\"\",IF(AND($E263<=J$1,$B263=\"M\"),MAX(J$2:J262)+1,\"\"))","v":229},{"$f":"IF($S263<>\"\",\"\",IF(AND($E263<=K$1,$B263=\"M\"),MAX(K$2:K262)+1,\"\"))","v":152},{"$f":"IF($S263<>\"\",\"\",IF(AND($E263<=L$1,$B263=\"M\"),MAX(L$2:L262)+1,\"\"))","v":65},{"$f":"IF($S263<>\"\",\"\",IF(AND($E263<=M$1,$B263=\"M\"),MAX(M$2:M262)+1,\"\"))","v":16},{"$f":"IF($S263<>\"\",\"\",IF(AND($E263<=N$1,$B263=\"F\"),MAX(N$2:N262)+1,\"\"))","v":""},{"$f":"IF($S263<>\"\",\"\",IF(AND($E263<=O$1,$B263=\"F\"),MAX(O$2:O262)+1,\"\"))","v":""},{"$f":"IF(AND($S263<>\"\",$S263<>\"No pot jugar individual\"),\"\",IF(AND($F263<=P$1,$B263=\"M\"),MAX(P$2:P262)+1,\"\"))","v":229},{"$f":"IF(AND($S263<>\"\",$S263<>\"No pot jugar individual\"),\"\",IF(AND($F263<=Q$1,$B263=\"M\"),MAX(Q$2:Q262)+1,\"\"))","v":65},{"$f":"IF($S263<>\"\",\"\",IF($F263<=R$1,MAX(R$2:R262)+1,\"\"))","v":""},"",7,{"$f":"COUNTIF($AF263:$AL263,U$2)","v":1},0,0,"J","J","K","K","K","K","K","K",null,"BC"]
[11034,"M","HUGAS Leo","INF-1",3,2,"R.ELISENDA","R.ELISENDA",16.48,{"$f":"IF($S264<>\"\",\"\",IF(AND($E264<=J$1,$B264=\"M\"),MAX(J$2:J263)+1,\"\"))","v":230},{"$f":"IF($S264<>\"\",\"\",IF(AND($E264<=K$1,$B264=\"M\"),MAX(K$2:K263)+1,\"\"))","v":153},{"$f":"IF($S264<>\"\",\"\",IF(AND($E264<=L$1,$B264=\"M\"),MAX(L$2:L263)+1,\"\"))","v":""},{"$f":"IF($S264<>\"\",\"\",IF(AND($E264<=M$1,$B264=\"M\"),MAX(M$2:M263)+1,\"\"))","v":""},{"$f":"IF($S264<>\"\",\"\",IF(AND($E264<=N$1,$B264=\"F\"),MAX(N$2:N263)+1,\"\"))","v":""},{"$f":"IF($S264<>\"\",\"\",IF(AND($E264<=O$1,$B264=\"F\"),MAX(O$2:O263)+1,\"\"))","v":""},{"$f":"IF(AND($S264<>\"\",$S264<>\"No pot jugar individual\"),\"\",IF(AND($F264<=P$1,$B264=\"M\"),MAX(P$2:P263)+1,\"\"))","v":230},{"$f":"IF(AND($S264<>\"\",$S264<>\"No pot jugar individual\"),\"\",IF(AND($F264<=Q$1,$B264=\"M\"),MAX(Q$2:Q263)+1,\"\"))","v":""},{"$f":"IF($S264<>\"\",\"\",IF($F264<=R$1,MAX(R$2:R263)+1,\"\"))","v":""},"",6,0,0,0,null,"O","O","N","M","L","K","K"]
[10216,"M","RODRÍGUEZ Toni","INF-1",3,2,"EUROCLIMA BDN","EUROCLIMA BDN",16.23,{"$f":"IF($S265<>\"\",\"\",IF(AND($E265<=J$1,$B265=\"M\"),MAX(J$2:J264)+1,\"\"))","v":231},{"$f":"IF($S265<>\"\",\"\",IF(AND($E265<=K$1,$B265=\"M\"),MAX(K$2:K264)+1,\"\"))","v":154},{"$f":"IF($S265<>\"\",\"\",IF(AND($E265<=L$1,$B265=\"M\"),MAX(L$2:L264)+1,\"\"))","v":""},{"$f":"IF($S265<>\"\",\"\",IF(AND($E265<=M$1,$B265=\"M\"),MAX(M$2:M264)+1,\"\"))","v":""},{"$f":"IF($S265<>\"\",\"\",IF(AND($E265<=N$1,$B265=\"F\"),MAX(N$2:N264)+1,\"\"))","v":""},{"$f":"IF($S265<>\"\",\"\",IF(AND($E265<=O$1,$B265=\"F\"),MAX(O$2:O264)+1,\"\"))","v":""},{"$f":"IF(AND($S265<>\"\",$S265<>\"No pot jugar individual\"),\"\",IF(AND($F265<=P$1,$B265=\"M\"),MAX(P$2:P264)+1,\"\"))","v":231},{"$f":"IF(AND($S265<>\"\",$S265<>\"No pot jugar individual\"),\"\",IF(AND($F265<=Q$1,$B265=\"M\"),MAX(Q$2:Q264)+1,\"\"))","v":""},{"$f":"IF($S265<>\"\",\"\",IF($F265<=R$1,MAX(R$2:R264)+1,\"\"))","v":""},"",7,0,1,0,"H","I","J","K","K","K","L","L",null,null,"BN"]
[5870,"M","BAU Adrià","INF-1",3,2,"VIC","VIC",15.849999999999998,{"$f":"IF($S266<>\"\",\"\",IF(AND($E266<=J$1,$B266=\"M\"),MAX(J$2:J265)+1,\"\"))","v":232},{"$f":"IF($S266<>\"\",\"\",IF(AND($E266<=K$1,$B266=\"M\"),MAX(K$2:K265)+1,\"\"))","v":155},{"$f":"IF($S266<>\"\",\"\",IF(AND($E266<=L$1,$B266=\"M\"),MAX(L$2:L265)+1,\"\"))","v":""},{"$f":"IF($S266<>\"\",\"\",IF(AND($E266<=M$1,$B266=\"M\"),MAX(M$2:M265)+1,\"\"))","v":""},{"$f":"IF($S266<>\"\",\"\",IF(AND($E266<=N$1,$B266=\"F\"),MAX(N$2:N265)+1,\"\"))","v":""},{"$f":"IF($S266<>\"\",\"\",IF(AND($E266<=O$1,$B266=\"F\"),MAX(O$2:O265)+1,\"\"))","v":""},{"$f":"IF(AND($S266<>\"\",$S266<>\"No pot jugar individual\"),\"\",IF(AND($F266<=P$1,$B266=\"M\"),MAX(P$2:P265)+1,\"\"))","v":232},{"$f":"IF(AND($S266<>\"\",$S266<>\"No pot jugar individual\"),\"\",IF(AND($F266<=Q$1,$B266=\"M\"),MAX(Q$2:Q265)+1,\"\"))","v":""},{"$f":"IF($S266<>\"\",\"\",IF($F266<=R$1,MAX(R$2:R265)+1,\"\"))","v":""},"",7,0,0,0,"M","M","M","L","L","L","K","K"]
[10935,"M","GARCIA Marius","BEN-2",1,1,"CASTELLDEFELS","CASTELLDEFELS",15.669999999999998,{"$f":"IF($S267<>\"\",\"\",IF(AND($E267<=J$1,$B267=\"M\"),MAX(J$2:J266)+1,\"\"))","v":233},{"$f":"IF($S267<>\"\",\"\",IF(AND($E267<=K$1,$B267=\"M\"),MAX(K$2:K266)+1,\"\"))","v":156},{"$f":"IF($S267<>\"\",\"\",IF(AND($E267<=L$1,$B267=\"M\"),MAX(L$2:L266)+1,\"\"))","v":66},{"$f":"IF($S267<>\"\",\"\",IF(AND($E267<=M$1,$B267=\"M\"),MAX(M$2:M266)+1,\"\"))","v":17},{"$f":"IF($S267<>\"\",\"\",IF(AND($E267<=N$1,$B267=\"F\"),MAX(N$2:N266)+1,\"\"))","v":""},{"$f":"IF($S267<>\"\",\"\",IF(AND($E267<=O$1,$B267=\"F\"),MAX(O$2:O266)+1,\"\"))","v":""},{"$f":"IF(AND($S267<>\"\",$S267<>\"No pot jugar individual\"),\"\",IF(AND($F267<=P$1,$B267=\"M\"),MAX(P$2:P266)+1,\"\"))","v":233},{"$f":"IF(AND($S267<>\"\",$S267<>\"No pot jugar individual\"),\"\",IF(AND($F267<=Q$1,$B267=\"M\"),MAX(Q$2:Q266)+1,\"\"))","v":66},{"$f":"IF($S267<>\"\",\"\",IF($F267<=R$1,MAX(R$2:R266)+1,\"\"))","v":""},"",7,1,0,0,"K","K","K","L","L","L","K","L",null,null,"BC"]
[10889,"M","CARRIÓ Jan","ALE-2",2,1,"LLUÏSOS","LLUÏSOS",15.42,{"$f":"IF($S268<>\"\",\"\",IF(AND($E268<=J$1,$B268=\"M\"),MAX(J$2:J267)+1,\"\"))","v":234},{"$f":"IF($S268<>\"\",\"\",IF(AND($E268<=K$1,$B268=\"M\"),MAX(K$2:K267)+1,\"\"))","v":157},{"$f":"IF($S268<>\"\",\"\",IF(AND($E268<=L$1,$B268=\"M\"),MAX(L$2:L267)+1,\"\"))","v":67},{"$f":"IF($S268<>\"\",\"\",IF(AND($E268<=M$1,$B268=\"M\"),MAX(M$2:M267)+1,\"\"))","v":""},{"$f":"IF($S268<>\"\",\"\",IF(AND($E268<=N$1,$B268=\"F\"),MAX(N$2:N267)+1,\"\"))","v":""},{"$f":"IF($S268<>\"\",\"\",IF(AND($E268<=O$1,$B268=\"F\"),MAX(O$2:O267)+1,\"\"))","v":""},{"$f":"IF(AND($S268<>\"\",$S268<>\"No pot jugar individual\"),\"\",IF(AND($F268<=P$1,$B268=\"M\"),MAX(P$2:P267)+1,\"\"))","v":234},{"$f":"IF(AND($S268<>\"\",$S268<>\"No pot jugar individual\"),\"\",IF(AND($F268<=Q$1,$B268=\"M\"),MAX(Q$2:Q267)+1,\"\"))","v":67},{"$f":"IF($S268<>\"\",\"\",IF($F268<=R$1,MAX(R$2:R267)+1,\"\"))","v":""},"",7,0,0,0,"M","L","L","M","L","L","L","K",null,null,null,null,null,"BJ"]
[11289,"M","ROCA Aniol","ALE-1",2,1,"CALELLA","CALELLA",15.25,{"$f":"IF($S269<>\"\",\"\",IF(AND($E269<=J$1,$B269=\"M\"),MAX(J$2:J268)+1,\"\"))","v":235},{"$f":"IF($S269<>\"\",\"\",IF(AND($E269<=K$1,$B269=\"M\"),MAX(K$2:K268)+1,\"\"))","v":158},{"$f":"IF($S269<>\"\",\"\",IF(AND($E269<=L$1,$B269=\"M\"),MAX(L$2:L268)+1,\"\"))","v":68},{"$f":"IF($S269<>\"\",\"\",IF(AND($E269<=M$1,$B269=\"M\"),MAX(M$2:M268)+1,\"\"))","v":""},{"$f":"IF($S269<>\"\",\"\",IF(AND($E269<=N$1,$B269=\"F\"),MAX(N$2:N268)+1,\"\"))","v":""},{"$f":"IF($S269<>\"\",\"\",IF(AND($E269<=O$1,$B269=\"F\"),MAX(O$2:O268)+1,\"\"))","v":""},{"$f":"IF(AND($S269<>\"\",$S269<>\"No pot jugar individual\"),\"\",IF(AND($F269<=P$1,$B269=\"M\"),MAX(P$2:P268)+1,\"\"))","v":235},{"$f":"IF(AND($S269<>\"\",$S269<>\"No pot jugar individual\"),\"\",IF(AND($F269<=Q$1,$B269=\"M\"),MAX(Q$2:Q268)+1,\"\"))","v":68},{"$f":"IF($S269<>\"\",\"\",IF($F269<=R$1,MAX(R$2:R268)+1,\"\"))","v":""},"",7,1,0,0,"N","N","M","M","L","M","L","L",null,null,null,null,"BC"]
[11303,"M","PARADIS Ivan","INF-2",3,2,"CASTELLDEFELS","CASTELLDEFELS",15.16,{"$f":"IF($S270<>\"\",\"\",IF(AND($E270<=J$1,$B270=\"M\"),MAX(J$2:J269)+1,\"\"))","v":236},{"$f":"IF($S270<>\"\",\"\",IF(AND($E270<=K$1,$B270=\"M\"),MAX(K$2:K269)+1,\"\"))","v":159},{"$f":"IF($S270<>\"\",\"\",IF(AND($E270<=L$1,$B270=\"M\"),MAX(L$2:L269)+1,\"\"))","v":""},{"$f":"IF($S270<>\"\",\"\",IF(AND($E270<=M$1,$B270=\"M\"),MAX(M$2:M269)+1,\"\"))","v":""},{"$f":"IF($S270<>\"\",\"\",IF(AND($E270<=N$1,$B270=\"F\"),MAX(N$2:N269)+1,\"\"))","v":""},{"$f":"IF($S270<>\"\",\"\",IF(AND($E270<=O$1,$B270=\"F\"),MAX(O$2:O269)+1,\"\"))","v":""},{"$f":"IF(AND($S270<>\"\",$S270<>\"No pot jugar individual\"),\"\",IF(AND($F270<=P$1,$B270=\"M\"),MAX(P$2:P269)+1,\"\"))","v":236},{"$f":"IF(AND($S270<>\"\",$S270<>\"No pot jugar individual\"),\"\",IF(AND($F270<=Q$1,$B270=\"M\"),MAX(Q$2:Q269)+1,\"\"))","v":""},{"$f":"IF($S270<>\"\",\"\",IF($F270<=R$1,MAX(R$2:R269)+1,\"\"))","v":""},"",7,1,0,0,"L","L","M","M","M","M","L","K",null,"BC"]
[10266,"M","VILLAR Marcos","JUV-1",4,2,"VILCAMI","VILCAMI",14.9,{"$f":"IF($S271<>\"\",\"\",IF(AND($E271<=J$1,$B271=\"M\"),MAX(J$2:J270)+1,\"\"))","v":237},{"$f":"IF($S271<>\"\",\"\",IF(AND($E271<=K$1,$B271=\"M\"),MAX(K$2:K270)+1,\"\"))","v":""},{"$f":"IF($S271<>\"\",\"\",IF(AND($E271<=L$1,$B271=\"M\"),MAX(L$2:L270)+1,\"\"))","v":""},{"$f":"IF($S271<>\"\",\"\",IF(AND($E271<=M$1,$B271=\"M\"),MAX(M$2:M270)+1,\"\"))","v":""},{"$f":"IF($S271<>\"\",\"\",IF(AND($E271<=N$1,$B271=\"F\"),MAX(N$2:N270)+1,\"\"))","v":""},{"$f":"IF($S271<>\"\",\"\",IF(AND($E271<=O$1,$B271=\"F\"),MAX(O$2:O270)+1,\"\"))","v":""},{"$f":"IF(AND($S271<>\"\",$S271<>\"No pot jugar individual\"),\"\",IF(AND($F271<=P$1,$B271=\"M\"),MAX(P$2:P270)+1,\"\"))","v":237},{"$f":"IF(AND($S271<>\"\",$S271<>\"No pot jugar individual\"),\"\",IF(AND($F271<=Q$1,$B271=\"M\"),MAX(Q$2:Q270)+1,\"\"))","v":""},{"$f":"IF($S271<>\"\",\"\",IF($F271<=R$1,MAX(R$2:R270)+1,\"\"))","v":""},"",6,0,1,0,null,"O","N","M","M","L","M","L",null,null,null,null,null,"BN"]
[8679,"M","CERVANTES Joel","BEN-1",1,1,"CALELLA","CALELLA",14.46,{"$f":"IF($S272<>\"\",\"\",IF(AND($E272<=J$1,$B272=\"M\"),MAX(J$2:J271)+1,\"\"))","v":238},{"$f":"IF($S272<>\"\",\"\",IF(AND($E272<=K$1,$B272=\"M\"),MAX(K$2:K271)+1,\"\"))","v":160},{"$f":"IF($S272<>\"\",\"\",IF(AND($E272<=L$1,$B272=\"M\"),MAX(L$2:L271)+1,\"\"))","v":69},{"$f":"IF($S272<>\"\",\"\",IF(AND($E272<=M$1,$B272=\"M\"),MAX(M$2:M271)+1,\"\"))","v":18},{"$f":"IF($S272<>\"\",\"\",IF(AND($E272<=N$1,$B272=\"F\"),MAX(N$2:N271)+1,\"\"))","v":""},{"$f":"IF($S272<>\"\",\"\",IF(AND($E272<=O$1,$B272=\"F\"),MAX(O$2:O271)+1,\"\"))","v":""},{"$f":"IF(AND($S272<>\"\",$S272<>\"No pot jugar individual\"),\"\",IF(AND($F272<=P$1,$B272=\"M\"),MAX(P$2:P271)+1,\"\"))","v":238},{"$f":"IF(AND($S272<>\"\",$S272<>\"No pot jugar individual\"),\"\",IF(AND($F272<=Q$1,$B272=\"M\"),MAX(Q$2:Q271)+1,\"\"))","v":69},{"$f":"IF($S272<>\"\",\"\",IF($F272<=R$1,MAX(R$2:R271)+1,\"\"))","v":""},"",7,1,0,0,"L","M","M","L","L","L","K","L",null,null,null,null,null,null,"BC"]
[10630,"M","DALMAU Adrià","INF-2",3,2,"EUROCLIMA BDN","EUROCLIMA BDN",13.12,{"$f":"IF($S273<>\"\",\"\",IF(AND($E273<=J$1,$B273=\"M\"),MAX(J$2:J272)+1,\"\"))","v":239},{"$f":"IF($S273<>\"\",\"\",IF(AND($E273<=K$1,$B273=\"M\"),MAX(K$2:K272)+1,\"\"))","v":161},{"$f":"IF($S273<>\"\",\"\",IF(AND($E273<=L$1,$B273=\"M\"),MAX(L$2:L272)+1,\"\"))","v":""},{"$f":"IF($S273<>\"\",\"\",IF(AND($E273<=M$1,$B273=\"M\"),MAX(M$2:M272)+1,\"\"))","v":""},{"$f":"IF($S273<>\"\",\"\",IF(AND($E273<=N$1,$B273=\"F\"),MAX(N$2:N272)+1,\"\"))","v":""},{"$f":"IF($S273<>\"\",\"\",IF(AND($E273<=O$1,$B273=\"F\"),MAX(O$2:O272)+1,\"\"))","v":""},{"$f":"IF(AND($S273<>\"\",$S273<>\"No pot jugar individual\"),\"\",IF(AND($F273<=P$1,$B273=\"M\"),MAX(P$2:P272)+1,\"\"))","v":239},{"$f":"IF(AND($S273<>\"\",$S273<>\"No pot jugar individual\"),\"\",IF(AND($F273<=Q$1,$B273=\"M\"),MAX(Q$2:Q272)+1,\"\"))","v":""},{"$f":"IF($S273<>\"\",\"\",IF($F273<=R$1,MAX(R$2:R272)+1,\"\"))","v":""},"",7,1,0,0,"M","M","M","L","L","L","K","L",null,null,null,null,null,null,"BC"]
[5896,"M","AMETLLER Adria","BEN-2",1,1,"ATEN82","ATEN82",12.75,{"$f":"IF($S274<>\"\",\"\",IF(AND($E274<=J$1,$B274=\"M\"),MAX(J$2:J273)+1,\"\"))","v":240},{"$f":"IF($S274<>\"\",\"\",IF(AND($E274<=K$1,$B274=\"M\"),MAX(K$2:K273)+1,\"\"))","v":162},{"$f":"IF($S274<>\"\",\"\",IF(AND($E274<=L$1,$B274=\"M\"),MAX(L$2:L273)+1,\"\"))","v":70},{"$f":"IF($S274<>\"\",\"\",IF(AND($E274<=M$1,$B274=\"M\"),MAX(M$2:M273)+1,\"\"))","v":19},{"$f":"IF($S274<>\"\",\"\",IF(AND($E274<=N$1,$B274=\"F\"),MAX(N$2:N273)+1,\"\"))","v":""},{"$f":"IF($S274<>\"\",\"\",IF(AND($E274<=O$1,$B274=\"F\"),MAX(O$2:O273)+1,\"\"))","v":""},{"$f":"IF(AND($S274<>\"\",$S274<>\"No pot jugar individual\"),\"\",IF(AND($F274<=P$1,$B274=\"M\"),MAX(P$2:P273)+1,\"\"))","v":240},{"$f":"IF(AND($S274<>\"\",$S274<>\"No pot jugar individual\"),\"\",IF(AND($F274<=Q$1,$B274=\"M\"),MAX(Q$2:Q273)+1,\"\"))","v":70},{"$f":"IF($S274<>\"\",\"\",IF($F274<=R$1,MAX(R$2:R273)+1,\"\"))","v":""},"",7,0,0,0,"O","N","N","N","M","M","L","L",null,null,null,null,"BJ"]
[10332,"M","MARTÍ Álvaro","JUV-1",4,2,"FALCONS","FALCONS",12.62,{"$f":"IF($S275<>\"\",\"\",IF(AND($E275<=J$1,$B275=\"M\"),MAX(J$2:J274)+1,\"\"))","v":241},{"$f":"IF($S275<>\"\",\"\",IF(AND($E275<=K$1,$B275=\"M\"),MAX(K$2:K274)+1,\"\"))","v":""},{"$f":"IF($S275<>\"\",\"\",IF(AND($E275<=L$1,$B275=\"M\"),MAX(L$2:L274)+1,\"\"))","v":""},{"$f":"IF($S275<>\"\",\"\",IF(AND($E275<=M$1,$B275=\"M\"),MAX(M$2:M274)+1,\"\"))","v":""},{"$f":"IF($S275<>\"\",\"\",IF(AND($E275<=N$1,$B275=\"F\"),MAX(N$2:N274)+1,\"\"))","v":""},{"$f":"IF($S275<>\"\",\"\",IF(AND($E275<=O$1,$B275=\"F\"),MAX(O$2:O274)+1,\"\"))","v":""},{"$f":"IF(AND($S275<>\"\",$S275<>\"No pot jugar individual\"),\"\",IF(AND($F275<=P$1,$B275=\"M\"),MAX(P$2:P274)+1,\"\"))","v":241},{"$f":"IF(AND($S275<>\"\",$S275<>\"No pot jugar individual\"),\"\",IF(AND($F275<=Q$1,$B275=\"M\"),MAX(Q$2:Q274)+1,\"\"))","v":""},{"$f":"IF($S275<>\"\",\"\",IF($F275<=R$1,MAX(R$2:R274)+1,\"\"))","v":""},"",7,2,0,0,"K","K","K","K","L","L","L","L",null,null,null,"BC",null,null,"BC"]
[11301,"M","TORRENTE Marc","ALE-2",2,1,"CASTELLDEFELS","CASTELLDEFELS",12.169999999999998,{"$f":"IF($S276<>\"\",\"\",IF(AND($E276<=J$1,$B276=\"M\"),MAX(J$2:J275)+1,\"\"))","v":242},{"$f":"IF($S276<>\"\",\"\",IF(AND($E276<=K$1,$B276=\"M\"),MAX(K$2:K275)+1,\"\"))","v":163},{"$f":"IF($S276<>\"\",\"\",IF(AND($E276<=L$1,$B276=\"M\"),MAX(L$2:L275)+1,\"\"))","v":71},{"$f":"IF($S276<>\"\",\"\",IF(AND($E276<=M$1,$B276=\"M\"),MAX(M$2:M275)+1,\"\"))","v":""},{"$f":"IF($S276<>\"\",\"\",IF(AND($E276<=N$1,$B276=\"F\"),MAX(N$2:N275)+1,\"\"))","v":""},{"$f":"IF($S276<>\"\",\"\",IF(AND($E276<=O$1,$B276=\"F\"),MAX(O$2:O275)+1,\"\"))","v":""},{"$f":"IF(AND($S276<>\"\",$S276<>\"No pot jugar individual\"),\"\",IF(AND($F276<=P$1,$B276=\"M\"),MAX(P$2:P275)+1,\"\"))","v":242},{"$f":"IF(AND($S276<>\"\",$S276<>\"No pot jugar individual\"),\"\",IF(AND($F276<=Q$1,$B276=\"M\"),MAX(Q$2:Q275)+1,\"\"))","v":71},{"$f":"IF($S276<>\"\",\"\",IF($F276<=R$1,MAX(R$2:R275)+1,\"\"))","v":""},"",7,1,0,0,"M","M","M","N","M","M","L","L",null,null,"BC"]
[11294,"M","VALERO Marc","INF-2",3,2,"CLARAM","CLARAM",12.15,{"$f":"IF($S277<>\"\",\"\",IF(AND($E277<=J$1,$B277=\"M\"),MAX(J$2:J276)+1,\"\"))","v":243},{"$f":"IF($S277<>\"\",\"\",IF(AND($E277<=K$1,$B277=\"M\"),MAX(K$2:K276)+1,\"\"))","v":164},{"$f":"IF($S277<>\"\",\"\",IF(AND($E277<=L$1,$B277=\"M\"),MAX(L$2:L276)+1,\"\"))","v":""},{"$f":"IF($S277<>\"\",\"\",IF(AND($E277<=M$1,$B277=\"M\"),MAX(M$2:M276)+1,\"\"))","v":""},{"$f":"IF($S277<>\"\",\"\",IF(AND($E277<=N$1,$B277=\"F\"),MAX(N$2:N276)+1,\"\"))","v":""},{"$f":"IF($S277<>\"\",\"\",IF(AND($E277<=O$1,$B277=\"F\"),MAX(O$2:O276)+1,\"\"))","v":""},{"$f":"IF(AND($S277<>\"\",$S277<>\"No pot jugar individual\"),\"\",IF(AND($F277<=P$1,$B277=\"M\"),MAX(P$2:P276)+1,\"\"))","v":243},{"$f":"IF(AND($S277<>\"\",$S277<>\"No pot jugar individual\"),\"\",IF(AND($F277<=Q$1,$B277=\"M\"),MAX(Q$2:Q276)+1,\"\"))","v":""},{"$f":"IF($S277<>\"\",\"\",IF($F277<=R$1,MAX(R$2:R276)+1,\"\"))","v":""},"",7,0,0,0,"L","M","N","N","M","L","L","L",null,"PI"]
[10891,"M","ETHERINGTON Matthew","ALE-2",2,1,"LLUÏSOS","LLUÏSOS",11.979999999999999,{"$f":"IF($S278<>\"\",\"\",IF(AND($E278<=J$1,$B278=\"M\"),MAX(J$2:J277)+1,\"\"))","v":244},{"$f":"IF($S278<>\"\",\"\",IF(AND($E278<=K$1,$B278=\"M\"),MAX(K$2:K277)+1,\"\"))","v":165},{"$f":"IF($S278<>\"\",\"\",IF(AND($E278<=L$1,$B278=\"M\"),MAX(L$2:L277)+1,\"\"))","v":72},{"$f":"IF($S278<>\"\",\"\",IF(AND($E278<=M$1,$B278=\"M\"),MAX(M$2:M277)+1,\"\"))","v":""},{"$f":"IF($S278<>\"\",\"\",IF(AND($E278<=N$1,$B278=\"F\"),MAX(N$2:N277)+1,\"\"))","v":""},{"$f":"IF($S278<>\"\",\"\",IF(AND($E278<=O$1,$B278=\"F\"),MAX(O$2:O277)+1,\"\"))","v":""},{"$f":"IF(AND($S278<>\"\",$S278<>\"No pot jugar individual\"),\"\",IF(AND($F278<=P$1,$B278=\"M\"),MAX(P$2:P277)+1,\"\"))","v":244},{"$f":"IF(AND($S278<>\"\",$S278<>\"No pot jugar individual\"),\"\",IF(AND($F278<=Q$1,$B278=\"M\"),MAX(Q$2:Q277)+1,\"\"))","v":72},{"$f":"IF($S278<>\"\",\"\",IF($F278<=R$1,MAX(R$2:R277)+1,\"\"))","v":""},"",7,2,0,0,"M","M","L","L","L","M","N","M",null,null,null,null,"BC","BC"]
[9245,"M","LLOYD-WILLIAMS Dylan","INF-1",3,2,"R.ELISENDA","R.ELISENDA",11.95,{"$f":"IF($S279<>\"\",\"\",IF(AND($E279<=J$1,$B279=\"M\"),MAX(J$2:J278)+1,\"\"))","v":245},{"$f":"IF($S279<>\"\",\"\",IF(AND($E279<=K$1,$B279=\"M\"),MAX(K$2:K278)+1,\"\"))","v":166},{"$f":"IF($S279<>\"\",\"\",IF(AND($E279<=L$1,$B279=\"M\"),MAX(L$2:L278)+1,\"\"))","v":""},{"$f":"IF($S279<>\"\",\"\",IF(AND($E279<=M$1,$B279=\"M\"),MAX(M$2:M278)+1,\"\"))","v":""},{"$f":"IF($S279<>\"\",\"\",IF(AND($E279<=N$1,$B279=\"F\"),MAX(N$2:N278)+1,\"\"))","v":""},{"$f":"IF($S279<>\"\",\"\",IF(AND($E279<=O$1,$B279=\"F\"),MAX(O$2:O278)+1,\"\"))","v":""},{"$f":"IF(AND($S279<>\"\",$S279<>\"No pot jugar individual\"),\"\",IF(AND($F279<=P$1,$B279=\"M\"),MAX(P$2:P278)+1,\"\"))","v":245},{"$f":"IF(AND($S279<>\"\",$S279<>\"No pot jugar individual\"),\"\",IF(AND($F279<=Q$1,$B279=\"M\"),MAX(Q$2:Q278)+1,\"\"))","v":""},{"$f":"IF($S279<>\"\",\"\",IF($F279<=R$1,MAX(R$2:R278)+1,\"\"))","v":""},"",7,1,0,0,"M","M","M","M","M","M","L","L",null,null,"BC","BJ"]
[10814,"M","RAMIREZ Alex","INF-1",3,2,"FALCONS","FALCONS",11.93,{"$f":"IF($S280<>\"\",\"\",IF(AND($E280<=J$1,$B280=\"M\"),MAX(J$2:J279)+1,\"\"))","v":246},{"$f":"IF($S280<>\"\",\"\",IF(AND($E280<=K$1,$B280=\"M\"),MAX(K$2:K279)+1,\"\"))","v":167},{"$f":"IF($S280<>\"\",\"\",IF(AND($E280<=L$1,$B280=\"M\"),MAX(L$2:L279)+1,\"\"))","v":""},{"$f":"IF($S280<>\"\",\"\",IF(AND($E280<=M$1,$B280=\"M\"),MAX(M$2:M279)+1,\"\"))","v":""},{"$f":"IF($S280<>\"\",\"\",IF(AND($E280<=N$1,$B280=\"F\"),MAX(N$2:N279)+1,\"\"))","v":""},{"$f":"IF($S280<>\"\",\"\",IF(AND($E280<=O$1,$B280=\"F\"),MAX(O$2:O279)+1,\"\"))","v":""},{"$f":"IF(AND($S280<>\"\",$S280<>\"No pot jugar individual\"),\"\",IF(AND($F280<=P$1,$B280=\"M\"),MAX(P$2:P279)+1,\"\"))","v":246},{"$f":"IF(AND($S280<>\"\",$S280<>\"No pot jugar individual\"),\"\",IF(AND($F280<=Q$1,$B280=\"M\"),MAX(Q$2:Q279)+1,\"\"))","v":""},{"$f":"IF($S280<>\"\",\"\",IF($F280<=R$1,MAX(R$2:R279)+1,\"\"))","v":""},"",7,3,0,0,"M","M","L","L","K","L","L","M",null,null,null,null,"BC","BC","BC"]
[11136,"F","RUESCA Berta","JUV-1",4,0,"POBLENOU","POBLENOU",11.830000000000002,{"$f":"IF($S281<>\"\",\"\",IF(AND($E281<=J$1,$B281=\"M\"),MAX(J$2:J280)+1,\"\"))","v":""},{"$f":"IF($S281<>\"\",\"\",IF(AND($E281<=K$1,$B281=\"M\"),MAX(K$2:K280)+1,\"\"))","v":""},{"$f":"IF($S281<>\"\",\"\",IF(AND($E281<=L$1,$B281=\"M\"),MAX(L$2:L280)+1,\"\"))","v":""},{"$f":"IF($S281<>\"\",\"\",IF(AND($E281<=M$1,$B281=\"M\"),MAX(M$2:M280)+1,\"\"))","v":""},{"$f":"IF($S281<>\"\",\"\",IF(AND($E281<=N$1,$B281=\"F\"),MAX(N$2:N280)+1,\"\"))","v":33},{"$f":"IF($S281<>\"\",\"\",IF(AND($E281<=O$1,$B281=\"F\"),MAX(O$2:O280)+1,\"\"))","v":""},{"$f":"IF(AND($S281<>\"\",$S281<>\"No pot jugar individual\"),\"\",IF(AND($F281<=P$1,$B281=\"M\"),MAX(P$2:P280)+1,\"\"))","v":""},{"$f":"IF(AND($S281<>\"\",$S281<>\"No pot jugar individual\"),\"\",IF(AND($F281<=Q$1,$B281=\"M\"),MAX(Q$2:Q280)+1,\"\"))","v":""},{"$f":"IF($S281<>\"\",\"\",IF($F281<=R$1,MAX(R$2:R280)+1,\"\"))","v":33},"",7,0,0,0,"K","L","L","L","L","L","L","L"]
[8197,"M","OLIVARES Josep","ALE-1",2,1,"FALCONS","FALCONS",11.78,{"$f":"IF($S282<>\"\",\"\",IF(AND($E282<=J$1,$B282=\"M\"),MAX(J$2:J281)+1,\"\"))","v":247},{"$f":"IF($S282<>\"\",\"\",IF(AND($E282<=K$1,$B282=\"M\"),MAX(K$2:K281)+1,\"\"))","v":168},{"$f":"IF($S282<>\"\",\"\",IF(AND($E282<=L$1,$B282=\"M\"),MAX(L$2:L281)+1,\"\"))","v":73},{"$f":"IF($S282<>\"\",\"\",IF(AND($E282<=M$1,$B282=\"M\"),MAX(M$2:M281)+1,\"\"))","v":""},{"$f":"IF($S282<>\"\",\"\",IF(AND($E282<=N$1,$B282=\"F\"),MAX(N$2:N281)+1,\"\"))","v":""},{"$f":"IF($S282<>\"\",\"\",IF(AND($E282<=O$1,$B282=\"F\"),MAX(O$2:O281)+1,\"\"))","v":""},{"$f":"IF(AND($S282<>\"\",$S282<>\"No pot jugar individual\"),\"\",IF(AND($F282<=P$1,$B282=\"M\"),MAX(P$2:P281)+1,\"\"))","v":247},{"$f":"IF(AND($S282<>\"\",$S282<>\"No pot jugar individual\"),\"\",IF(AND($F282<=Q$1,$B282=\"M\"),MAX(Q$2:Q281)+1,\"\"))","v":73},{"$f":"IF($S282<>\"\",\"\",IF($F282<=R$1,MAX(R$2:R281)+1,\"\"))","v":""},"",7,0,0,0,"N","N","M","M","M","M","L","L"]
[11280,"M","MARTÍNEZ Carlos","INF-2",3,2,"EUROCLIMA BDN","EUROCLIMA BDN",11.2,{"$f":"IF($S283<>\"\",\"\",IF(AND($E283<=J$1,$B283=\"M\"),MAX(J$2:J282)+1,\"\"))","v":248},{"$f":"IF($S283<>\"\",\"\",IF(AND($E283<=K$1,$B283=\"M\"),MAX(K$2:K282)+1,\"\"))","v":169},{"$f":"IF($S283<>\"\",\"\",IF(AND($E283<=L$1,$B283=\"M\"),MAX(L$2:L282)+1,\"\"))","v":""},{"$f":"IF($S283<>\"\",\"\",IF(AND($E283<=M$1,$B283=\"M\"),MAX(M$2:M282)+1,\"\"))","v":""},{"$f":"IF($S283<>\"\",\"\",IF(AND($E283<=N$1,$B283=\"F\"),MAX(N$2:N282)+1,\"\"))","v":""},{"$f":"IF($S283<>\"\",\"\",IF(AND($E283<=O$1,$B283=\"F\"),MAX(O$2:O282)+1,\"\"))","v":""},{"$f":"IF(AND($S283<>\"\",$S283<>\"No pot jugar individual\"),\"\",IF(AND($F283<=P$1,$B283=\"M\"),MAX(P$2:P282)+1,\"\"))","v":248},{"$f":"IF(AND($S283<>\"\",$S283<>\"No pot jugar individual\"),\"\",IF(AND($F283<=Q$1,$B283=\"M\"),MAX(Q$2:Q282)+1,\"\"))","v":""},{"$f":"IF($S283<>\"\",\"\",IF($F283<=R$1,MAX(R$2:R282)+1,\"\"))","v":""},"",7,{"$f":"COUNTIF($AF283:$AL283,U$2)","v":1},0,0,"M","N","N","M","M","L","M","L",null,null,null,null,null,"BC"]
[11378,"M","MATEOS Enric","BEN-2",1,1,"STCUGAT","STCUGAT",11.149999999999999,{"$f":"IF($S284<>\"\",\"\",IF(AND($E284<=J$1,$B284=\"M\"),MAX(J$2:J283)+1,\"\"))","v":249},{"$f":"IF($S284<>\"\",\"\",IF(AND($E284<=K$1,$B284=\"M\"),MAX(K$2:K283)+1,\"\"))","v":170},{"$f":"IF($S284<>\"\",\"\",IF(AND($E284<=L$1,$B284=\"M\"),MAX(L$2:L283)+1,\"\"))","v":74},{"$f":"IF($S284<>\"\",\"\",IF(AND($E284<=M$1,$B284=\"M\"),MAX(M$2:M283)+1,\"\"))","v":20},{"$f":"IF($S284<>\"\",\"\",IF(AND($E284<=N$1,$B284=\"F\"),MAX(N$2:N283)+1,\"\"))","v":""},{"$f":"IF($S284<>\"\",\"\",IF(AND($E284<=O$1,$B284=\"F\"),MAX(O$2:O283)+1,\"\"))","v":""},{"$f":"IF(AND($S284<>\"\",$S284<>\"No pot jugar individual\"),\"\",IF(AND($F284<=P$1,$B284=\"M\"),MAX(P$2:P283)+1,\"\"))","v":249},{"$f":"IF(AND($S284<>\"\",$S284<>\"No pot jugar individual\"),\"\",IF(AND($F284<=Q$1,$B284=\"M\"),MAX(Q$2:Q283)+1,\"\"))","v":74},{"$f":"IF($S284<>\"\",\"\",IF($F284<=R$1,MAX(R$2:R283)+1,\"\"))","v":""},"",7,0,0,0,"O","O","O","N","N","M","L","L",null,"SA"]
[10515,"M","AYUSO Dante","ALE-2",2,1,"VILANOVA","VILANOVA",10.679999999999998,{"$f":"IF($S285<>\"\",\"\",IF(AND($E285<=J$1,$B285=\"M\"),MAX(J$2:J284)+1,\"\"))","v":250},{"$f":"IF($S285<>\"\",\"\",IF(AND($E285<=K$1,$B285=\"M\"),MAX(K$2:K284)+1,\"\"))","v":171},{"$f":"IF($S285<>\"\",\"\",IF(AND($E285<=L$1,$B285=\"M\"),MAX(L$2:L284)+1,\"\"))","v":75},{"$f":"IF($S285<>\"\",\"\",IF(AND($E285<=M$1,$B285=\"M\"),MAX(M$2:M284)+1,\"\"))","v":""},{"$f":"IF($S285<>\"\",\"\",IF(AND($E285<=N$1,$B285=\"F\"),MAX(N$2:N284)+1,\"\"))","v":""},{"$f":"IF($S285<>\"\",\"\",IF(AND($E285<=O$1,$B285=\"F\"),MAX(O$2:O284)+1,\"\"))","v":""},{"$f":"IF(AND($S285<>\"\",$S285<>\"No pot jugar individual\"),\"\",IF(AND($F285<=P$1,$B285=\"M\"),MAX(P$2:P284)+1,\"\"))","v":250},{"$f":"IF(AND($S285<>\"\",$S285<>\"No pot jugar individual\"),\"\",IF(AND($F285<=Q$1,$B285=\"M\"),MAX(Q$2:Q284)+1,\"\"))","v":75},{"$f":"IF($S285<>\"\",\"\",IF($F285<=R$1,MAX(R$2:R284)+1,\"\"))","v":""},"",7,1,0,0,"J","J","K","L","L","L","L","L",null,null,"BC"]
[11364,"M","RUIZ-PEINADO Jan","INF-2",3,2,"LLUÏSOS","LLUÏSOS",10.6,{"$f":"IF($S286<>\"\",\"\",IF(AND($E286<=J$1,$B286=\"M\"),MAX(J$2:J285)+1,\"\"))","v":251},{"$f":"IF($S286<>\"\",\"\",IF(AND($E286<=K$1,$B286=\"M\"),MAX(K$2:K285)+1,\"\"))","v":172},{"$f":"IF($S286<>\"\",\"\",IF(AND($E286<=L$1,$B286=\"M\"),MAX(L$2:L285)+1,\"\"))","v":""},{"$f":"IF($S286<>\"\",\"\",IF(AND($E286<=M$1,$B286=\"M\"),MAX(M$2:M285)+1,\"\"))","v":""},{"$f":"IF($S286<>\"\",\"\",IF(AND($E286<=N$1,$B286=\"F\"),MAX(N$2:N285)+1,\"\"))","v":""},{"$f":"IF($S286<>\"\",\"\",IF(AND($E286<=O$1,$B286=\"F\"),MAX(O$2:O285)+1,\"\"))","v":""},{"$f":"IF(AND($S286<>\"\",$S286<>\"No pot jugar individual\"),\"\",IF(AND($F286<=P$1,$B286=\"M\"),MAX(P$2:P285)+1,\"\"))","v":251},{"$f":"IF(AND($S286<>\"\",$S286<>\"No pot jugar individual\"),\"\",IF(AND($F286<=Q$1,$B286=\"M\"),MAX(Q$2:Q285)+1,\"\"))","v":""},{"$f":"IF($S286<>\"\",\"\",IF($F286<=R$1,MAX(R$2:R285)+1,\"\"))","v":""},"",7,2,0,0,"L","M","M","L","M","N","M","L","PI",null,null,"BC","BC"]
[10271,"M","FONTICH Nil","INF-2",3,2,"CARDEDEU","CARDEDEU",10.58,{"$f":"IF($S287<>\"\",\"\",IF(AND($E287<=J$1,$B287=\"M\"),MAX(J$2:J286)+1,\"\"))","v":252},{"$f":"IF($S287<>\"\",\"\",IF(AND($E287<=K$1,$B287=\"M\"),MAX(K$2:K286)+1,\"\"))","v":173},{"$f":"IF($S287<>\"\",\"\",IF(AND($E287<=L$1,$B287=\"M\"),MAX(L$2:L286)+1,\"\"))","v":""},{"$f":"IF($S287<>\"\",\"\",IF(AND($E287<=M$1,$B287=\"M\"),MAX(M$2:M286)+1,\"\"))","v":""},{"$f":"IF($S287<>\"\",\"\",IF(AND($E287<=N$1,$B287=\"F\"),MAX(N$2:N286)+1,\"\"))","v":""},{"$f":"IF($S287<>\"\",\"\",IF(AND($E287<=O$1,$B287=\"F\"),MAX(O$2:O286)+1,\"\"))","v":""},{"$f":"IF(AND($S287<>\"\",$S287<>\"No pot jugar individual\"),\"\",IF(AND($F287<=P$1,$B287=\"M\"),MAX(P$2:P286)+1,\"\"))","v":252},{"$f":"IF(AND($S287<>\"\",$S287<>\"No pot jugar individual\"),\"\",IF(AND($F287<=Q$1,$B287=\"M\"),MAX(Q$2:Q286)+1,\"\"))","v":""},{"$f":"IF($S287<>\"\",\"\",IF($F287<=R$1,MAX(R$2:R286)+1,\"\"))","v":""},"",7,1,0,0,"L","M","M","M","M","M","L","L","BC"]
[11400,"M","ARNELLA Marcel","BEN-2",1,1,"STCUGAT","STCUGAT",10.53,{"$f":"IF($S288<>\"\",\"\",IF(AND($E288<=J$1,$B288=\"M\"),MAX(J$2:J287)+1,\"\"))","v":253},{"$f":"IF($S288<>\"\",\"\",IF(AND($E288<=K$1,$B288=\"M\"),MAX(K$2:K287)+1,\"\"))","v":174},{"$f":"IF($S288<>\"\",\"\",IF(AND($E288<=L$1,$B288=\"M\"),MAX(L$2:L287)+1,\"\"))","v":76},{"$f":"IF($S288<>\"\",\"\",IF(AND($E288<=M$1,$B288=\"M\"),MAX(M$2:M287)+1,\"\"))","v":21},{"$f":"IF($S288<>\"\",\"\",IF(AND($E288<=N$1,$B288=\"F\"),MAX(N$2:N287)+1,\"\"))","v":""},{"$f":"IF($S288<>\"\",\"\",IF(AND($E288<=O$1,$B288=\"F\"),MAX(O$2:O287)+1,\"\"))","v":""},{"$f":"IF(AND($S288<>\"\",$S288<>\"No pot jugar individual\"),\"\",IF(AND($F288<=P$1,$B288=\"M\"),MAX(P$2:P287)+1,\"\"))","v":253},{"$f":"IF(AND($S288<>\"\",$S288<>\"No pot jugar individual\"),\"\",IF(AND($F288<=Q$1,$B288=\"M\"),MAX(Q$2:Q287)+1,\"\"))","v":76},{"$f":"IF($S288<>\"\",\"\",IF($F288<=R$1,MAX(R$2:R287)+1,\"\"))","v":""},"",6,0,0,0,null,"P","P","O","O","N","M","L"]
[11380,"M","MATEOS Roger","PRE-0",1,1,"STCUGAT","STCUGAT",10.43,{"$f":"IF($S289<>\"\",\"\",IF(AND($E289<=J$1,$B289=\"M\"),MAX(J$2:J288)+1,\"\"))","v":254},{"$f":"IF($S289<>\"\",\"\",IF(AND($E289<=K$1,$B289=\"M\"),MAX(K$2:K288)+1,\"\"))","v":175},{"$f":"IF($S289<>\"\",\"\",IF(AND($E289<=L$1,$B289=\"M\"),MAX(L$2:L288)+1,\"\"))","v":77},{"$f":"IF($S289<>\"\",\"\",IF(AND($E289<=M$1,$B289=\"M\"),MAX(M$2:M288)+1,\"\"))","v":22},{"$f":"IF($S289<>\"\",\"\",IF(AND($E289<=N$1,$B289=\"F\"),MAX(N$2:N288)+1,\"\"))","v":""},{"$f":"IF($S289<>\"\",\"\",IF(AND($E289<=O$1,$B289=\"F\"),MAX(O$2:O288)+1,\"\"))","v":""},{"$f":"IF(AND($S289<>\"\",$S289<>\"No pot jugar individual\"),\"\",IF(AND($F289<=P$1,$B289=\"M\"),MAX(P$2:P288)+1,\"\"))","v":254},{"$f":"IF(AND($S289<>\"\",$S289<>\"No pot jugar individual\"),\"\",IF(AND($F289<=Q$1,$B289=\"M\"),MAX(Q$2:Q288)+1,\"\"))","v":77},{"$f":"IF($S289<>\"\",\"\",IF($F289<=R$1,MAX(R$2:R288)+1,\"\"))","v":""},"",7,0,0,0,"O","O","O","N","M","M","L","L"]
[11382,"M","APARICIO Pau","ALE-2",2,1,"VILANOVA","VILANOVA",10.220000000000001,{"$f":"IF($S290<>\"\",\"\",IF(AND($E290<=J$1,$B290=\"M\"),MAX(J$2:J289)+1,\"\"))","v":255},{"$f":"IF($S290<>\"\",\"\",IF(AND($E290<=K$1,$B290=\"M\"),MAX(K$2:K289)+1,\"\"))","v":176},{"$f":"IF($S290<>\"\",\"\",IF(AND($E290<=L$1,$B290=\"M\"),MAX(L$2:L289)+1,\"\"))","v":78},{"$f":"IF($S290<>\"\",\"\",IF(AND($E290<=M$1,$B290=\"M\"),MAX(M$2:M289)+1,\"\"))","v":""},{"$f":"IF($S290<>\"\",\"\",IF(AND($E290<=N$1,$B290=\"F\"),MAX(N$2:N289)+1,\"\"))","v":""},{"$f":"IF($S290<>\"\",\"\",IF(AND($E290<=O$1,$B290=\"F\"),MAX(O$2:O289)+1,\"\"))","v":""},{"$f":"IF(AND($S290<>\"\",$S290<>\"No pot jugar individual\"),\"\",IF(AND($F290<=P$1,$B290=\"M\"),MAX(P$2:P289)+1,\"\"))","v":255},{"$f":"IF(AND($S290<>\"\",$S290<>\"No pot jugar individual\"),\"\",IF(AND($F290<=Q$1,$B290=\"M\"),MAX(Q$2:Q289)+1,\"\"))","v":78},{"$f":"IF($S290<>\"\",\"\",IF($F290<=R$1,MAX(R$2:R289)+1,\"\"))","v":""},"",6,0,0,0,null,"O","O","N","M","M","M","L"]
[11337,"M","MENA Roger","ALE-2",2,1,"PREMIA","PREMIA",9.26,{"$f":"IF($S291<>\"\",\"\",IF(AND($E291<=J$1,$B291=\"M\"),MAX(J$2:J290)+1,\"\"))","v":256},{"$f":"IF($S291<>\"\",\"\",IF(AND($E291<=K$1,$B291=\"M\"),MAX(K$2:K290)+1,\"\"))","v":177},{"$f":"IF($S291<>\"\",\"\",IF(AND($E291<=L$1,$B291=\"M\"),MAX(L$2:L290)+1,\"\"))","v":79},{"$f":"IF($S291<>\"\",\"\",IF(AND($E291<=M$1,$B291=\"M\"),MAX(M$2:M290)+1,\"\"))","v":""},{"$f":"IF($S291<>\"\",\"\",IF(AND($E291<=N$1,$B291=\"F\"),MAX(N$2:N290)+1,\"\"))","v":""},{"$f":"IF($S291<>\"\",\"\",IF(AND($E291<=O$1,$B291=\"F\"),MAX(O$2:O290)+1,\"\"))","v":""},{"$f":"IF(AND($S291<>\"\",$S291<>\"No pot jugar individual\"),\"\",IF(AND($F291<=P$1,$B291=\"M\"),MAX(P$2:P290)+1,\"\"))","v":256},{"$f":"IF(AND($S291<>\"\",$S291<>\"No pot jugar individual\"),\"\",IF(AND($F291<=Q$1,$B291=\"M\"),MAX(Q$2:Q290)+1,\"\"))","v":79},{"$f":"IF($S291<>\"\",\"\",IF($F291<=R$1,MAX(R$2:R290)+1,\"\"))","v":""},"",7,2,0,0,"N","N","N","M","M","L","M","N",null,null,null,null,null,"BC","BC"]
[7763,"M","NAVINES Hector","INF-2",3,2,"R.ELISENDA","R.ELISENDA",8.7999999999999989,{"$f":"IF($S292<>\"\",\"\",IF(AND($E292<=J$1,$B292=\"M\"),MAX(J$2:J291)+1,\"\"))","v":257},{"$f":"IF($S292<>\"\",\"\",IF(AND($E292<=K$1,$B292=\"M\"),MAX(K$2:K291)+1,\"\"))","v":178},{"$f":"IF($S292<>\"\",\"\",IF(AND($E292<=L$1,$B292=\"M\"),MAX(L$2:L291)+1,\"\"))","v":""},{"$f":"IF($S292<>\"\",\"\",IF(AND($E292<=M$1,$B292=\"M\"),MAX(M$2:M291)+1,\"\"))","v":""},{"$f":"IF($S292<>\"\",\"\",IF(AND($E292<=N$1,$B292=\"F\"),MAX(N$2:N291)+1,\"\"))","v":""},{"$f":"IF($S292<>\"\",\"\",IF(AND($E292<=O$1,$B292=\"F\"),MAX(O$2:O291)+1,\"\"))","v":""},{"$f":"IF(AND($S292<>\"\",$S292<>\"No pot jugar individual\"),\"\",IF(AND($F292<=P$1,$B292=\"M\"),MAX(P$2:P291)+1,\"\"))","v":257},{"$f":"IF(AND($S292<>\"\",$S292<>\"No pot jugar individual\"),\"\",IF(AND($F292<=Q$1,$B292=\"M\"),MAX(Q$2:Q291)+1,\"\"))","v":""},{"$f":"IF($S292<>\"\",\"\",IF($F292<=R$1,MAX(R$2:R291)+1,\"\"))","v":""},"",6,0,0,0,"L",null,"M","M","M","M","M","M"]
[10158,"M","FERNANDEZ Joel","ALE-2",2,1,"LA UNIÓ","LA UNIÓ",8.3999999999999986,{"$f":"IF($S293<>\"\",\"\",IF(AND($E293<=J$1,$B293=\"M\"),MAX(J$2:J292)+1,\"\"))","v":258},{"$f":"IF($S293<>\"\",\"\",IF(AND($E293<=K$1,$B293=\"M\"),MAX(K$2:K292)+1,\"\"))","v":179},{"$f":"IF($S293<>\"\",\"\",IF(AND($E293<=L$1,$B293=\"M\"),MAX(L$2:L292)+1,\"\"))","v":80},{"$f":"IF($S293<>\"\",\"\",IF(AND($E293<=M$1,$B293=\"M\"),MAX(M$2:M292)+1,\"\"))","v":""},{"$f":"IF($S293<>\"\",\"\",IF(AND($E293<=N$1,$B293=\"F\"),MAX(N$2:N292)+1,\"\"))","v":""},{"$f":"IF($S293<>\"\",\"\",IF(AND($E293<=O$1,$B293=\"F\"),MAX(O$2:O292)+1,\"\"))","v":""},{"$f":"IF(AND($S293<>\"\",$S293<>\"No pot jugar individual\"),\"\",IF(AND($F293<=P$1,$B293=\"M\"),MAX(P$2:P292)+1,\"\"))","v":258},{"$f":"IF(AND($S293<>\"\",$S293<>\"No pot jugar individual\"),\"\",IF(AND($F293<=Q$1,$B293=\"M\"),MAX(Q$2:Q292)+1,\"\"))","v":80},{"$f":"IF($S293<>\"\",\"\",IF($F293<=R$1,MAX(R$2:R292)+1,\"\"))","v":""},"",7,0,0,0,"M","M","N","N","N","N","M","M",null,null,null,"BJ"]
[8199,"F","CASANOVAS Laia","BEN-1",1,0,"INDEPEN","INDEPEN",8.32,{"$f":"IF($S294<>\"\",\"\",IF(AND($E294<=J$1,$B294=\"M\"),MAX(J$2:J293)+1,\"\"))","v":""},{"$f":"IF($S294<>\"\",\"\",IF(AND($E294<=K$1,$B294=\"M\"),MAX(K$2:K293)+1,\"\"))","v":""},{"$f":"IF($S294<>\"\",\"\",IF(AND($E294<=L$1,$B294=\"M\"),MAX(L$2:L293)+1,\"\"))","v":""},{"$f":"IF($S294<>\"\",\"\",IF(AND($E294<=M$1,$B294=\"M\"),MAX(M$2:M293)+1,\"\"))","v":""},{"$f":"IF($S294<>\"\",\"\",IF(AND($E294<=N$1,$B294=\"F\"),MAX(N$2:N293)+1,\"\"))","v":34},{"$f":"IF($S294<>\"\",\"\",IF(AND($E294<=O$1,$B294=\"F\"),MAX(O$2:O293)+1,\"\"))","v":18},{"$f":"IF(AND($S294<>\"\",$S294<>\"No pot jugar individual\"),\"\",IF(AND($F294<=P$1,$B294=\"M\"),MAX(P$2:P293)+1,\"\"))","v":""},{"$f":"IF(AND($S294<>\"\",$S294<>\"No pot jugar individual\"),\"\",IF(AND($F294<=Q$1,$B294=\"M\"),MAX(Q$2:Q293)+1,\"\"))","v":""},{"$f":"IF($S294<>\"\",\"\",IF($F294<=R$1,MAX(R$2:R293)+1,\"\"))","v":34},"",5,0,0,0,null,null,"N","N","N","M","M","M"]
[10885,"M","LOZANO Manel","PRE-0",1,1,"LLUÏSOS","LLUÏSOS",8.3000000000000007,{"$f":"IF($S295<>\"\",\"\",IF(AND($E295<=J$1,$B295=\"M\"),MAX(J$2:J294)+1,\"\"))","v":259},{"$f":"IF($S295<>\"\",\"\",IF(AND($E295<=K$1,$B295=\"M\"),MAX(K$2:K294)+1,\"\"))","v":180},{"$f":"IF($S295<>\"\",\"\",IF(AND($E295<=L$1,$B295=\"M\"),MAX(L$2:L294)+1,\"\"))","v":81},{"$f":"IF($S295<>\"\",\"\",IF(AND($E295<=M$1,$B295=\"M\"),MAX(M$2:M294)+1,\"\"))","v":23},{"$f":"IF($S295<>\"\",\"\",IF(AND($E295<=N$1,$B295=\"F\"),MAX(N$2:N294)+1,\"\"))","v":""},{"$f":"IF($S295<>\"\",\"\",IF(AND($E295<=O$1,$B295=\"F\"),MAX(O$2:O294)+1,\"\"))","v":""},{"$f":"IF(AND($S295<>\"\",$S295<>\"No pot jugar individual\"),\"\",IF(AND($F295<=P$1,$B295=\"M\"),MAX(P$2:P294)+1,\"\"))","v":259},{"$f":"IF(AND($S295<>\"\",$S295<>\"No pot jugar individual\"),\"\",IF(AND($F295<=Q$1,$B295=\"M\"),MAX(Q$2:Q294)+1,\"\"))","v":81},{"$f":"IF($S295<>\"\",\"\",IF($F295<=R$1,MAX(R$2:R294)+1,\"\"))","v":""},"",7,2,0,0,"O","N","N","O","N","N","M","L",null,null,"BC",null,"BC"]
[10665,"M","ORTIZ Roman","JUV-2",4,2,"STCUGAT","STCUGAT",7.95,{"$f":"IF($S296<>\"\",\"\",IF(AND($E296<=J$1,$B296=\"M\"),MAX(J$2:J295)+1,\"\"))","v":260},{"$f":"IF($S296<>\"\",\"\",IF(AND($E296<=K$1,$B296=\"M\"),MAX(K$2:K295)+1,\"\"))","v":""},{"$f":"IF($S296<>\"\",\"\",IF(AND($E296<=L$1,$B296=\"M\"),MAX(L$2:L295)+1,\"\"))","v":""},{"$f":"IF($S296<>\"\",\"\",IF(AND($E296<=M$1,$B296=\"M\"),MAX(M$2:M295)+1,\"\"))","v":""},{"$f":"IF($S296<>\"\",\"\",IF(AND($E296<=N$1,$B296=\"F\"),MAX(N$2:N295)+1,\"\"))","v":""},{"$f":"IF($S296<>\"\",\"\",IF(AND($E296<=O$1,$B296=\"F\"),MAX(O$2:O295)+1,\"\"))","v":""},{"$f":"IF(AND($S296<>\"\",$S296<>\"No pot jugar individual\"),\"\",IF(AND($F296<=P$1,$B296=\"M\"),MAX(P$2:P295)+1,\"\"))","v":260},{"$f":"IF(AND($S296<>\"\",$S296<>\"No pot jugar individual\"),\"\",IF(AND($F296<=Q$1,$B296=\"M\"),MAX(Q$2:Q295)+1,\"\"))","v":""},{"$f":"IF($S296<>\"\",\"\",IF($F296<=R$1,MAX(R$2:R295)+1,\"\"))","v":""},"",6,1,0,0,null,"O","O","N","N","M","L","M",null,null,null,null,null,null,"BC"]
[7752,"M","FONT Aniol","PRE-0",1,1,"FALCONS","FALCONS",7.93,{"$f":"IF($S297<>\"\",\"\",IF(AND($E297<=J$1,$B297=\"M\"),MAX(J$2:J296)+1,\"\"))","v":261},{"$f":"IF($S297<>\"\",\"\",IF(AND($E297<=K$1,$B297=\"M\"),MAX(K$2:K296)+1,\"\"))","v":181},{"$f":"IF($S297<>\"\",\"\",IF(AND($E297<=L$1,$B297=\"M\"),MAX(L$2:L296)+1,\"\"))","v":82},{"$f":"IF($S297<>\"\",\"\",IF(AND($E297<=M$1,$B297=\"M\"),MAX(M$2:M296)+1,\"\"))","v":24},{"$f":"IF($S297<>\"\",\"\",IF(AND($E297<=N$1,$B297=\"F\"),MAX(N$2:N296)+1,\"\"))","v":""},{"$f":"IF($S297<>\"\",\"\",IF(AND($E297<=O$1,$B297=\"F\"),MAX(O$2:O296)+1,\"\"))","v":""},{"$f":"IF(AND($S297<>\"\",$S297<>\"No pot jugar individual\"),\"\",IF(AND($F297<=P$1,$B297=\"M\"),MAX(P$2:P296)+1,\"\"))","v":261},{"$f":"IF(AND($S297<>\"\",$S297<>\"No pot jugar individual\"),\"\",IF(AND($F297<=Q$1,$B297=\"M\"),MAX(Q$2:Q296)+1,\"\"))","v":82},{"$f":"IF($S297<>\"\",\"\",IF($F297<=R$1,MAX(R$2:R296)+1,\"\"))","v":""},"",7,0,0,0,"O","O","O","N","N","M","M","M"]
[10353,"M","PONCE Ethan","INF-1",3,2,"FALCONS","FALCONS",7.8000000000000007,{"$f":"IF($S298<>\"\",\"\",IF(AND($E298<=J$1,$B298=\"M\"),MAX(J$2:J297)+1,\"\"))","v":262},{"$f":"IF($S298<>\"\",\"\",IF(AND($E298<=K$1,$B298=\"M\"),MAX(K$2:K297)+1,\"\"))","v":182},{"$f":"IF($S298<>\"\",\"\",IF(AND($E298<=L$1,$B298=\"M\"),MAX(L$2:L297)+1,\"\"))","v":""},{"$f":"IF($S298<>\"\",\"\",IF(AND($E298<=M$1,$B298=\"M\"),MAX(M$2:M297)+1,\"\"))","v":""},{"$f":"IF($S298<>\"\",\"\",IF(AND($E298<=N$1,$B298=\"F\"),MAX(N$2:N297)+1,\"\"))","v":""},{"$f":"IF($S298<>\"\",\"\",IF(AND($E298<=O$1,$B298=\"F\"),MAX(O$2:O297)+1,\"\"))","v":""},{"$f":"IF(AND($S298<>\"\",$S298<>\"No pot jugar individual\"),\"\",IF(AND($F298<=P$1,$B298=\"M\"),MAX(P$2:P297)+1,\"\"))","v":262},{"$f":"IF(AND($S298<>\"\",$S298<>\"No pot jugar individual\"),\"\",IF(AND($F298<=Q$1,$B298=\"M\"),MAX(Q$2:Q297)+1,\"\"))","v":""},{"$f":"IF($S298<>\"\",\"\",IF($F298<=R$1,MAX(R$2:R297)+1,\"\"))","v":""},"",7,0,0,0,"M","M","M","M","M","M","M","M"]
[10725,"M","MORENO Raul","ALE-1",2,1,"POBLENOU","POBLENOU",7.7000000000000011,{"$f":"IF($S299<>\"\",\"\",IF(AND($E299<=J$1,$B299=\"M\"),MAX(J$2:J298)+1,\"\"))","v":263},{"$f":"IF($S299<>\"\",\"\",IF(AND($E299<=K$1,$B299=\"M\"),MAX(K$2:K298)+1,\"\"))","v":183},{"$f":"IF($S299<>\"\",\"\",IF(AND($E299<=L$1,$B299=\"M\"),MAX(L$2:L298)+1,\"\"))","v":83},{"$f":"IF($S299<>\"\",\"\",IF(AND($E299<=M$1,$B299=\"M\"),MAX(M$2:M298)+1,\"\"))","v":""},{"$f":"IF($S299<>\"\",\"\",IF(AND($E299<=N$1,$B299=\"F\"),MAX(N$2:N298)+1,\"\"))","v":""},{"$f":"IF($S299<>\"\",\"\",IF(AND($E299<=O$1,$B299=\"F\"),MAX(O$2:O298)+1,\"\"))","v":""},{"$f":"IF(AND($S299<>\"\",$S299<>\"No pot jugar individual\"),\"\",IF(AND($F299<=P$1,$B299=\"M\"),MAX(P$2:P298)+1,\"\"))","v":263},{"$f":"IF(AND($S299<>\"\",$S299<>\"No pot jugar individual\"),\"\",IF(AND($F299<=Q$1,$B299=\"M\"),MAX(Q$2:Q298)+1,\"\"))","v":83},{"$f":"IF($S299<>\"\",\"\",IF($F299<=R$1,MAX(R$2:R298)+1,\"\"))","v":""},"",7,0,1,0,"K","L","M","M","M","M","N","O",null,null,null,null,null,null,"BN"]
[11304,"M","FERNANDEZ David","BEN-1",1,1,"CASTELLDEFELS","CASTELLDEFELS",7.46,{"$f":"IF($S300<>\"\",\"\",IF(AND($E300<=J$1,$B300=\"M\"),MAX(J$2:J299)+1,\"\"))","v":264},{"$f":"IF($S300<>\"\",\"\",IF(AND($E300<=K$1,$B300=\"M\"),MAX(K$2:K299)+1,\"\"))","v":184},{"$f":"IF($S300<>\"\",\"\",IF(AND($E300<=L$1,$B300=\"M\"),MAX(L$2:L299)+1,\"\"))","v":84},{"$f":"IF($S300<>\"\",\"\",IF(AND($E300<=M$1,$B300=\"M\"),MAX(M$2:M299)+1,\"\"))","v":25},{"$f":"IF($S300<>\"\",\"\",IF(AND($E300<=N$1,$B300=\"F\"),MAX(N$2:N299)+1,\"\"))","v":""},{"$f":"IF($S300<>\"\",\"\",IF(AND($E300<=O$1,$B300=\"F\"),MAX(O$2:O299)+1,\"\"))","v":""},{"$f":"IF(AND($S300<>\"\",$S300<>\"No pot jugar individual\"),\"\",IF(AND($F300<=P$1,$B300=\"M\"),MAX(P$2:P299)+1,\"\"))","v":264},{"$f":"IF(AND($S300<>\"\",$S300<>\"No pot jugar individual\"),\"\",IF(AND($F300<=Q$1,$B300=\"M\"),MAX(Q$2:Q299)+1,\"\"))","v":84},{"$f":"IF($S300<>\"\",\"\",IF($F300<=R$1,MAX(R$2:R299)+1,\"\"))","v":""},"",7,1,0,0,"O","O","P","P","O","N","M","M",null,"BC"]
[10388,"M","PAGE Alex","PRE-0",1,1,"ESPARREGU.","ESPARREGU.",7.27,{"$f":"IF($S301<>\"\",\"\",IF(AND($E301<=J$1,$B301=\"M\"),MAX(J$2:J300)+1,\"\"))","v":265},{"$f":"IF($S301<>\"\",\"\",IF(AND($E301<=K$1,$B301=\"M\"),MAX(K$2:K300)+1,\"\"))","v":185},{"$f":"IF($S301<>\"\",\"\",IF(AND($E301<=L$1,$B301=\"M\"),MAX(L$2:L300)+1,\"\"))","v":85},{"$f":"IF($S301<>\"\",\"\",IF(AND($E301<=M$1,$B301=\"M\"),MAX(M$2:M300)+1,\"\"))","v":26},{"$f":"IF($S301<>\"\",\"\",IF(AND($E301<=N$1,$B301=\"F\"),MAX(N$2:N300)+1,\"\"))","v":""},{"$f":"IF($S301<>\"\",\"\",IF(AND($E301<=O$1,$B301=\"F\"),MAX(O$2:O300)+1,\"\"))","v":""},{"$f":"IF(AND($S301<>\"\",$S301<>\"No pot jugar individual\"),\"\",IF(AND($F301<=P$1,$B301=\"M\"),MAX(P$2:P300)+1,\"\"))","v":265},{"$f":"IF(AND($S301<>\"\",$S301<>\"No pot jugar individual\"),\"\",IF(AND($F301<=Q$1,$B301=\"M\"),MAX(Q$2:Q300)+1,\"\"))","v":85},{"$f":"IF($S301<>\"\",\"\",IF($F301<=R$1,MAX(R$2:R300)+1,\"\"))","v":""},"",7,0,0,0,"O","O","P","O","N","M","M","M"]
[11680,"M","PRATS Arnau","ALE-2",2,1,"CARDEDEU","CARDEDEU",6.91,{"$f":"IF($S302<>\"\",\"\",IF(AND($E302<=J$1,$B302=\"M\"),MAX(J$2:J301)+1,\"\"))","v":266},{"$f":"IF($S302<>\"\",\"\",IF(AND($E302<=K$1,$B302=\"M\"),MAX(K$2:K301)+1,\"\"))","v":186},{"$f":"IF($S302<>\"\",\"\",IF(AND($E302<=L$1,$B302=\"M\"),MAX(L$2:L301)+1,\"\"))","v":86},{"$f":"IF($S302<>\"\",\"\",IF(AND($E302<=M$1,$B302=\"M\"),MAX(M$2:M301)+1,\"\"))","v":""},{"$f":"IF($S302<>\"\",\"\",IF(AND($E302<=N$1,$B302=\"F\"),MAX(N$2:N301)+1,\"\"))","v":""},{"$f":"IF($S302<>\"\",\"\",IF(AND($E302<=O$1,$B302=\"F\"),MAX(O$2:O301)+1,\"\"))","v":""},{"$f":"IF(AND($S302<>\"\",$S302<>\"No pot jugar individual\"),\"\",IF(AND($F302<=P$1,$B302=\"M\"),MAX(P$2:P301)+1,\"\"))","v":266},{"$f":"IF(AND($S302<>\"\",$S302<>\"No pot jugar individual\"),\"\",IF(AND($F302<=Q$1,$B302=\"M\"),MAX(Q$2:Q301)+1,\"\"))","v":86},{"$f":"IF($S302<>\"\",\"\",IF($F302<=R$1,MAX(R$2:R301)+1,\"\"))","v":""},"",4,0,0,0,null,null,null,"P","O","N","M","L"]
[10908,"M","ARDERIU Pau","ALE-1",2,1,"CALELLA","CALELLA",6.9,{"$f":"IF($S303<>\"\",\"\",IF(AND($E303<=J$1,$B303=\"M\"),MAX(J$2:J302)+1,\"\"))","v":267},{"$f":"IF($S303<>\"\",\"\",IF(AND($E303<=K$1,$B303=\"M\"),MAX(K$2:K302)+1,\"\"))","v":187},{"$f":"IF($S303<>\"\",\"\",IF(AND($E303<=L$1,$B303=\"M\"),MAX(L$2:L302)+1,\"\"))","v":87},{"$f":"IF($S303<>\"\",\"\",IF(AND($E303<=M$1,$B303=\"M\"),MAX(M$2:M302)+1,\"\"))","v":""},{"$f":"IF($S303<>\"\",\"\",IF(AND($E303<=N$1,$B303=\"F\"),MAX(N$2:N302)+1,\"\"))","v":""},{"$f":"IF($S303<>\"\",\"\",IF(AND($E303<=O$1,$B303=\"F\"),MAX(O$2:O302)+1,\"\"))","v":""},{"$f":"IF(AND($S303<>\"\",$S303<>\"No pot jugar individual\"),\"\",IF(AND($F303<=P$1,$B303=\"M\"),MAX(P$2:P302)+1,\"\"))","v":267},{"$f":"IF(AND($S303<>\"\",$S303<>\"No pot jugar individual\"),\"\",IF(AND($F303<=Q$1,$B303=\"M\"),MAX(Q$2:Q302)+1,\"\"))","v":87},{"$f":"IF($S303<>\"\",\"\",IF($F303<=R$1,MAX(R$2:R302)+1,\"\"))","v":""},"",7,{"$f":"COUNTIF($AF303:$AL303,U$2)","v":0},1,0,"N","N","N","N","N","M","L","M",null,null,null,null,null,null,"BN"]
[10909,"M","MORENO Quim","PRE-0",1,1,"RIPOLLET","RIPOLLET",6.85,{"$f":"IF($S304<>\"\",\"\",IF(AND($E304<=J$1,$B304=\"M\"),MAX(J$2:J303)+1,\"\"))","v":268},{"$f":"IF($S304<>\"\",\"\",IF(AND($E304<=K$1,$B304=\"M\"),MAX(K$2:K303)+1,\"\"))","v":188},{"$f":"IF($S304<>\"\",\"\",IF(AND($E304<=L$1,$B304=\"M\"),MAX(L$2:L303)+1,\"\"))","v":88},{"$f":"IF($S304<>\"\",\"\",IF(AND($E304<=M$1,$B304=\"M\"),MAX(M$2:M303)+1,\"\"))","v":27},{"$f":"IF($S304<>\"\",\"\",IF(AND($E304<=N$1,$B304=\"F\"),MAX(N$2:N303)+1,\"\"))","v":""},{"$f":"IF($S304<>\"\",\"\",IF(AND($E304<=O$1,$B304=\"F\"),MAX(O$2:O303)+1,\"\"))","v":""},{"$f":"IF(AND($S304<>\"\",$S304<>\"No pot jugar individual\"),\"\",IF(AND($F304<=P$1,$B304=\"M\"),MAX(P$2:P303)+1,\"\"))","v":268},{"$f":"IF(AND($S304<>\"\",$S304<>\"No pot jugar individual\"),\"\",IF(AND($F304<=Q$1,$B304=\"M\"),MAX(Q$2:Q303)+1,\"\"))","v":88},{"$f":"IF($S304<>\"\",\"\",IF($F304<=R$1,MAX(R$2:R303)+1,\"\"))","v":""},"",7,0,0,0,"O","O","O","N","N","N","M","M"]
[11168,"M","BARBERA Joan","PRE-0",1,1,"CNSABA","CNSABA",6.83,{"$f":"IF($S305<>\"\",\"\",IF(AND($E305<=J$1,$B305=\"M\"),MAX(J$2:J304)+1,\"\"))","v":269},{"$f":"IF($S305<>\"\",\"\",IF(AND($E305<=K$1,$B305=\"M\"),MAX(K$2:K304)+1,\"\"))","v":189},{"$f":"IF($S305<>\"\",\"\",IF(AND($E305<=L$1,$B305=\"M\"),MAX(L$2:L304)+1,\"\"))","v":89},{"$f":"IF($S305<>\"\",\"\",IF(AND($E305<=M$1,$B305=\"M\"),MAX(M$2:M304)+1,\"\"))","v":28},{"$f":"IF($S305<>\"\",\"\",IF(AND($E305<=N$1,$B305=\"F\"),MAX(N$2:N304)+1,\"\"))","v":""},{"$f":"IF($S305<>\"\",\"\",IF(AND($E305<=O$1,$B305=\"F\"),MAX(O$2:O304)+1,\"\"))","v":""},{"$f":"IF(AND($S305<>\"\",$S305<>\"No pot jugar individual\"),\"\",IF(AND($F305<=P$1,$B305=\"M\"),MAX(P$2:P304)+1,\"\"))","v":269},{"$f":"IF(AND($S305<>\"\",$S305<>\"No pot jugar individual\"),\"\",IF(AND($F305<=Q$1,$B305=\"M\"),MAX(Q$2:Q304)+1,\"\"))","v":89},{"$f":"IF($S305<>\"\",\"\",IF($F305<=R$1,MAX(R$2:R304)+1,\"\"))","v":""},"",7,0,0,0,"O","O","P","O","O","N","M","M"]
[7265,"F","SANCHEZ Aiko","ALE-2",2,0,"CALELLA","CALELLA",6.6,{"$f":"IF($S306<>\"\",\"\",IF(AND($E306<=J$1,$B306=\"M\"),MAX(J$2:J305)+1,\"\"))","v":""},{"$f":"IF($S306<>\"\",\"\",IF(AND($E306<=K$1,$B306=\"M\"),MAX(K$2:K305)+1,\"\"))","v":""},{"$f":"IF($S306<>\"\",\"\",IF(AND($E306<=L$1,$B306=\"M\"),MAX(L$2:L305)+1,\"\"))","v":""},{"$f":"IF($S306<>\"\",\"\",IF(AND($E306<=M$1,$B306=\"M\"),MAX(M$2:M305)+1,\"\"))","v":""},{"$f":"IF($S306<>\"\",\"\",IF(AND($E306<=N$1,$B306=\"F\"),MAX(N$2:N305)+1,\"\"))","v":35},{"$f":"IF($S306<>\"\",\"\",IF(AND($E306<=O$1,$B306=\"F\"),MAX(O$2:O305)+1,\"\"))","v":19},{"$f":"IF(AND($S306<>\"\",$S306<>\"No pot jugar individual\"),\"\",IF(AND($F306<=P$1,$B306=\"M\"),MAX(P$2:P305)+1,\"\"))","v":""},{"$f":"IF(AND($S306<>\"\",$S306<>\"No pot jugar individual\"),\"\",IF(AND($F306<=Q$1,$B306=\"M\"),MAX(Q$2:Q305)+1,\"\"))","v":""},{"$f":"IF($S306<>\"\",\"\",IF($F306<=R$1,MAX(R$2:R305)+1,\"\"))","v":35},"",7,3,0,0,"J","K","K","L","M","N","M","M","BC",null,"BC","BJ","BC"]
[11383,"F","CASTILLA Laia","BEN-2",1,0,"STCUGAT","STCUGAT",6.2000000000000011,{"$f":"IF($S307<>\"\",\"\",IF(AND($E307<=J$1,$B307=\"M\"),MAX(J$2:J306)+1,\"\"))","v":""},{"$f":"IF($S307<>\"\",\"\",IF(AND($E307<=K$1,$B307=\"M\"),MAX(K$2:K306)+1,\"\"))","v":""},{"$f":"IF($S307<>\"\",\"\",IF(AND($E307<=L$1,$B307=\"M\"),MAX(L$2:L306)+1,\"\"))","v":""},{"$f":"IF($S307<>\"\",\"\",IF(AND($E307<=M$1,$B307=\"M\"),MAX(M$2:M306)+1,\"\"))","v":""},{"$f":"IF($S307<>\"\",\"\",IF(AND($E307<=N$1,$B307=\"F\"),MAX(N$2:N306)+1,\"\"))","v":36},{"$f":"IF($S307<>\"\",\"\",IF(AND($E307<=O$1,$B307=\"F\"),MAX(O$2:O306)+1,\"\"))","v":20},{"$f":"IF(AND($S307<>\"\",$S307<>\"No pot jugar individual\"),\"\",IF(AND($F307<=P$1,$B307=\"M\"),MAX(P$2:P306)+1,\"\"))","v":""},{"$f":"IF(AND($S307<>\"\",$S307<>\"No pot jugar individual\"),\"\",IF(AND($F307<=Q$1,$B307=\"M\"),MAX(Q$2:Q306)+1,\"\"))","v":""},{"$f":"IF($S307<>\"\",\"\",IF($F307<=R$1,MAX(R$2:R306)+1,\"\"))","v":36},"",7,0,0,0,"O","O","O","N","N","N","M","M"]
[10782,"M","MARTÍNEZ Oriol","PRE-0",1,1,"ESPARREGU.","ESPARREGU.",6.2,{"$f":"IF($S308<>\"\",\"\",IF(AND($E308<=J$1,$B308=\"M\"),MAX(J$2:J307)+1,\"\"))","v":270},{"$f":"IF($S308<>\"\",\"\",IF(AND($E308<=K$1,$B308=\"M\"),MAX(K$2:K307)+1,\"\"))","v":190},{"$f":"IF($S308<>\"\",\"\",IF(AND($E308<=L$1,$B308=\"M\"),MAX(L$2:L307)+1,\"\"))","v":90},{"$f":"IF($S308<>\"\",\"\",IF(AND($E308<=M$1,$B308=\"M\"),MAX(M$2:M307)+1,\"\"))","v":29},{"$f":"IF($S308<>\"\",\"\",IF(AND($E308<=N$1,$B308=\"F\"),MAX(N$2:N307)+1,\"\"))","v":""},{"$f":"IF($S308<>\"\",\"\",IF(AND($E308<=O$1,$B308=\"F\"),MAX(O$2:O307)+1,\"\"))","v":""},{"$f":"IF(AND($S308<>\"\",$S308<>\"No pot jugar individual\"),\"\",IF(AND($F308<=P$1,$B308=\"M\"),MAX(P$2:P307)+1,\"\"))","v":270},{"$f":"IF(AND($S308<>\"\",$S308<>\"No pot jugar individual\"),\"\",IF(AND($F308<=Q$1,$B308=\"M\"),MAX(Q$2:Q307)+1,\"\"))","v":90},{"$f":"IF($S308<>\"\",\"\",IF($F308<=R$1,MAX(R$2:R307)+1,\"\"))","v":""},"",7,1,0,0,"O","O","N","O","O","N","N","M",null,null,"BC"]
[11288,"F","MONTULL Meritxell","INF-1",3,0,"CALELLA","CALELLA",6.0699999999999994,{"$f":"IF($S309<>\"\",\"\",IF(AND($E309<=J$1,$B309=\"M\"),MAX(J$2:J308)+1,\"\"))","v":""},{"$f":"IF($S309<>\"\",\"\",IF(AND($E309<=K$1,$B309=\"M\"),MAX(K$2:K308)+1,\"\"))","v":""},{"$f":"IF($S309<>\"\",\"\",IF(AND($E309<=L$1,$B309=\"M\"),MAX(L$2:L308)+1,\"\"))","v":""},{"$f":"IF($S309<>\"\",\"\",IF(AND($E309<=M$1,$B309=\"M\"),MAX(M$2:M308)+1,\"\"))","v":""},{"$f":"IF($S309<>\"\",\"\",IF(AND($E309<=N$1,$B309=\"F\"),MAX(N$2:N308)+1,\"\"))","v":37},{"$f":"IF($S309<>\"\",\"\",IF(AND($E309<=O$1,$B309=\"F\"),MAX(O$2:O308)+1,\"\"))","v":""},{"$f":"IF(AND($S309<>\"\",$S309<>\"No pot jugar individual\"),\"\",IF(AND($F309<=P$1,$B309=\"M\"),MAX(P$2:P308)+1,\"\"))","v":""},{"$f":"IF(AND($S309<>\"\",$S309<>\"No pot jugar individual\"),\"\",IF(AND($F309<=Q$1,$B309=\"M\"),MAX(Q$2:Q308)+1,\"\"))","v":""},{"$f":"IF($S309<>\"\",\"\",IF($F309<=R$1,MAX(R$2:R308)+1,\"\"))","v":37},"",7,2,0,0,"M","N","N","N","N","N","M","N","BC",null,null,null,null,null,"BC"]
[11655,"M","NOVO Noel","INF-1",3,2,"CARDEDEU","CARDEDEU",6.0500000000000007,{"$f":"IF($S310<>\"\",\"\",IF(AND($E310<=J$1,$B310=\"M\"),MAX(J$2:J309)+1,\"\"))","v":271},{"$f":"IF($S310<>\"\",\"\",IF(AND($E310<=K$1,$B310=\"M\"),MAX(K$2:K309)+1,\"\"))","v":191},{"$f":"IF($S310<>\"\",\"\",IF(AND($E310<=L$1,$B310=\"M\"),MAX(L$2:L309)+1,\"\"))","v":""},{"$f":"IF($S310<>\"\",\"\",IF(AND($E310<=M$1,$B310=\"M\"),MAX(M$2:M309)+1,\"\"))","v":""},{"$f":"IF($S310<>\"\",\"\",IF(AND($E310<=N$1,$B310=\"F\"),MAX(N$2:N309)+1,\"\"))","v":""},{"$f":"IF($S310<>\"\",\"\",IF(AND($E310<=O$1,$B310=\"F\"),MAX(O$2:O309)+1,\"\"))","v":""},{"$f":"IF(AND($S310<>\"\",$S310<>\"No pot jugar individual\"),\"\",IF(AND($F310<=P$1,$B310=\"M\"),MAX(P$2:P309)+1,\"\"))","v":271},{"$f":"IF(AND($S310<>\"\",$S310<>\"No pot jugar individual\"),\"\",IF(AND($F310<=Q$1,$B310=\"M\"),MAX(Q$2:Q309)+1,\"\"))","v":""},{"$f":"IF($S310<>\"\",\"\",IF($F310<=R$1,MAX(R$2:R309)+1,\"\"))","v":""},"",4,0,0,0,null,null,null,"P","O","O","N","M"]
[11037,"M","MORENO Ruben","ALE-2",2,1,"ESPARREGU.","ESPARREGU.",5.93,{"$f":"IF($S311<>\"\",\"\",IF(AND($E311<=J$1,$B311=\"M\"),MAX(J$2:J310)+1,\"\"))","v":272},{"$f":"IF($S311<>\"\",\"\",IF(AND($E311<=K$1,$B311=\"M\"),MAX(K$2:K310)+1,\"\"))","v":192},{"$f":"IF($S311<>\"\",\"\",IF(AND($E311<=L$1,$B311=\"M\"),MAX(L$2:L310)+1,\"\"))","v":91},{"$f":"IF($S311<>\"\",\"\",IF(AND($E311<=M$1,$B311=\"M\"),MAX(M$2:M310)+1,\"\"))","v":""},{"$f":"IF($S311<>\"\",\"\",IF(AND($E311<=N$1,$B311=\"F\"),MAX(N$2:N310)+1,\"\"))","v":""},{"$f":"IF($S311<>\"\",\"\",IF(AND($E311<=O$1,$B311=\"F\"),MAX(O$2:O310)+1,\"\"))","v":""},{"$f":"IF(AND($S311<>\"\",$S311<>\"No pot jugar individual\"),\"\",IF(AND($F311<=P$1,$B311=\"M\"),MAX(P$2:P310)+1,\"\"))","v":272},{"$f":"IF(AND($S311<>\"\",$S311<>\"No pot jugar individual\"),\"\",IF(AND($F311<=Q$1,$B311=\"M\"),MAX(Q$2:Q310)+1,\"\"))","v":91},{"$f":"IF($S311<>\"\",\"\",IF($F311<=R$1,MAX(R$2:R310)+1,\"\"))","v":""},"",7,0,0,0,"N","N","O","O","N","N","N","M"]
[10190,"M","SERRANO Francisco","PRE-0",1,1,"FALCONS","FALCONS",5.86,{"$f":"IF($S312<>\"\",\"\",IF(AND($E312<=J$1,$B312=\"M\"),MAX(J$2:J311)+1,\"\"))","v":273},{"$f":"IF($S312<>\"\",\"\",IF(AND($E312<=K$1,$B312=\"M\"),MAX(K$2:K311)+1,\"\"))","v":193},{"$f":"IF($S312<>\"\",\"\",IF(AND($E312<=L$1,$B312=\"M\"),MAX(L$2:L311)+1,\"\"))","v":92},{"$f":"IF($S312<>\"\",\"\",IF(AND($E312<=M$1,$B312=\"M\"),MAX(M$2:M311)+1,\"\"))","v":30},{"$f":"IF($S312<>\"\",\"\",IF(AND($E312<=N$1,$B312=\"F\"),MAX(N$2:N311)+1,\"\"))","v":""},{"$f":"IF($S312<>\"\",\"\",IF(AND($E312<=O$1,$B312=\"F\"),MAX(O$2:O311)+1,\"\"))","v":""},{"$f":"IF(AND($S312<>\"\",$S312<>\"No pot jugar individual\"),\"\",IF(AND($F312<=P$1,$B312=\"M\"),MAX(P$2:P311)+1,\"\"))","v":273},{"$f":"IF(AND($S312<>\"\",$S312<>\"No pot jugar individual\"),\"\",IF(AND($F312<=Q$1,$B312=\"M\"),MAX(Q$2:Q311)+1,\"\"))","v":92},{"$f":"IF($S312<>\"\",\"\",IF($F312<=R$1,MAX(R$2:R311)+1,\"\"))","v":""},"",7,0,0,0,"O","O","O","O","O","N","N","M"]
[10359,"M","MULET Marc","BEN-2",1,1,"CARDEDEU","CARDEDEU",5.82,{"$f":"IF($S313<>\"\",\"\",IF(AND($E313<=J$1,$B313=\"M\"),MAX(J$2:J312)+1,\"\"))","v":274},{"$f":"IF($S313<>\"\",\"\",IF(AND($E313<=K$1,$B313=\"M\"),MAX(K$2:K312)+1,\"\"))","v":194},{"$f":"IF($S313<>\"\",\"\",IF(AND($E313<=L$1,$B313=\"M\"),MAX(L$2:L312)+1,\"\"))","v":93},{"$f":"IF($S313<>\"\",\"\",IF(AND($E313<=M$1,$B313=\"M\"),MAX(M$2:M312)+1,\"\"))","v":31},{"$f":"IF($S313<>\"\",\"\",IF(AND($E313<=N$1,$B313=\"F\"),MAX(N$2:N312)+1,\"\"))","v":""},{"$f":"IF($S313<>\"\",\"\",IF(AND($E313<=O$1,$B313=\"F\"),MAX(O$2:O312)+1,\"\"))","v":""},{"$f":"IF(AND($S313<>\"\",$S313<>\"No pot jugar individual\"),\"\",IF(AND($F313<=P$1,$B313=\"M\"),MAX(P$2:P312)+1,\"\"))","v":274},{"$f":"IF(AND($S313<>\"\",$S313<>\"No pot jugar individual\"),\"\",IF(AND($F313<=Q$1,$B313=\"M\"),MAX(Q$2:Q312)+1,\"\"))","v":93},{"$f":"IF($S313<>\"\",\"\",IF($F313<=R$1,MAX(R$2:R312)+1,\"\"))","v":""},"",7,0,0,0,"O","O","O","O","N","N","M","M"]
[11375,"M","DOMENECH Jan","BEN-2",1,1,"ESPARREGU.","ESPARREGU.",5.67,{"$f":"IF($S314<>\"\",\"\",IF(AND($E314<=J$1,$B314=\"M\"),MAX(J$2:J313)+1,\"\"))","v":275},{"$f":"IF($S314<>\"\",\"\",IF(AND($E314<=K$1,$B314=\"M\"),MAX(K$2:K313)+1,\"\"))","v":195},{"$f":"IF($S314<>\"\",\"\",IF(AND($E314<=L$1,$B314=\"M\"),MAX(L$2:L313)+1,\"\"))","v":94},{"$f":"IF($S314<>\"\",\"\",IF(AND($E314<=M$1,$B314=\"M\"),MAX(M$2:M313)+1,\"\"))","v":32},{"$f":"IF($S314<>\"\",\"\",IF(AND($E314<=N$1,$B314=\"F\"),MAX(N$2:N313)+1,\"\"))","v":""},{"$f":"IF($S314<>\"\",\"\",IF(AND($E314<=O$1,$B314=\"F\"),MAX(O$2:O313)+1,\"\"))","v":""},{"$f":"IF(AND($S314<>\"\",$S314<>\"No pot jugar individual\"),\"\",IF(AND($F314<=P$1,$B314=\"M\"),MAX(P$2:P313)+1,\"\"))","v":275},{"$f":"IF(AND($S314<>\"\",$S314<>\"No pot jugar individual\"),\"\",IF(AND($F314<=Q$1,$B314=\"M\"),MAX(Q$2:Q313)+1,\"\"))","v":94},{"$f":"IF($S314<>\"\",\"\",IF($F314<=R$1,MAX(R$2:R313)+1,\"\"))","v":""},"",7,1,0,0,"O","O","P","P","O","N","N","N",null,"BC"]
[11666,"M","RODRIGUEZ Izar","ALE-2",2,1,"COLLBATO","COLLBATO",5.59,{"$f":"IF($S315<>\"\",\"\",IF(AND($E315<=J$1,$B315=\"M\"),MAX(J$2:J314)+1,\"\"))","v":276},{"$f":"IF($S315<>\"\",\"\",IF(AND($E315<=K$1,$B315=\"M\"),MAX(K$2:K314)+1,\"\"))","v":196},{"$f":"IF($S315<>\"\",\"\",IF(AND($E315<=L$1,$B315=\"M\"),MAX(L$2:L314)+1,\"\"))","v":95},{"$f":"IF($S315<>\"\",\"\",IF(AND($E315<=M$1,$B315=\"M\"),MAX(M$2:M314)+1,\"\"))","v":""},{"$f":"IF($S315<>\"\",\"\",IF(AND($E315<=N$1,$B315=\"F\"),MAX(N$2:N314)+1,\"\"))","v":""},{"$f":"IF($S315<>\"\",\"\",IF(AND($E315<=O$1,$B315=\"F\"),MAX(O$2:O314)+1,\"\"))","v":""},{"$f":"IF(AND($S315<>\"\",$S315<>\"No pot jugar individual\"),\"\",IF(AND($F315<=P$1,$B315=\"M\"),MAX(P$2:P314)+1,\"\"))","v":276},{"$f":"IF(AND($S315<>\"\",$S315<>\"No pot jugar individual\"),\"\",IF(AND($F315<=Q$1,$B315=\"M\"),MAX(Q$2:Q314)+1,\"\"))","v":95},{"$f":"IF($S315<>\"\",\"\",IF($F315<=R$1,MAX(R$2:R314)+1,\"\"))","v":""},"",5,0,0,0,null,null,"O","O","O","O","N","M"]
[10312,"M","QUESADA Roger","PRE-0",1,1,"ESPARREGU.","ESPARREGU.",5.54,{"$f":"IF($S316<>\"\",\"\",IF(AND($E316<=J$1,$B316=\"M\"),MAX(J$2:J315)+1,\"\"))","v":277},{"$f":"IF($S316<>\"\",\"\",IF(AND($E316<=K$1,$B316=\"M\"),MAX(K$2:K315)+1,\"\"))","v":197},{"$f":"IF($S316<>\"\",\"\",IF(AND($E316<=L$1,$B316=\"M\"),MAX(L$2:L315)+1,\"\"))","v":96},{"$f":"IF($S316<>\"\",\"\",IF(AND($E316<=M$1,$B316=\"M\"),MAX(M$2:M315)+1,\"\"))","v":33},{"$f":"IF($S316<>\"\",\"\",IF(AND($E316<=N$1,$B316=\"F\"),MAX(N$2:N315)+1,\"\"))","v":""},{"$f":"IF($S316<>\"\",\"\",IF(AND($E316<=O$1,$B316=\"F\"),MAX(O$2:O315)+1,\"\"))","v":""},{"$f":"IF(AND($S316<>\"\",$S316<>\"No pot jugar individual\"),\"\",IF(AND($F316<=P$1,$B316=\"M\"),MAX(P$2:P315)+1,\"\"))","v":277},{"$f":"IF(AND($S316<>\"\",$S316<>\"No pot jugar individual\"),\"\",IF(AND($F316<=Q$1,$B316=\"M\"),MAX(Q$2:Q315)+1,\"\"))","v":96},{"$f":"IF($S316<>\"\",\"\",IF($F316<=R$1,MAX(R$2:R315)+1,\"\"))","v":""},"",7,0,0,0,"O","O","P","O","O","N","N","N"]
[11659,"M","MONTEYS Max","ALE-1",2,1,"STCUGAT","STCUGAT",5.41,{"$f":"IF($S317<>\"\",\"\",IF(AND($E317<=J$1,$B317=\"M\"),MAX(J$2:J316)+1,\"\"))","v":278},{"$f":"IF($S317<>\"\",\"\",IF(AND($E317<=K$1,$B317=\"M\"),MAX(K$2:K316)+1,\"\"))","v":198},{"$f":"IF($S317<>\"\",\"\",IF(AND($E317<=L$1,$B317=\"M\"),MAX(L$2:L316)+1,\"\"))","v":97},{"$f":"IF($S317<>\"\",\"\",IF(AND($E317<=M$1,$B317=\"M\"),MAX(M$2:M316)+1,\"\"))","v":""},{"$f":"IF($S317<>\"\",\"\",IF(AND($E317<=N$1,$B317=\"F\"),MAX(N$2:N316)+1,\"\"))","v":""},{"$f":"IF($S317<>\"\",\"\",IF(AND($E317<=O$1,$B317=\"F\"),MAX(O$2:O316)+1,\"\"))","v":""},{"$f":"IF(AND($S317<>\"\",$S317<>\"No pot jugar individual\"),\"\",IF(AND($F317<=P$1,$B317=\"M\"),MAX(P$2:P316)+1,\"\"))","v":278},{"$f":"IF(AND($S317<>\"\",$S317<>\"No pot jugar individual\"),\"\",IF(AND($F317<=Q$1,$B317=\"M\"),MAX(Q$2:Q316)+1,\"\"))","v":97},{"$f":"IF($S317<>\"\",\"\",IF($F317<=R$1,MAX(R$2:R316)+1,\"\"))","v":""},"",5,1,0,0,null,null,"P","O","N","O","N","M",null,null,null,null,"BC"]
[11668,"M","RIVERO Pau","JUV-1",4,2,"COLLBATO","COLLBATO",5.3000000000000007,{"$f":"IF($S318<>\"\",\"\",IF(AND($E318<=J$1,$B318=\"M\"),MAX(J$2:J317)+1,\"\"))","v":279},{"$f":"IF($S318<>\"\",\"\",IF(AND($E318<=K$1,$B318=\"M\"),MAX(K$2:K317)+1,\"\"))","v":""},{"$f":"IF($S318<>\"\",\"\",IF(AND($E318<=L$1,$B318=\"M\"),MAX(L$2:L317)+1,\"\"))","v":""},{"$f":"IF($S318<>\"\",\"\",IF(AND($E318<=M$1,$B318=\"M\"),MAX(M$2:M317)+1,\"\"))","v":""},{"$f":"IF($S318<>\"\",\"\",IF(AND($E318<=N$1,$B318=\"F\"),MAX(N$2:N317)+1,\"\"))","v":""},{"$f":"IF($S318<>\"\",\"\",IF(AND($E318<=O$1,$B318=\"F\"),MAX(O$2:O317)+1,\"\"))","v":""},{"$f":"IF(AND($S318<>\"\",$S318<>\"No pot jugar individual\"),\"\",IF(AND($F318<=P$1,$B318=\"M\"),MAX(P$2:P317)+1,\"\"))","v":279},{"$f":"IF(AND($S318<>\"\",$S318<>\"No pot jugar individual\"),\"\",IF(AND($F318<=Q$1,$B318=\"M\"),MAX(Q$2:Q317)+1,\"\"))","v":""},{"$f":"IF($S318<>\"\",\"\",IF($F318<=R$1,MAX(R$2:R317)+1,\"\"))","v":""},"",5,0,0,0,null,null,"O","O","N","N","M","N",null,null,null,null,null,null,"BJ"]
[11662,"M","SANSANO Adrià","BEN-1",1,1,"STCUGAT","STCUGAT",5.21,{"$f":"IF($S319<>\"\",\"\",IF(AND($E319<=J$1,$B319=\"M\"),MAX(J$2:J318)+1,\"\"))","v":280},{"$f":"IF($S319<>\"\",\"\",IF(AND($E319<=K$1,$B319=\"M\"),MAX(K$2:K318)+1,\"\"))","v":199},{"$f":"IF($S319<>\"\",\"\",IF(AND($E319<=L$1,$B319=\"M\"),MAX(L$2:L318)+1,\"\"))","v":98},{"$f":"IF($S319<>\"\",\"\",IF(AND($E319<=M$1,$B319=\"M\"),MAX(M$2:M318)+1,\"\"))","v":34},{"$f":"IF($S319<>\"\",\"\",IF(AND($E319<=N$1,$B319=\"F\"),MAX(N$2:N318)+1,\"\"))","v":""},{"$f":"IF($S319<>\"\",\"\",IF(AND($E319<=O$1,$B319=\"F\"),MAX(O$2:O318)+1,\"\"))","v":""},{"$f":"IF(AND($S319<>\"\",$S319<>\"No pot jugar individual\"),\"\",IF(AND($F319<=P$1,$B319=\"M\"),MAX(P$2:P318)+1,\"\"))","v":280},{"$f":"IF(AND($S319<>\"\",$S319<>\"No pot jugar individual\"),\"\",IF(AND($F319<=Q$1,$B319=\"M\"),MAX(Q$2:Q318)+1,\"\"))","v":98},{"$f":"IF($S319<>\"\",\"\",IF($F319<=R$1,MAX(R$2:R318)+1,\"\"))","v":""},"",5,1,0,0,null,null,"P","O","N","N","O","N",null,null,null,null,null,"BC"]
[11376,"M","RECHES Edgar","INF-1",3,2,"CTGALI","CTGALI",5.21,{"$f":"IF($S320<>\"\",\"\",IF(AND($E320<=J$1,$B320=\"M\"),MAX(J$2:J319)+1,\"\"))","v":281},{"$f":"IF($S320<>\"\",\"\",IF(AND($E320<=K$1,$B320=\"M\"),MAX(K$2:K319)+1,\"\"))","v":200},{"$f":"IF($S320<>\"\",\"\",IF(AND($E320<=L$1,$B320=\"M\"),MAX(L$2:L319)+1,\"\"))","v":""},{"$f":"IF($S320<>\"\",\"\",IF(AND($E320<=M$1,$B320=\"M\"),MAX(M$2:M319)+1,\"\"))","v":""},{"$f":"IF($S320<>\"\",\"\",IF(AND($E320<=N$1,$B320=\"F\"),MAX(N$2:N319)+1,\"\"))","v":""},{"$f":"IF($S320<>\"\",\"\",IF(AND($E320<=O$1,$B320=\"F\"),MAX(O$2:O319)+1,\"\"))","v":""},{"$f":"IF(AND($S320<>\"\",$S320<>\"No pot jugar individual\"),\"\",IF(AND($F320<=P$1,$B320=\"M\"),MAX(P$2:P319)+1,\"\"))","v":281},{"$f":"IF(AND($S320<>\"\",$S320<>\"No pot jugar individual\"),\"\",IF(AND($F320<=Q$1,$B320=\"M\"),MAX(Q$2:Q319)+1,\"\"))","v":""},{"$f":"IF($S320<>\"\",\"\",IF($F320<=R$1,MAX(R$2:R319)+1,\"\"))","v":""},"",7,2,0,0,"M","N","N","N","N","M","N","O",null,null,null,null,null,"BC","BC"]
[11379,"M","FERNANDEZ Pau","INF-2",3,2,"INDEPEN","INDEPEN",5.18,{"$f":"IF($S321<>\"\",\"\",IF(AND($E321<=J$1,$B321=\"M\"),MAX(J$2:J320)+1,\"\"))","v":282},{"$f":"IF($S321<>\"\",\"\",IF(AND($E321<=K$1,$B321=\"M\"),MAX(K$2:K320)+1,\"\"))","v":201},{"$f":"IF($S321<>\"\",\"\",IF(AND($E321<=L$1,$B321=\"M\"),MAX(L$2:L320)+1,\"\"))","v":""},{"$f":"IF($S321<>\"\",\"\",IF(AND($E321<=M$1,$B321=\"M\"),MAX(M$2:M320)+1,\"\"))","v":""},{"$f":"IF($S321<>\"\",\"\",IF(AND($E321<=N$1,$B321=\"F\"),MAX(N$2:N320)+1,\"\"))","v":""},{"$f":"IF($S321<>\"\",\"\",IF(AND($E321<=O$1,$B321=\"F\"),MAX(O$2:O320)+1,\"\"))","v":""},{"$f":"IF(AND($S321<>\"\",$S321<>\"No pot jugar individual\"),\"\",IF(AND($F321<=P$1,$B321=\"M\"),MAX(P$2:P320)+1,\"\"))","v":282},{"$f":"IF(AND($S321<>\"\",$S321<>\"No pot jugar individual\"),\"\",IF(AND($F321<=Q$1,$B321=\"M\"),MAX(Q$2:Q320)+1,\"\"))","v":""},{"$f":"IF($S321<>\"\",\"\",IF($F321<=R$1,MAX(R$2:R320)+1,\"\"))","v":""},"",7,0,1,0,"L","M","M","M","N","O","N","N",null,null,null,"BJ","BN"]
[11650,"M","FERNANDEZ Alex","JUV-3",4,2,"CARDEDEU","CARDEDEU",5.18,{"$f":"IF($S322<>\"\",\"\",IF(AND($E322<=J$1,$B322=\"M\"),MAX(J$2:J321)+1,\"\"))","v":283},{"$f":"IF($S322<>\"\",\"\",IF(AND($E322<=K$1,$B322=\"M\"),MAX(K$2:K321)+1,\"\"))","v":""},{"$f":"IF($S322<>\"\",\"\",IF(AND($E322<=L$1,$B322=\"M\"),MAX(L$2:L321)+1,\"\"))","v":""},{"$f":"IF($S322<>\"\",\"\",IF(AND($E322<=M$1,$B322=\"M\"),MAX(M$2:M321)+1,\"\"))","v":""},{"$f":"IF($S322<>\"\",\"\",IF(AND($E322<=N$1,$B322=\"F\"),MAX(N$2:N321)+1,\"\"))","v":""},{"$f":"IF($S322<>\"\",\"\",IF(AND($E322<=O$1,$B322=\"F\"),MAX(O$2:O321)+1,\"\"))","v":""},{"$f":"IF(AND($S322<>\"\",$S322<>\"No pot jugar individual\"),\"\",IF(AND($F322<=P$1,$B322=\"M\"),MAX(P$2:P321)+1,\"\"))","v":283},{"$f":"IF(AND($S322<>\"\",$S322<>\"No pot jugar individual\"),\"\",IF(AND($F322<=Q$1,$B322=\"M\"),MAX(Q$2:Q321)+1,\"\"))","v":""},{"$f":"IF($S322<>\"\",\"\",IF($F322<=R$1,MAX(R$2:R321)+1,\"\"))","v":""},"",4,0,0,0,null,null,null,"P","O","O","N","N"]
[10743,"M","RUBIROLA Aleix","INF-2",{"$f":"IF(LEFT(D323,1)=\"P\",1,IF(LEFT(D323,1)=\"B\",1,IF(LEFT(D323,1)=\"A\",2,IF(LEFT(D323,1)=\"I\",3,4))))","v":3},{"$f":"IF(B323=\"F\",0,IF(LEFT(D323,1)=\"P\",1,IF(LEFT(D323,1)=\"B\",1,IF(LEFT(D323,1)=\"A\",1,IF(LEFT(D323,1)=\"I\",2,2)))))","v":2},"POBLENOU","POBLENOU",5.1000000000000005,{"$f":"IF($S323<>\"\",\"\",IF(AND($E323<=J$1,$B323=\"M\"),MAX(J$2:J322)+1,\"\"))","v":284},{"$f":"IF($S323<>\"\",\"\",IF(AND($E323<=K$1,$B323=\"M\"),MAX(K$2:K322)+1,\"\"))","v":202},{"$f":"IF($S323<>\"\",\"\",IF(AND($E323<=L$1,$B323=\"M\"),MAX(L$2:L322)+1,\"\"))","v":""},{"$f":"IF($S323<>\"\",\"\",IF(AND($E323<=M$1,$B323=\"M\"),MAX(M$2:M322)+1,\"\"))","v":""},{"$f":"IF($S323<>\"\",\"\",IF(AND($E323<=N$1,$B323=\"F\"),MAX(N$2:N322)+1,\"\"))","v":""},{"$f":"IF($S323<>\"\",\"\",IF(AND($E323<=O$1,$B323=\"F\"),MAX(O$2:O322)+1,\"\"))","v":""},{"$f":"IF(AND($S323<>\"\",$S323<>\"No pot jugar individual\"),\"\",IF(AND($F323<=P$1,$B323=\"M\"),MAX(P$2:P322)+1,\"\"))","v":284},{"$f":"IF(AND($S323<>\"\",$S323<>\"No pot jugar individual\"),\"\",IF(AND($F323<=Q$1,$B323=\"M\"),MAX(Q$2:Q322)+1,\"\"))","v":""},{"$f":"IF($S323<>\"\",\"\",IF($F323<=R$1,MAX(R$2:R322)+1,\"\"))","v":""},{"$f":"IF(1=1,\"\",IF(W323<>0,\"No pot jugar\",IF(OR(AE323=\"Y\",AE323=\"Z\",G323=\"INDEPEN\",G323=\"R.ELISENDA\"),\"No pot jugar\",IF(T323-U323-V323-W323=0,IF(V323<>0,\"No pot jugar\",IF(AND(B323=\"M\",OR(G323=\"INDEPEN\",G323=\"R.ELISENDA\")),\"No pot jugar individual\",\"\")),IF(AND(B323=\"M\",OR(G323=\"INDEPEN\",G323=\"R.ELISENDA\")),\"No pot jugar individual\",\"\")))))","v":""},{"$f":"7-COUNTBLANK(X323:AD323)","v":7},{"$f":"COUNTIF($AF323:$AL323,U$2)","v":1},1,0,"L","M","N","M","N","N","M","N",null,null,null,null,"BC",null,"BN"]
[10046,"M","HERNÁNDEZ Gerard","ALE-2",2,1,"EUROCLIMA BDN","EUROCLIMA BDN",5.0999999999999996,{"$f":"IF($S324<>\"\",\"\",IF(AND($E324<=J$1,$B324=\"M\"),MAX(J$2:J323)+1,\"\"))","v":285},{"$f":"IF($S324<>\"\",\"\",IF(AND($E324<=K$1,$B324=\"M\"),MAX(K$2:K323)+1,\"\"))","v":203},{"$f":"IF($S324<>\"\",\"\",IF(AND($E324<=L$1,$B324=\"M\"),MAX(L$2:L323)+1,\"\"))","v":99},{"$f":"IF($S324<>\"\",\"\",IF(AND($E324<=M$1,$B324=\"M\"),MAX(M$2:M323)+1,\"\"))","v":""},{"$f":"IF($S324<>\"\",\"\",IF(AND($E324<=N$1,$B324=\"F\"),MAX(N$2:N323)+1,\"\"))","v":""},{"$f":"IF($S324<>\"\",\"\",IF(AND($E324<=O$1,$B324=\"F\"),MAX(O$2:O323)+1,\"\"))","v":""},{"$f":"IF(AND($S324<>\"\",$S324<>\"No pot jugar individual\"),\"\",IF(AND($F324<=P$1,$B324=\"M\"),MAX(P$2:P323)+1,\"\"))","v":285},{"$f":"IF(AND($S324<>\"\",$S324<>\"No pot jugar individual\"),\"\",IF(AND($F324<=Q$1,$B324=\"M\"),MAX(Q$2:Q323)+1,\"\"))","v":99},{"$f":"IF($S324<>\"\",\"\",IF($F324<=R$1,MAX(R$2:R323)+1,\"\"))","v":""},"",7,1,1,0,"I","J","K","K","L","M","M","M","BN",null,null,null,"BC"]
[10337,"M","SANCHEZ Ruben","BEN-2",1,1,"PARETS","PARETS",4.76,{"$f":"IF($S325<>\"\",\"\",IF(AND($E325<=J$1,$B325=\"M\"),MAX(J$2:J324)+1,\"\"))","v":286},{"$f":"IF($S325<>\"\",\"\",IF(AND($E325<=K$1,$B325=\"M\"),MAX(K$2:K324)+1,\"\"))","v":204},{"$f":"IF($S325<>\"\",\"\",IF(AND($E325<=L$1,$B325=\"M\"),MAX(L$2:L324)+1,\"\"))","v":100},{"$f":"IF($S325<>\"\",\"\",IF(AND($E325<=M$1,$B325=\"M\"),MAX(M$2:M324)+1,\"\"))","v":35},{"$f":"IF($S325<>\"\",\"\",IF(AND($E325<=N$1,$B325=\"F\"),MAX(N$2:N324)+1,\"\"))","v":""},{"$f":"IF($S325<>\"\",\"\",IF(AND($E325<=O$1,$B325=\"F\"),MAX(O$2:O324)+1,\"\"))","v":""},{"$f":"IF(AND($S325<>\"\",$S325<>\"No pot jugar individual\"),\"\",IF(AND($F325<=P$1,$B325=\"M\"),MAX(P$2:P324)+1,\"\"))","v":286},{"$f":"IF(AND($S325<>\"\",$S325<>\"No pot jugar individual\"),\"\",IF(AND($F325<=Q$1,$B325=\"M\"),MAX(Q$2:Q324)+1,\"\"))","v":100},{"$f":"IF($S325<>\"\",\"\",IF($F325<=R$1,MAX(R$2:R324)+1,\"\"))","v":""},"",7,3,0,0,"J","K","L","M","N","O","N","N","BC",null,null,"BC","BC"]
[11371,"M","VILA Biel","ALE-1",2,1,"FALCONS","FALCONS",4.74,{"$f":"IF($S326<>\"\",\"\",IF(AND($E326<=J$1,$B326=\"M\"),MAX(J$2:J325)+1,\"\"))","v":287},{"$f":"IF($S326<>\"\",\"\",IF(AND($E326<=K$1,$B326=\"M\"),MAX(K$2:K325)+1,\"\"))","v":205},{"$f":"IF($S326<>\"\",\"\",IF(AND($E326<=L$1,$B326=\"M\"),MAX(L$2:L325)+1,\"\"))","v":101},{"$f":"IF($S326<>\"\",\"\",IF(AND($E326<=M$1,$B326=\"M\"),MAX(M$2:M325)+1,\"\"))","v":""},{"$f":"IF($S326<>\"\",\"\",IF(AND($E326<=N$1,$B326=\"F\"),MAX(N$2:N325)+1,\"\"))","v":""},{"$f":"IF($S326<>\"\",\"\",IF(AND($E326<=O$1,$B326=\"F\"),MAX(O$2:O325)+1,\"\"))","v":""},{"$f":"IF(AND($S326<>\"\",$S326<>\"No pot jugar individual\"),\"\",IF(AND($F326<=P$1,$B326=\"M\"),MAX(P$2:P325)+1,\"\"))","v":287},{"$f":"IF(AND($S326<>\"\",$S326<>\"No pot jugar individual\"),\"\",IF(AND($F326<=Q$1,$B326=\"M\"),MAX(Q$2:Q325)+1,\"\"))","v":101},{"$f":"IF($S326<>\"\",\"\",IF($F326<=R$1,MAX(R$2:R325)+1,\"\"))","v":""},"",7,0,0,0,"N","N","O","P","Q","P","O","N"]
[11665,"M","MARTINEZ Roger","JUV-1",4,2,"COLLBATO","COLLBATO",4.63,{"$f":"IF($S327<>\"\",\"\",IF(AND($E327<=J$1,$B327=\"M\"),MAX(J$2:J326)+1,\"\"))","v":288},{"$f":"IF($S327<>\"\",\"\",IF(AND($E327<=K$1,$B327=\"M\"),MAX(K$2:K326)+1,\"\"))","v":""},{"$f":"IF($S327<>\"\",\"\",IF(AND($E327<=L$1,$B327=\"M\"),MAX(L$2:L326)+1,\"\"))","v":""},{"$f":"IF($S327<>\"\",\"\",IF(AND($E327<=M$1,$B327=\"M\"),MAX(M$2:M326)+1,\"\"))","v":""},{"$f":"IF($S327<>\"\",\"\",IF(AND($E327<=N$1,$B327=\"F\"),MAX(N$2:N326)+1,\"\"))","v":""},{"$f":"IF($S327<>\"\",\"\",IF(AND($E327<=O$1,$B327=\"F\"),MAX(O$2:O326)+1,\"\"))","v":""},{"$f":"IF(AND($S327<>\"\",$S327<>\"No pot jugar individual\"),\"\",IF(AND($F327<=P$1,$B327=\"M\"),MAX(P$2:P326)+1,\"\"))","v":288},{"$f":"IF(AND($S327<>\"\",$S327<>\"No pot jugar individual\"),\"\",IF(AND($F327<=Q$1,$B327=\"M\"),MAX(Q$2:Q326)+1,\"\"))","v":""},{"$f":"IF($S327<>\"\",\"\",IF($F327<=R$1,MAX(R$2:R326)+1,\"\"))","v":""},"",5,0,1,0,null,null,"O","N","O","N","N","N",null,null,null,"BN"]
[11167,"M","RUIZ Jordi","PRE-0",1,1,"CNSABA","CNSABA",4.59,{"$f":"IF($S328<>\"\",\"\",IF(AND($E328<=J$1,$B328=\"M\"),MAX(J$2:J327)+1,\"\"))","v":289},{"$f":"IF($S328<>\"\",\"\",IF(AND($E328<=K$1,$B328=\"M\"),MAX(K$2:K327)+1,\"\"))","v":206},{"$f":"IF($S328<>\"\",\"\",IF(AND($E328<=L$1,$B328=\"M\"),MAX(L$2:L327)+1,\"\"))","v":102},{"$f":"IF($S328<>\"\",\"\",IF(AND($E328<=M$1,$B328=\"M\"),MAX(M$2:M327)+1,\"\"))","v":36},{"$f":"IF($S328<>\"\",\"\",IF(AND($E328<=N$1,$B328=\"F\"),MAX(N$2:N327)+1,\"\"))","v":""},{"$f":"IF($S328<>\"\",\"\",IF(AND($E328<=O$1,$B328=\"F\"),MAX(O$2:O327)+1,\"\"))","v":""},{"$f":"IF(AND($S328<>\"\",$S328<>\"No pot jugar individual\"),\"\",IF(AND($F328<=P$1,$B328=\"M\"),MAX(P$2:P327)+1,\"\"))","v":289},{"$f":"IF(AND($S328<>\"\",$S328<>\"No pot jugar individual\"),\"\",IF(AND($F328<=Q$1,$B328=\"M\"),MAX(Q$2:Q327)+1,\"\"))","v":102},{"$f":"IF($S328<>\"\",\"\",IF($F328<=R$1,MAX(R$2:R327)+1,\"\"))","v":""},"",7,0,0,0,"O","O","P","P","O","O","O","N"]
[10864,"M","MIRANDA Nahum","ALE-1",2,1,"MATARO","MATARO",4.58,{"$f":"IF($S329<>\"\",\"\",IF(AND($E329<=J$1,$B329=\"M\"),MAX(J$2:J328)+1,\"\"))","v":290},{"$f":"IF($S329<>\"\",\"\",IF(AND($E329<=K$1,$B329=\"M\"),MAX(K$2:K328)+1,\"\"))","v":207},{"$f":"IF($S329<>\"\",\"\",IF(AND($E329<=L$1,$B329=\"M\"),MAX(L$2:L328)+1,\"\"))","v":103},{"$f":"IF($S329<>\"\",\"\",IF(AND($E329<=M$1,$B329=\"M\"),MAX(M$2:M328)+1,\"\"))","v":""},{"$f":"IF($S329<>\"\",\"\",IF(AND($E329<=N$1,$B329=\"F\"),MAX(N$2:N328)+1,\"\"))","v":""},{"$f":"IF($S329<>\"\",\"\",IF(AND($E329<=O$1,$B329=\"F\"),MAX(O$2:O328)+1,\"\"))","v":""},{"$f":"IF(AND($S329<>\"\",$S329<>\"No pot jugar individual\"),\"\",IF(AND($F329<=P$1,$B329=\"M\"),MAX(P$2:P328)+1,\"\"))","v":290},{"$f":"IF(AND($S329<>\"\",$S329<>\"No pot jugar individual\"),\"\",IF(AND($F329<=Q$1,$B329=\"M\"),MAX(Q$2:Q328)+1,\"\"))","v":103},{"$f":"IF($S329<>\"\",\"\",IF($F329<=R$1,MAX(R$2:R328)+1,\"\"))","v":""},"",6,0,0,0,null,"P","P","Q","P","P","O","N"]
[11538,"M","GALCERAN Pep","ALE-2",2,1,"MATARO","MATARO",4.5599999999999996,{"$f":"IF($S330<>\"\",\"\",IF(AND($E330<=J$1,$B330=\"M\"),MAX(J$2:J329)+1,\"\"))","v":291},{"$f":"IF($S330<>\"\",\"\",IF(AND($E330<=K$1,$B330=\"M\"),MAX(K$2:K329)+1,\"\"))","v":208},{"$f":"IF($S330<>\"\",\"\",IF(AND($E330<=L$1,$B330=\"M\"),MAX(L$2:L329)+1,\"\"))","v":104},{"$f":"IF($S330<>\"\",\"\",IF(AND($E330<=M$1,$B330=\"M\"),MAX(M$2:M329)+1,\"\"))","v":""},{"$f":"IF($S330<>\"\",\"\",IF(AND($E330<=N$1,$B330=\"F\"),MAX(N$2:N329)+1,\"\"))","v":""},{"$f":"IF($S330<>\"\",\"\",IF(AND($E330<=O$1,$B330=\"F\"),MAX(O$2:O329)+1,\"\"))","v":""},{"$f":"IF(AND($S330<>\"\",$S330<>\"No pot jugar individual\"),\"\",IF(AND($F330<=P$1,$B330=\"M\"),MAX(P$2:P329)+1,\"\"))","v":291},{"$f":"IF(AND($S330<>\"\",$S330<>\"No pot jugar individual\"),\"\",IF(AND($F330<=Q$1,$B330=\"M\"),MAX(Q$2:Q329)+1,\"\"))","v":104},{"$f":"IF($S330<>\"\",\"\",IF($F330<=R$1,MAX(R$2:R329)+1,\"\"))","v":""},"",6,1,0,0,null,"O","O","O","P","O","N","N",null,"SA",null,"BC"]
[11616,"M","SCHAPIRE Bruno","BEN-2",1,1,"STCUGAT","STCUGAT",4.46,{"$f":"IF($S331<>\"\",\"\",IF(AND($E331<=J$1,$B331=\"M\"),MAX(J$2:J330)+1,\"\"))","v":292},{"$f":"IF($S331<>\"\",\"\",IF(AND($E331<=K$1,$B331=\"M\"),MAX(K$2:K330)+1,\"\"))","v":209},{"$f":"IF($S331<>\"\",\"\",IF(AND($E331<=L$1,$B331=\"M\"),MAX(L$2:L330)+1,\"\"))","v":105},{"$f":"IF($S331<>\"\",\"\",IF(AND($E331<=M$1,$B331=\"M\"),MAX(M$2:M330)+1,\"\"))","v":37},{"$f":"IF($S331<>\"\",\"\",IF(AND($E331<=N$1,$B331=\"F\"),MAX(N$2:N330)+1,\"\"))","v":""},{"$f":"IF($S331<>\"\",\"\",IF(AND($E331<=O$1,$B331=\"F\"),MAX(O$2:O330)+1,\"\"))","v":""},{"$f":"IF(AND($S331<>\"\",$S331<>\"No pot jugar individual\"),\"\",IF(AND($F331<=P$1,$B331=\"M\"),MAX(P$2:P330)+1,\"\"))","v":292},{"$f":"IF(AND($S331<>\"\",$S331<>\"No pot jugar individual\"),\"\",IF(AND($F331<=Q$1,$B331=\"M\"),MAX(Q$2:Q330)+1,\"\"))","v":105},{"$f":"IF($S331<>\"\",\"\",IF($F331<=R$1,MAX(R$2:R330)+1,\"\"))","v":""},"",6,1,0,0,null,"P","O","O","P","O","N","N",null,null,null,"BC"]
[10869,"M","MARANTE Fernando","BEN-2",1,1,"HOSPIT","HOSPIT",4.4399999999999995,{"$f":"IF($S332<>\"\",\"\",IF(AND($E332<=J$1,$B332=\"M\"),MAX(J$2:J331)+1,\"\"))","v":293},{"$f":"IF($S332<>\"\",\"\",IF(AND($E332<=K$1,$B332=\"M\"),MAX(K$2:K331)+1,\"\"))","v":210},{"$f":"IF($S332<>\"\",\"\",IF(AND($E332<=L$1,$B332=\"M\"),MAX(L$2:L331)+1,\"\"))","v":106},{"$f":"IF($S332<>\"\",\"\",IF(AND($E332<=M$1,$B332=\"M\"),MAX(M$2:M331)+1,\"\"))","v":38},{"$f":"IF($S332<>\"\",\"\",IF(AND($E332<=N$1,$B332=\"F\"),MAX(N$2:N331)+1,\"\"))","v":""},{"$f":"IF($S332<>\"\",\"\",IF(AND($E332<=O$1,$B332=\"F\"),MAX(O$2:O331)+1,\"\"))","v":""},{"$f":"IF(AND($S332<>\"\",$S332<>\"No pot jugar individual\"),\"\",IF(AND($F332<=P$1,$B332=\"M\"),MAX(P$2:P331)+1,\"\"))","v":293},{"$f":"IF(AND($S332<>\"\",$S332<>\"No pot jugar individual\"),\"\",IF(AND($F332<=Q$1,$B332=\"M\"),MAX(Q$2:Q331)+1,\"\"))","v":106},{"$f":"IF($S332<>\"\",\"\",IF($F332<=R$1,MAX(R$2:R331)+1,\"\"))","v":""},"",7,2,0,0,"O","O","N","N","O","P","O","N",null,null,null,"BC","BC"]
[11283,"M","RAVENTÓS Arnau","ALE-1",2,1,"EUROCLIMA BDN","EUROCLIMA BDN",4.4399999999999995,{"$f":"IF($S333<>\"\",\"\",IF(AND($E333<=J$1,$B333=\"M\"),MAX(J$2:J332)+1,\"\"))","v":294},{"$f":"IF($S333<>\"\",\"\",IF(AND($E333<=K$1,$B333=\"M\"),MAX(K$2:K332)+1,\"\"))","v":211},{"$f":"IF($S333<>\"\",\"\",IF(AND($E333<=L$1,$B333=\"M\"),MAX(L$2:L332)+1,\"\"))","v":107},{"$f":"IF($S333<>\"\",\"\",IF(AND($E333<=M$1,$B333=\"M\"),MAX(M$2:M332)+1,\"\"))","v":""},{"$f":"IF($S333<>\"\",\"\",IF(AND($E333<=N$1,$B333=\"F\"),MAX(N$2:N332)+1,\"\"))","v":""},{"$f":"IF($S333<>\"\",\"\",IF(AND($E333<=O$1,$B333=\"F\"),MAX(O$2:O332)+1,\"\"))","v":""},{"$f":"IF(AND($S333<>\"\",$S333<>\"No pot jugar individual\"),\"\",IF(AND($F333<=P$1,$B333=\"M\"),MAX(P$2:P332)+1,\"\"))","v":294},{"$f":"IF(AND($S333<>\"\",$S333<>\"No pot jugar individual\"),\"\",IF(AND($F333<=Q$1,$B333=\"M\"),MAX(Q$2:Q332)+1,\"\"))","v":107},{"$f":"IF($S333<>\"\",\"\",IF($F333<=R$1,MAX(R$2:R332)+1,\"\"))","v":""},"",4,0,0,0,null,null,null,"Q","P","O","N","N"]
[11405,"M","BIOSCA Jan","BEN-2",1,1,"ICELAND ELS 8","ICELAND ELS 8",4.41,{"$f":"IF($S334<>\"\",\"\",IF(AND($E334<=J$1,$B334=\"M\"),MAX(J$2:J333)+1,\"\"))","v":295},{"$f":"IF($S334<>\"\",\"\",IF(AND($E334<=K$1,$B334=\"M\"),MAX(K$2:K333)+1,\"\"))","v":212},{"$f":"IF($S334<>\"\",\"\",IF(AND($E334<=L$1,$B334=\"M\"),MAX(L$2:L333)+1,\"\"))","v":108},{"$f":"IF($S334<>\"\",\"\",IF(AND($E334<=M$1,$B334=\"M\"),MAX(M$2:M333)+1,\"\"))","v":39},{"$f":"IF($S334<>\"\",\"\",IF(AND($E334<=N$1,$B334=\"F\"),MAX(N$2:N333)+1,\"\"))","v":""},{"$f":"IF($S334<>\"\",\"\",IF(AND($E334<=O$1,$B334=\"F\"),MAX(O$2:O333)+1,\"\"))","v":""},{"$f":"IF(AND($S334<>\"\",$S334<>\"No pot jugar individual\"),\"\",IF(AND($F334<=P$1,$B334=\"M\"),MAX(P$2:P333)+1,\"\"))","v":295},{"$f":"IF(AND($S334<>\"\",$S334<>\"No pot jugar individual\"),\"\",IF(AND($F334<=Q$1,$B334=\"M\"),MAX(Q$2:Q333)+1,\"\"))","v":108},{"$f":"IF($S334<>\"\",\"\",IF($F334<=R$1,MAX(R$2:R333)+1,\"\"))","v":""},"",6,0,0,0,null,"P","P","P","P","O","N","N"]
[11274,"M","BLANCO Andres","JUV-3",4,2,"CTGALI","CTGALI",4.4000000000000004,{"$f":"IF($S335<>\"\",\"\",IF(AND($E335<=J$1,$B335=\"M\"),MAX(J$2:J334)+1,\"\"))","v":296},{"$f":"IF($S335<>\"\",\"\",IF(AND($E335<=K$1,$B335=\"M\"),MAX(K$2:K334)+1,\"\"))","v":""},{"$f":"IF($S335<>\"\",\"\",IF(AND($E335<=L$1,$B335=\"M\"),MAX(L$2:L334)+1,\"\"))","v":""},{"$f":"IF($S335<>\"\",\"\",IF(AND($E335<=M$1,$B335=\"M\"),MAX(M$2:M334)+1,\"\"))","v":""},{"$f":"IF($S335<>\"\",\"\",IF(AND($E335<=N$1,$B335=\"F\"),MAX(N$2:N334)+1,\"\"))","v":""},{"$f":"IF($S335<>\"\",\"\",IF(AND($E335<=O$1,$B335=\"F\"),MAX(O$2:O334)+1,\"\"))","v":""},{"$f":"IF(AND($S335<>\"\",$S335<>\"No pot jugar individual\"),\"\",IF(AND($F335<=P$1,$B335=\"M\"),MAX(P$2:P334)+1,\"\"))","v":296},{"$f":"IF(AND($S335<>\"\",$S335<>\"No pot jugar individual\"),\"\",IF(AND($F335<=Q$1,$B335=\"M\"),MAX(Q$2:Q334)+1,\"\"))","v":""},{"$f":"IF($S335<>\"\",\"\",IF($F335<=R$1,MAX(R$2:R334)+1,\"\"))","v":""},"",7,1,0,0,"K","L","M","N","N","N","N","N",null,null,"BC","BJ","BJ","BJ","BJ"]
[11062,"M","GANDULLO Joel","INF-2",3,2,"RIPOLLET","RIPOLLET",4.4000000000000004,{"$f":"IF($S336<>\"\",\"\",IF(AND($E336<=J$1,$B336=\"M\"),MAX(J$2:J335)+1,\"\"))","v":297},{"$f":"IF($S336<>\"\",\"\",IF(AND($E336<=K$1,$B336=\"M\"),MAX(K$2:K335)+1,\"\"))","v":213},{"$f":"IF($S336<>\"\",\"\",IF(AND($E336<=L$1,$B336=\"M\"),MAX(L$2:L335)+1,\"\"))","v":""},{"$f":"IF($S336<>\"\",\"\",IF(AND($E336<=M$1,$B336=\"M\"),MAX(M$2:M335)+1,\"\"))","v":""},{"$f":"IF($S336<>\"\",\"\",IF(AND($E336<=N$1,$B336=\"F\"),MAX(N$2:N335)+1,\"\"))","v":""},{"$f":"IF($S336<>\"\",\"\",IF(AND($E336<=O$1,$B336=\"F\"),MAX(O$2:O335)+1,\"\"))","v":""},{"$f":"IF(AND($S336<>\"\",$S336<>\"No pot jugar individual\"),\"\",IF(AND($F336<=P$1,$B336=\"M\"),MAX(P$2:P335)+1,\"\"))","v":297},{"$f":"IF(AND($S336<>\"\",$S336<>\"No pot jugar individual\"),\"\",IF(AND($F336<=Q$1,$B336=\"M\"),MAX(Q$2:Q335)+1,\"\"))","v":""},{"$f":"IF($S336<>\"\",\"\",IF($F336<=R$1,MAX(R$2:R335)+1,\"\"))","v":""},"",6,1,0,0,null,"O","N","N","O","O","O","N",null,null,null,"BC","BJ","BJ"]
[6672,"M","MUÑOZ Marc","BEN-1",1,1,"CALELLA","CALELLA",4.34,{"$f":"IF($S337<>\"\",\"\",IF(AND($E337<=J$1,$B337=\"M\"),MAX(J$2:J336)+1,\"\"))","v":298},{"$f":"IF($S337<>\"\",\"\",IF(AND($E337<=K$1,$B337=\"M\"),MAX(K$2:K336)+1,\"\"))","v":214},{"$f":"IF($S337<>\"\",\"\",IF(AND($E337<=L$1,$B337=\"M\"),MAX(L$2:L336)+1,\"\"))","v":109},{"$f":"IF($S337<>\"\",\"\",IF(AND($E337<=M$1,$B337=\"M\"),MAX(M$2:M336)+1,\"\"))","v":40},{"$f":"IF($S337<>\"\",\"\",IF(AND($E337<=N$1,$B337=\"F\"),MAX(N$2:N336)+1,\"\"))","v":""},{"$f":"IF($S337<>\"\",\"\",IF(AND($E337<=O$1,$B337=\"F\"),MAX(O$2:O336)+1,\"\"))","v":""},{"$f":"IF(AND($S337<>\"\",$S337<>\"No pot jugar individual\"),\"\",IF(AND($F337<=P$1,$B337=\"M\"),MAX(P$2:P336)+1,\"\"))","v":298},{"$f":"IF(AND($S337<>\"\",$S337<>\"No pot jugar individual\"),\"\",IF(AND($F337<=Q$1,$B337=\"M\"),MAX(Q$2:Q336)+1,\"\"))","v":109},{"$f":"IF($S337<>\"\",\"\",IF($F337<=R$1,MAX(R$2:R336)+1,\"\"))","v":""},"",7,0,0,0,"O","O","P","O","P","O","N","N",null,null,null,"BJ"]
[11676,"M","BROMIRSKYI Dmytro","JUV-1",4,2,"CARDEDEU","CARDEDEU",4.33,{"$f":"IF($S338<>\"\",\"\",IF(AND($E338<=J$1,$B338=\"M\"),MAX(J$2:J337)+1,\"\"))","v":299},{"$f":"IF($S338<>\"\",\"\",IF(AND($E338<=K$1,$B338=\"M\"),MAX(K$2:K337)+1,\"\"))","v":""},{"$f":"IF($S338<>\"\",\"\",IF(AND($E338<=L$1,$B338=\"M\"),MAX(L$2:L337)+1,\"\"))","v":""},{"$f":"IF($S338<>\"\",\"\",IF(AND($E338<=M$1,$B338=\"M\"),MAX(M$2:M337)+1,\"\"))","v":""},{"$f":"IF($S338<>\"\",\"\",IF(AND($E338<=N$1,$B338=\"F\"),MAX(N$2:N337)+1,\"\"))","v":""},{"$f":"IF($S338<>\"\",\"\",IF(AND($E338<=O$1,$B338=\"F\"),MAX(O$2:O337)+1,\"\"))","v":""},{"$f":"IF(AND($S338<>\"\",$S338<>\"No pot jugar individual\"),\"\",IF(AND($F338<=P$1,$B338=\"M\"),MAX(P$2:P337)+1,\"\"))","v":299},{"$f":"IF(AND($S338<>\"\",$S338<>\"No pot jugar individual\"),\"\",IF(AND($F338<=Q$1,$B338=\"M\"),MAX(Q$2:Q337)+1,\"\"))","v":""},{"$f":"IF($S338<>\"\",\"\",IF($F338<=R$1,MAX(R$2:R337)+1,\"\"))","v":""},"",3,0,0,0,null,null,null,null,"P","O","N","M"]
[11326,"F","ESCOBAR Violeta","BEN-1",1,0,"VILANOVA","VILANOVA",4.21,{"$f":"IF($S339<>\"\",\"\",IF(AND($E339<=J$1,$B339=\"M\"),MAX(J$2:J338)+1,\"\"))","v":""},{"$f":"IF($S339<>\"\",\"\",IF(AND($E339<=K$1,$B339=\"M\"),MAX(K$2:K338)+1,\"\"))","v":""},{"$f":"IF($S339<>\"\",\"\",IF(AND($E339<=L$1,$B339=\"M\"),MAX(L$2:L338)+1,\"\"))","v":""},{"$f":"IF($S339<>\"\",\"\",IF(AND($E339<=M$1,$B339=\"M\"),MAX(M$2:M338)+1,\"\"))","v":""},{"$f":"IF($S339<>\"\",\"\",IF(AND($E339<=N$1,$B339=\"F\"),MAX(N$2:N338)+1,\"\"))","v":38},{"$f":"IF($S339<>\"\",\"\",IF(AND($E339<=O$1,$B339=\"F\"),MAX(O$2:O338)+1,\"\"))","v":21},{"$f":"IF(AND($S339<>\"\",$S339<>\"No pot jugar individual\"),\"\",IF(AND($F339<=P$1,$B339=\"M\"),MAX(P$2:P338)+1,\"\"))","v":""},{"$f":"IF(AND($S339<>\"\",$S339<>\"No pot jugar individual\"),\"\",IF(AND($F339<=Q$1,$B339=\"M\"),MAX(Q$2:Q338)+1,\"\"))","v":""},{"$f":"IF($S339<>\"\",\"\",IF($F339<=R$1,MAX(R$2:R338)+1,\"\"))","v":38},"",7,1,0,0,"O","P","P","P","P","Q","P","O","BC"]
[11593,"M","ELLACURÍA Pablo","BEN-2",1,1,"HOSPIT","HOSPIT",4.13,{"$f":"IF($S340<>\"\",\"\",IF(AND($E340<=J$1,$B340=\"M\"),MAX(J$2:J339)+1,\"\"))","v":300},{"$f":"IF($S340<>\"\",\"\",IF(AND($E340<=K$1,$B340=\"M\"),MAX(K$2:K339)+1,\"\"))","v":215},{"$f":"IF($S340<>\"\",\"\",IF(AND($E340<=L$1,$B340=\"M\"),MAX(L$2:L339)+1,\"\"))","v":110},{"$f":"IF($S340<>\"\",\"\",IF(AND($E340<=M$1,$B340=\"M\"),MAX(M$2:M339)+1,\"\"))","v":41},{"$f":"IF($S340<>\"\",\"\",IF(AND($E340<=N$1,$B340=\"F\"),MAX(N$2:N339)+1,\"\"))","v":""},{"$f":"IF($S340<>\"\",\"\",IF(AND($E340<=O$1,$B340=\"F\"),MAX(O$2:O339)+1,\"\"))","v":""},{"$f":"IF(AND($S340<>\"\",$S340<>\"No pot jugar individual\"),\"\",IF(AND($F340<=P$1,$B340=\"M\"),MAX(P$2:P339)+1,\"\"))","v":300},{"$f":"IF(AND($S340<>\"\",$S340<>\"No pot jugar individual\"),\"\",IF(AND($F340<=Q$1,$B340=\"M\"),MAX(Q$2:Q339)+1,\"\"))","v":110},{"$f":"IF($S340<>\"\",\"\",IF($F340<=R$1,MAX(R$2:R339)+1,\"\"))","v":""},"",6,0,0,0,null,"P","P","Q","Q","P","O","O"]
[10975,"M","MUNIESA Victor","ALE-2",2,1,"HOSPIT","HOSPIT",4.0599999999999996,{"$f":"IF($S341<>\"\",\"\",IF(AND($E341<=J$1,$B341=\"M\"),MAX(J$2:J340)+1,\"\"))","v":301},{"$f":"IF($S341<>\"\",\"\",IF(AND($E341<=K$1,$B341=\"M\"),MAX(K$2:K340)+1,\"\"))","v":216},{"$f":"IF($S341<>\"\",\"\",IF(AND($E341<=L$1,$B341=\"M\"),MAX(L$2:L340)+1,\"\"))","v":111},{"$f":"IF($S341<>\"\",\"\",IF(AND($E341<=M$1,$B341=\"M\"),MAX(M$2:M340)+1,\"\"))","v":""},{"$f":"IF($S341<>\"\",\"\",IF(AND($E341<=N$1,$B341=\"F\"),MAX(N$2:N340)+1,\"\"))","v":""},{"$f":"IF($S341<>\"\",\"\",IF(AND($E341<=O$1,$B341=\"F\"),MAX(O$2:O340)+1,\"\"))","v":""},{"$f":"IF(AND($S341<>\"\",$S341<>\"No pot jugar individual\"),\"\",IF(AND($F341<=P$1,$B341=\"M\"),MAX(P$2:P340)+1,\"\"))","v":301},{"$f":"IF(AND($S341<>\"\",$S341<>\"No pot jugar individual\"),\"\",IF(AND($F341<=Q$1,$B341=\"M\"),MAX(Q$2:Q340)+1,\"\"))","v":111},{"$f":"IF($S341<>\"\",\"\",IF($F341<=R$1,MAX(R$2:R340)+1,\"\"))","v":""},"",6,1,0,0,null,"O","O","O","O","O","N","O",null,null,null,null,null,null,"BC"]
[11476,"M","PEREZ Gerard","ALE-1",2,1,"CONGRES","CONGRES",4.0299999999999994,{"$f":"IF($S342<>\"\",\"\",IF(AND($E342<=J$1,$B342=\"M\"),MAX(J$2:J341)+1,\"\"))","v":302},{"$f":"IF($S342<>\"\",\"\",IF(AND($E342<=K$1,$B342=\"M\"),MAX(K$2:K341)+1,\"\"))","v":217},{"$f":"IF($S342<>\"\",\"\",IF(AND($E342<=L$1,$B342=\"M\"),MAX(L$2:L341)+1,\"\"))","v":112},{"$f":"IF($S342<>\"\",\"\",IF(AND($E342<=M$1,$B342=\"M\"),MAX(M$2:M341)+1,\"\"))","v":""},{"$f":"IF($S342<>\"\",\"\",IF(AND($E342<=N$1,$B342=\"F\"),MAX(N$2:N341)+1,\"\"))","v":""},{"$f":"IF($S342<>\"\",\"\",IF(AND($E342<=O$1,$B342=\"F\"),MAX(O$2:O341)+1,\"\"))","v":""},{"$f":"IF(AND($S342<>\"\",$S342<>\"No pot jugar individual\"),\"\",IF(AND($F342<=P$1,$B342=\"M\"),MAX(P$2:P341)+1,\"\"))","v":302},{"$f":"IF(AND($S342<>\"\",$S342<>\"No pot jugar individual\"),\"\",IF(AND($F342<=Q$1,$B342=\"M\"),MAX(Q$2:Q341)+1,\"\"))","v":112},{"$f":"IF($S342<>\"\",\"\",IF($F342<=R$1,MAX(R$2:R341)+1,\"\"))","v":""},"",6,0,0,0,null,"P","P","Q","Q","P","O","O"]
[11367,"M","IBAÑEZ Gerard","ALE-1",2,1,"CTGALI","CTGALI",4.0200000000000005,{"$f":"IF($S343<>\"\",\"\",IF(AND($E343<=J$1,$B343=\"M\"),MAX(J$2:J342)+1,\"\"))","v":303},{"$f":"IF($S343<>\"\",\"\",IF(AND($E343<=K$1,$B343=\"M\"),MAX(K$2:K342)+1,\"\"))","v":218},{"$f":"IF($S343<>\"\",\"\",IF(AND($E343<=L$1,$B343=\"M\"),MAX(L$2:L342)+1,\"\"))","v":113},{"$f":"IF($S343<>\"\",\"\",IF(AND($E343<=M$1,$B343=\"M\"),MAX(M$2:M342)+1,\"\"))","v":""},{"$f":"IF($S343<>\"\",\"\",IF(AND($E343<=N$1,$B343=\"F\"),MAX(N$2:N342)+1,\"\"))","v":""},{"$f":"IF($S343<>\"\",\"\",IF(AND($E343<=O$1,$B343=\"F\"),MAX(O$2:O342)+1,\"\"))","v":""},{"$f":"IF(AND($S343<>\"\",$S343<>\"No pot jugar individual\"),\"\",IF(AND($F343<=P$1,$B343=\"M\"),MAX(P$2:P342)+1,\"\"))","v":303},{"$f":"IF(AND($S343<>\"\",$S343<>\"No pot jugar individual\"),\"\",IF(AND($F343<=Q$1,$B343=\"M\"),MAX(Q$2:Q342)+1,\"\"))","v":113},{"$f":"IF($S343<>\"\",\"\",IF($F343<=R$1,MAX(R$2:R342)+1,\"\"))","v":""},"",7,{"$f":"COUNTIF($AF343:$AL343,U$2)","v":1},0,0,"N","P","P","Q","Q","P","P","O","BC"]
[10272,"M","MULET Arnau","PRE-0",1,1,"CARDEDEU","CARDEDEU",4,{"$f":"IF($S344<>\"\",\"\",IF(AND($E344<=J$1,$B344=\"M\"),MAX(J$2:J343)+1,\"\"))","v":304},{"$f":"IF($S344<>\"\",\"\",IF(AND($E344<=K$1,$B344=\"M\"),MAX(K$2:K343)+1,\"\"))","v":219},{"$f":"IF($S344<>\"\",\"\",IF(AND($E344<=L$1,$B344=\"M\"),MAX(L$2:L343)+1,\"\"))","v":114},{"$f":"IF($S344<>\"\",\"\",IF(AND($E344<=M$1,$B344=\"M\"),MAX(M$2:M343)+1,\"\"))","v":42},{"$f":"IF($S344<>\"\",\"\",IF(AND($E344<=N$1,$B344=\"F\"),MAX(N$2:N343)+1,\"\"))","v":""},{"$f":"IF($S344<>\"\",\"\",IF(AND($E344<=O$1,$B344=\"F\"),MAX(O$2:O343)+1,\"\"))","v":""},{"$f":"IF(AND($S344<>\"\",$S344<>\"No pot jugar individual\"),\"\",IF(AND($F344<=P$1,$B344=\"M\"),MAX(P$2:P343)+1,\"\"))","v":304},{"$f":"IF(AND($S344<>\"\",$S344<>\"No pot jugar individual\"),\"\",IF(AND($F344<=Q$1,$B344=\"M\"),MAX(Q$2:Q343)+1,\"\"))","v":114},{"$f":"IF($S344<>\"\",\"\",IF($F344<=R$1,MAX(R$2:R343)+1,\"\"))","v":""},"",7,1,0,0,"O","O","O","O","O","O","O","P",null,null,null,null,null,null,"BC"]
[10672,"F","CASTELLS Iris","BEN-1",1,0,"ICELAND ELS 8","ICELAND ELS 8",3.99,{"$f":"IF($S345<>\"\",\"\",IF(AND($E345<=J$1,$B345=\"M\"),MAX(J$2:J344)+1,\"\"))","v":""},{"$f":"IF($S345<>\"\",\"\",IF(AND($E345<=K$1,$B345=\"M\"),MAX(K$2:K344)+1,\"\"))","v":""},{"$f":"IF($S345<>\"\",\"\",IF(AND($E345<=L$1,$B345=\"M\"),MAX(L$2:L344)+1,\"\"))","v":""},{"$f":"IF($S345<>\"\",\"\",IF(AND($E345<=M$1,$B345=\"M\"),MAX(M$2:M344)+1,\"\"))","v":""},{"$f":"IF($S345<>\"\",\"\",IF(AND($E345<=N$1,$B345=\"F\"),MAX(N$2:N344)+1,\"\"))","v":39},{"$f":"IF($S345<>\"\",\"\",IF(AND($E345<=O$1,$B345=\"F\"),MAX(O$2:O344)+1,\"\"))","v":22},{"$f":"IF(AND($S345<>\"\",$S345<>\"No pot jugar individual\"),\"\",IF(AND($F345<=P$1,$B345=\"M\"),MAX(P$2:P344)+1,\"\"))","v":""},{"$f":"IF(AND($S345<>\"\",$S345<>\"No pot jugar individual\"),\"\",IF(AND($F345<=Q$1,$B345=\"M\"),MAX(Q$2:Q344)+1,\"\"))","v":""},{"$f":"IF($S345<>\"\",\"\",IF($F345<=R$1,MAX(R$2:R344)+1,\"\"))","v":39},"",6,0,0,0,null,"P","P","Q","Q","P","O","O"]
[8618,"M","SANZ Unai","BEN-2",1,1,"ESPARREGU.","ESPARREGU.",3.9600000000000004,{"$f":"IF($S346<>\"\",\"\",IF(AND($E346<=J$1,$B346=\"M\"),MAX(J$2:J345)+1,\"\"))","v":305},{"$f":"IF($S346<>\"\",\"\",IF(AND($E346<=K$1,$B346=\"M\"),MAX(K$2:K345)+1,\"\"))","v":220},{"$f":"IF($S346<>\"\",\"\",IF(AND($E346<=L$1,$B346=\"M\"),MAX(L$2:L345)+1,\"\"))","v":115},{"$f":"IF($S346<>\"\",\"\",IF(AND($E346<=M$1,$B346=\"M\"),MAX(M$2:M345)+1,\"\"))","v":43},{"$f":"IF($S346<>\"\",\"\",IF(AND($E346<=N$1,$B346=\"F\"),MAX(N$2:N345)+1,\"\"))","v":""},{"$f":"IF($S346<>\"\",\"\",IF(AND($E346<=O$1,$B346=\"F\"),MAX(O$2:O345)+1,\"\"))","v":""},{"$f":"IF(AND($S346<>\"\",$S346<>\"No pot jugar individual\"),\"\",IF(AND($F346<=P$1,$B346=\"M\"),MAX(P$2:P345)+1,\"\"))","v":305},{"$f":"IF(AND($S346<>\"\",$S346<>\"No pot jugar individual\"),\"\",IF(AND($F346<=Q$1,$B346=\"M\"),MAX(Q$2:Q345)+1,\"\"))","v":115},{"$f":"IF($S346<>\"\",\"\",IF($F346<=R$1,MAX(R$2:R345)+1,\"\"))","v":""},"",7,0,0,0,"O","O","P","P","Q","Q","Q","P"]
[6074,"M","ESPEJO Pol","PRE-0",1,1,"VILANOVA","VILANOVA",3.9400000000000004,{"$f":"IF($S347<>\"\",\"\",IF(AND($E347<=J$1,$B347=\"M\"),MAX(J$2:J346)+1,\"\"))","v":306},{"$f":"IF($S347<>\"\",\"\",IF(AND($E347<=K$1,$B347=\"M\"),MAX(K$2:K346)+1,\"\"))","v":221},{"$f":"IF($S347<>\"\",\"\",IF(AND($E347<=L$1,$B347=\"M\"),MAX(L$2:L346)+1,\"\"))","v":116},{"$f":"IF($S347<>\"\",\"\",IF(AND($E347<=M$1,$B347=\"M\"),MAX(M$2:M346)+1,\"\"))","v":44},{"$f":"IF($S347<>\"\",\"\",IF(AND($E347<=N$1,$B347=\"F\"),MAX(N$2:N346)+1,\"\"))","v":""},{"$f":"IF($S347<>\"\",\"\",IF(AND($E347<=O$1,$B347=\"F\"),MAX(O$2:O346)+1,\"\"))","v":""},{"$f":"IF(AND($S347<>\"\",$S347<>\"No pot jugar individual\"),\"\",IF(AND($F347<=P$1,$B347=\"M\"),MAX(P$2:P346)+1,\"\"))","v":306},{"$f":"IF(AND($S347<>\"\",$S347<>\"No pot jugar individual\"),\"\",IF(AND($F347<=Q$1,$B347=\"M\"),MAX(Q$2:Q346)+1,\"\"))","v":116},{"$f":"IF($S347<>\"\",\"\",IF($F347<=R$1,MAX(R$2:R346)+1,\"\"))","v":""},"",7,1,0,0,"O","O","O","O","O","O","P","P",null,null,null,null,null,"BC"]
[11236,"M","WEISZ Jan","PRE-0",1,1,"CNSABA","CNSABA",3.9,{"$f":"IF($S348<>\"\",\"\",IF(AND($E348<=J$1,$B348=\"M\"),MAX(J$2:J347)+1,\"\"))","v":307},{"$f":"IF($S348<>\"\",\"\",IF(AND($E348<=K$1,$B348=\"M\"),MAX(K$2:K347)+1,\"\"))","v":222},{"$f":"IF($S348<>\"\",\"\",IF(AND($E348<=L$1,$B348=\"M\"),MAX(L$2:L347)+1,\"\"))","v":117},{"$f":"IF($S348<>\"\",\"\",IF(AND($E348<=M$1,$B348=\"M\"),MAX(M$2:M347)+1,\"\"))","v":45},{"$f":"IF($S348<>\"\",\"\",IF(AND($E348<=N$1,$B348=\"F\"),MAX(N$2:N347)+1,\"\"))","v":""},{"$f":"IF($S348<>\"\",\"\",IF(AND($E348<=O$1,$B348=\"F\"),MAX(O$2:O347)+1,\"\"))","v":""},{"$f":"IF(AND($S348<>\"\",$S348<>\"No pot jugar individual\"),\"\",IF(AND($F348<=P$1,$B348=\"M\"),MAX(P$2:P347)+1,\"\"))","v":307},{"$f":"IF(AND($S348<>\"\",$S348<>\"No pot jugar individual\"),\"\",IF(AND($F348<=Q$1,$B348=\"M\"),MAX(Q$2:Q347)+1,\"\"))","v":117},{"$f":"IF($S348<>\"\",\"\",IF($F348<=R$1,MAX(R$2:R347)+1,\"\"))","v":""},"",7,1,0,0,"O","O","P","Q","Q","P","O","O",null,"BC"]
[10673,"M","SALA Esteve","BEN-2",1,1,"ICELAND ELS 8","ICELAND ELS 8",3.8700000000000006,{"$f":"IF($S349<>\"\",\"\",IF(AND($E349<=J$1,$B349=\"M\"),MAX(J$2:J348)+1,\"\"))","v":308},{"$f":"IF($S349<>\"\",\"\",IF(AND($E349<=K$1,$B349=\"M\"),MAX(K$2:K348)+1,\"\"))","v":223},{"$f":"IF($S349<>\"\",\"\",IF(AND($E349<=L$1,$B349=\"M\"),MAX(L$2:L348)+1,\"\"))","v":118},{"$f":"IF($S349<>\"\",\"\",IF(AND($E349<=M$1,$B349=\"M\"),MAX(M$2:M348)+1,\"\"))","v":46},{"$f":"IF($S349<>\"\",\"\",IF(AND($E349<=N$1,$B349=\"F\"),MAX(N$2:N348)+1,\"\"))","v":""},{"$f":"IF($S349<>\"\",\"\",IF(AND($E349<=O$1,$B349=\"F\"),MAX(O$2:O348)+1,\"\"))","v":""},{"$f":"IF(AND($S349<>\"\",$S349<>\"No pot jugar individual\"),\"\",IF(AND($F349<=P$1,$B349=\"M\"),MAX(P$2:P348)+1,\"\"))","v":308},{"$f":"IF(AND($S349<>\"\",$S349<>\"No pot jugar individual\"),\"\",IF(AND($F349<=Q$1,$B349=\"M\"),MAX(Q$2:Q348)+1,\"\"))","v":118},{"$f":"IF($S349<>\"\",\"\",IF($F349<=R$1,MAX(R$2:R348)+1,\"\"))","v":""},"",6,0,0,0,null,"P","P","Q","Q","P","O","O"]
[11663,"M","RODRÍGUEZ-FERRERA Martín","BEN-1",1,1,"STCUGAT","STCUGAT",3.8,{"$f":"IF($S350<>\"\",\"\",IF(AND($E350<=J$1,$B350=\"M\"),MAX(J$2:J349)+1,\"\"))","v":309},{"$f":"IF($S350<>\"\",\"\",IF(AND($E350<=K$1,$B350=\"M\"),MAX(K$2:K349)+1,\"\"))","v":224},{"$f":"IF($S350<>\"\",\"\",IF(AND($E350<=L$1,$B350=\"M\"),MAX(L$2:L349)+1,\"\"))","v":119},{"$f":"IF($S350<>\"\",\"\",IF(AND($E350<=M$1,$B350=\"M\"),MAX(M$2:M349)+1,\"\"))","v":47},{"$f":"IF($S350<>\"\",\"\",IF(AND($E350<=N$1,$B350=\"F\"),MAX(N$2:N349)+1,\"\"))","v":""},{"$f":"IF($S350<>\"\",\"\",IF(AND($E350<=O$1,$B350=\"F\"),MAX(O$2:O349)+1,\"\"))","v":""},{"$f":"IF(AND($S350<>\"\",$S350<>\"No pot jugar individual\"),\"\",IF(AND($F350<=P$1,$B350=\"M\"),MAX(P$2:P349)+1,\"\"))","v":309},{"$f":"IF(AND($S350<>\"\",$S350<>\"No pot jugar individual\"),\"\",IF(AND($F350<=Q$1,$B350=\"M\"),MAX(Q$2:Q349)+1,\"\"))","v":119},{"$f":"IF($S350<>\"\",\"\",IF($F350<=R$1,MAX(R$2:R349)+1,\"\"))","v":""},"",5,0,0,0,null,null,"P","Q","Q","P","O","N"]
[10358,"M","BOSCH Miquel","JUV-1",4,2,"CARDEDEU","CARDEDEU",3.79,{"$f":"IF($S351<>\"\",\"\",IF(AND($E351<=J$1,$B351=\"M\"),MAX(J$2:J350)+1,\"\"))","v":310},{"$f":"IF($S351<>\"\",\"\",IF(AND($E351<=K$1,$B351=\"M\"),MAX(K$2:K350)+1,\"\"))","v":""},{"$f":"IF($S351<>\"\",\"\",IF(AND($E351<=L$1,$B351=\"M\"),MAX(L$2:L350)+1,\"\"))","v":""},{"$f":"IF($S351<>\"\",\"\",IF(AND($E351<=M$1,$B351=\"M\"),MAX(M$2:M350)+1,\"\"))","v":""},{"$f":"IF($S351<>\"\",\"\",IF(AND($E351<=N$1,$B351=\"F\"),MAX(N$2:N350)+1,\"\"))","v":""},{"$f":"IF($S351<>\"\",\"\",IF(AND($E351<=O$1,$B351=\"F\"),MAX(O$2:O350)+1,\"\"))","v":""},{"$f":"IF(AND($S351<>\"\",$S351<>\"No pot jugar individual\"),\"\",IF(AND($F351<=P$1,$B351=\"M\"),MAX(P$2:P350)+1,\"\"))","v":310},{"$f":"IF(AND($S351<>\"\",$S351<>\"No pot jugar individual\"),\"\",IF(AND($F351<=Q$1,$B351=\"M\"),MAX(Q$2:Q350)+1,\"\"))","v":""},{"$f":"IF($S351<>\"\",\"\",IF($F351<=R$1,MAX(R$2:R350)+1,\"\"))","v":""},"",4,0,0,0,null,null,null,"P","O","O","O","O"]
[10868,"M","MARRO Joel","BEN-1",1,1,"HOSPIT","HOSPIT",3.76,{"$f":"IF($S352<>\"\",\"\",IF(AND($E352<=J$1,$B352=\"M\"),MAX(J$2:J351)+1,\"\"))","v":311},{"$f":"IF($S352<>\"\",\"\",IF(AND($E352<=K$1,$B352=\"M\"),MAX(K$2:K351)+1,\"\"))","v":225},{"$f":"IF($S352<>\"\",\"\",IF(AND($E352<=L$1,$B352=\"M\"),MAX(L$2:L351)+1,\"\"))","v":120},{"$f":"IF($S352<>\"\",\"\",IF(AND($E352<=M$1,$B352=\"M\"),MAX(M$2:M351)+1,\"\"))","v":48},{"$f":"IF($S352<>\"\",\"\",IF(AND($E352<=N$1,$B352=\"F\"),MAX(N$2:N351)+1,\"\"))","v":""},{"$f":"IF($S352<>\"\",\"\",IF(AND($E352<=O$1,$B352=\"F\"),MAX(O$2:O351)+1,\"\"))","v":""},{"$f":"IF(AND($S352<>\"\",$S352<>\"No pot jugar individual\"),\"\",IF(AND($F352<=P$1,$B352=\"M\"),MAX(P$2:P351)+1,\"\"))","v":311},{"$f":"IF(AND($S352<>\"\",$S352<>\"No pot jugar individual\"),\"\",IF(AND($F352<=Q$1,$B352=\"M\"),MAX(Q$2:Q351)+1,\"\"))","v":120},{"$f":"IF($S352<>\"\",\"\",IF($F352<=R$1,MAX(R$2:R351)+1,\"\"))","v":""},"",7,1,0,0,"O","O","P","P","O","O","P","O",null,null,null,null,null,"BC"]
[11381,"F","AMAGO Carla","BEN-2",1,0,"STCUGAT","STCUGAT",3.7299999999999995,{"$f":"IF($S353<>\"\",\"\",IF(AND($E353<=J$1,$B353=\"M\"),MAX(J$2:J352)+1,\"\"))","v":""},{"$f":"IF($S353<>\"\",\"\",IF(AND($E353<=K$1,$B353=\"M\"),MAX(K$2:K352)+1,\"\"))","v":""},{"$f":"IF($S353<>\"\",\"\",IF(AND($E353<=L$1,$B353=\"M\"),MAX(L$2:L352)+1,\"\"))","v":""},{"$f":"IF($S353<>\"\",\"\",IF(AND($E353<=M$1,$B353=\"M\"),MAX(M$2:M352)+1,\"\"))","v":""},{"$f":"IF($S353<>\"\",\"\",IF(AND($E353<=N$1,$B353=\"F\"),MAX(N$2:N352)+1,\"\"))","v":40},{"$f":"IF($S353<>\"\",\"\",IF(AND($E353<=O$1,$B353=\"F\"),MAX(O$2:O352)+1,\"\"))","v":23},{"$f":"IF(AND($S353<>\"\",$S353<>\"No pot jugar individual\"),\"\",IF(AND($F353<=P$1,$B353=\"M\"),MAX(P$2:P352)+1,\"\"))","v":""},{"$f":"IF(AND($S353<>\"\",$S353<>\"No pot jugar individual\"),\"\",IF(AND($F353<=Q$1,$B353=\"M\"),MAX(Q$2:Q352)+1,\"\"))","v":""},{"$f":"IF($S353<>\"\",\"\",IF($F353<=R$1,MAX(R$2:R352)+1,\"\"))","v":40},"",7,1,0,0,"O","P","P","Q","Q","Q","P","O","BC"]
[11314,"M","CODINA Axel","ALE-1",2,1,"CALELLA","CALELLA",3.5999999999999996,{"$f":"IF($S354<>\"\",\"\",IF(AND($E354<=J$1,$B354=\"M\"),MAX(J$2:J353)+1,\"\"))","v":312},{"$f":"IF($S354<>\"\",\"\",IF(AND($E354<=K$1,$B354=\"M\"),MAX(K$2:K353)+1,\"\"))","v":226},{"$f":"IF($S354<>\"\",\"\",IF(AND($E354<=L$1,$B354=\"M\"),MAX(L$2:L353)+1,\"\"))","v":121},{"$f":"IF($S354<>\"\",\"\",IF(AND($E354<=M$1,$B354=\"M\"),MAX(M$2:M353)+1,\"\"))","v":""},{"$f":"IF($S354<>\"\",\"\",IF(AND($E354<=N$1,$B354=\"F\"),MAX(N$2:N353)+1,\"\"))","v":""},{"$f":"IF($S354<>\"\",\"\",IF(AND($E354<=O$1,$B354=\"F\"),MAX(O$2:O353)+1,\"\"))","v":""},{"$f":"IF(AND($S354<>\"\",$S354<>\"No pot jugar individual\"),\"\",IF(AND($F354<=P$1,$B354=\"M\"),MAX(P$2:P353)+1,\"\"))","v":312},{"$f":"IF(AND($S354<>\"\",$S354<>\"No pot jugar individual\"),\"\",IF(AND($F354<=Q$1,$B354=\"M\"),MAX(Q$2:Q353)+1,\"\"))","v":121},{"$f":"IF($S354<>\"\",\"\",IF($F354<=R$1,MAX(R$2:R353)+1,\"\"))","v":""},"",6,0,0,0,null,"P","P","Q","Q","Q","P","O"]
[11674,"M","MENDOZA Daniel","INF-1",3,2,"CARDEDEU","CARDEDEU",3.59,{"$f":"IF($S355<>\"\",\"\",IF(AND($E355<=J$1,$B355=\"M\"),MAX(J$2:J354)+1,\"\"))","v":313},{"$f":"IF($S355<>\"\",\"\",IF(AND($E355<=K$1,$B355=\"M\"),MAX(K$2:K354)+1,\"\"))","v":227},{"$f":"IF($S355<>\"\",\"\",IF(AND($E355<=L$1,$B355=\"M\"),MAX(L$2:L354)+1,\"\"))","v":""},{"$f":"IF($S355<>\"\",\"\",IF(AND($E355<=M$1,$B355=\"M\"),MAX(M$2:M354)+1,\"\"))","v":""},{"$f":"IF($S355<>\"\",\"\",IF(AND($E355<=N$1,$B355=\"F\"),MAX(N$2:N354)+1,\"\"))","v":""},{"$f":"IF($S355<>\"\",\"\",IF(AND($E355<=O$1,$B355=\"F\"),MAX(O$2:O354)+1,\"\"))","v":""},{"$f":"IF(AND($S355<>\"\",$S355<>\"No pot jugar individual\"),\"\",IF(AND($F355<=P$1,$B355=\"M\"),MAX(P$2:P354)+1,\"\"))","v":313},{"$f":"IF(AND($S355<>\"\",$S355<>\"No pot jugar individual\"),\"\",IF(AND($F355<=Q$1,$B355=\"M\"),MAX(Q$2:Q354)+1,\"\"))","v":""},{"$f":"IF($S355<>\"\",\"\",IF($F355<=R$1,MAX(R$2:R354)+1,\"\"))","v":""},"",4,0,0,0,null,null,null,"P","P","P","O","O"]
[11298,"M","LUCO Guillem","PRE-0",1,1,"IGUALA","IGUALA",3.59,{"$f":"IF($S356<>\"\",\"\",IF(AND($E356<=J$1,$B356=\"M\"),MAX(J$2:J355)+1,\"\"))","v":314},{"$f":"IF($S356<>\"\",\"\",IF(AND($E356<=K$1,$B356=\"M\"),MAX(K$2:K355)+1,\"\"))","v":228},{"$f":"IF($S356<>\"\",\"\",IF(AND($E356<=L$1,$B356=\"M\"),MAX(L$2:L355)+1,\"\"))","v":122},{"$f":"IF($S356<>\"\",\"\",IF(AND($E356<=M$1,$B356=\"M\"),MAX(M$2:M355)+1,\"\"))","v":49},{"$f":"IF($S356<>\"\",\"\",IF(AND($E356<=N$1,$B356=\"F\"),MAX(N$2:N355)+1,\"\"))","v":""},{"$f":"IF($S356<>\"\",\"\",IF(AND($E356<=O$1,$B356=\"F\"),MAX(O$2:O355)+1,\"\"))","v":""},{"$f":"IF(AND($S356<>\"\",$S356<>\"No pot jugar individual\"),\"\",IF(AND($F356<=P$1,$B356=\"M\"),MAX(P$2:P355)+1,\"\"))","v":314},{"$f":"IF(AND($S356<>\"\",$S356<>\"No pot jugar individual\"),\"\",IF(AND($F356<=Q$1,$B356=\"M\"),MAX(Q$2:Q355)+1,\"\"))","v":122},{"$f":"IF($S356<>\"\",\"\",IF($F356<=R$1,MAX(R$2:R355)+1,\"\"))","v":""},"",7,1,0,0,"O","O","P","P","Q","Q","P","P",null,null,null,null,"BC"]
[11672,"M","LARA Pau","BEN-1",1,1,"CASTELLDEFELS","CASTELLDEFELS",3.51,{"$f":"IF($S357<>\"\",\"\",IF(AND($E357<=J$1,$B357=\"M\"),MAX(J$2:J356)+1,\"\"))","v":315},{"$f":"IF($S357<>\"\",\"\",IF(AND($E357<=K$1,$B357=\"M\"),MAX(K$2:K356)+1,\"\"))","v":229},{"$f":"IF($S357<>\"\",\"\",IF(AND($E357<=L$1,$B357=\"M\"),MAX(L$2:L356)+1,\"\"))","v":123},{"$f":"IF($S357<>\"\",\"\",IF(AND($E357<=M$1,$B357=\"M\"),MAX(M$2:M356)+1,\"\"))","v":50},{"$f":"IF($S357<>\"\",\"\",IF(AND($E357<=N$1,$B357=\"F\"),MAX(N$2:N356)+1,\"\"))","v":""},{"$f":"IF($S357<>\"\",\"\",IF(AND($E357<=O$1,$B357=\"F\"),MAX(O$2:O356)+1,\"\"))","v":""},{"$f":"IF(AND($S357<>\"\",$S357<>\"No pot jugar individual\"),\"\",IF(AND($F357<=P$1,$B357=\"M\"),MAX(P$2:P356)+1,\"\"))","v":315},{"$f":"IF(AND($S357<>\"\",$S357<>\"No pot jugar individual\"),\"\",IF(AND($F357<=Q$1,$B357=\"M\"),MAX(Q$2:Q356)+1,\"\"))","v":123},{"$f":"IF($S357<>\"\",\"\",IF($F357<=R$1,MAX(R$2:R356)+1,\"\"))","v":""},"",5,0,0,0,null,null,"P","Q","Q","Q","P","P"]
[11669,"M","RIVERO Biel","ALE-1",2,1,"COLLBATO","COLLBATO",3.5,{"$f":"IF($S358<>\"\",\"\",IF(AND($E358<=J$1,$B358=\"M\"),MAX(J$2:J357)+1,\"\"))","v":316},{"$f":"IF($S358<>\"\",\"\",IF(AND($E358<=K$1,$B358=\"M\"),MAX(K$2:K357)+1,\"\"))","v":230},{"$f":"IF($S358<>\"\",\"\",IF(AND($E358<=L$1,$B358=\"M\"),MAX(L$2:L357)+1,\"\"))","v":124},{"$f":"IF($S358<>\"\",\"\",IF(AND($E358<=M$1,$B358=\"M\"),MAX(M$2:M357)+1,\"\"))","v":""},{"$f":"IF($S358<>\"\",\"\",IF(AND($E358<=N$1,$B358=\"F\"),MAX(N$2:N357)+1,\"\"))","v":""},{"$f":"IF($S358<>\"\",\"\",IF(AND($E358<=O$1,$B358=\"F\"),MAX(O$2:O357)+1,\"\"))","v":""},{"$f":"IF(AND($S358<>\"\",$S358<>\"No pot jugar individual\"),\"\",IF(AND($F358<=P$1,$B358=\"M\"),MAX(P$2:P357)+1,\"\"))","v":316},{"$f":"IF(AND($S358<>\"\",$S358<>\"No pot jugar individual\"),\"\",IF(AND($F358<=Q$1,$B358=\"M\"),MAX(Q$2:Q357)+1,\"\"))","v":124},{"$f":"IF($S358<>\"\",\"\",IF($F358<=R$1,MAX(R$2:R357)+1,\"\"))","v":""},"",5,0,0,0,null,null,"P","Q","Q","P","O","O"]
[11658,"M","VIDAL Biel","ALE-2",2,1,"STCUGAT","STCUGAT",3.4600000000000004,{"$f":"IF($S359<>\"\",\"\",IF(AND($E359<=J$1,$B359=\"M\"),MAX(J$2:J358)+1,\"\"))","v":317},{"$f":"IF($S359<>\"\",\"\",IF(AND($E359<=K$1,$B359=\"M\"),MAX(K$2:K358)+1,\"\"))","v":231},{"$f":"IF($S359<>\"\",\"\",IF(AND($E359<=L$1,$B359=\"M\"),MAX(L$2:L358)+1,\"\"))","v":125},{"$f":"IF($S359<>\"\",\"\",IF(AND($E359<=M$1,$B359=\"M\"),MAX(M$2:M358)+1,\"\"))","v":""},{"$f":"IF($S359<>\"\",\"\",IF(AND($E359<=N$1,$B359=\"F\"),MAX(N$2:N358)+1,\"\"))","v":""},{"$f":"IF($S359<>\"\",\"\",IF(AND($E359<=O$1,$B359=\"F\"),MAX(O$2:O358)+1,\"\"))","v":""},{"$f":"IF(AND($S359<>\"\",$S359<>\"No pot jugar individual\"),\"\",IF(AND($F359<=P$1,$B359=\"M\"),MAX(P$2:P358)+1,\"\"))","v":317},{"$f":"IF(AND($S359<>\"\",$S359<>\"No pot jugar individual\"),\"\",IF(AND($F359<=Q$1,$B359=\"M\"),MAX(Q$2:Q358)+1,\"\"))","v":125},{"$f":"IF($S359<>\"\",\"\",IF($F359<=R$1,MAX(R$2:R358)+1,\"\"))","v":""},"",5,1,0,0,null,null,"O","O","O","O","P","O",null,null,null,null,null,"BC"]
[11615,"M","CLIMENT Simó","BEN-2",1,1,"STCUGAT","STCUGAT",3.45,{"$f":"IF($S360<>\"\",\"\",IF(AND($E360<=J$1,$B360=\"M\"),MAX(J$2:J359)+1,\"\"))","v":318},{"$f":"IF($S360<>\"\",\"\",IF(AND($E360<=K$1,$B360=\"M\"),MAX(K$2:K359)+1,\"\"))","v":232},{"$f":"IF($S360<>\"\",\"\",IF(AND($E360<=L$1,$B360=\"M\"),MAX(L$2:L359)+1,\"\"))","v":126},{"$f":"IF($S360<>\"\",\"\",IF(AND($E360<=M$1,$B360=\"M\"),MAX(M$2:M359)+1,\"\"))","v":51},{"$f":"IF($S360<>\"\",\"\",IF(AND($E360<=N$1,$B360=\"F\"),MAX(N$2:N359)+1,\"\"))","v":""},{"$f":"IF($S360<>\"\",\"\",IF(AND($E360<=O$1,$B360=\"F\"),MAX(O$2:O359)+1,\"\"))","v":""},{"$f":"IF(AND($S360<>\"\",$S360<>\"No pot jugar individual\"),\"\",IF(AND($F360<=P$1,$B360=\"M\"),MAX(P$2:P359)+1,\"\"))","v":318},{"$f":"IF(AND($S360<>\"\",$S360<>\"No pot jugar individual\"),\"\",IF(AND($F360<=Q$1,$B360=\"M\"),MAX(Q$2:Q359)+1,\"\"))","v":126},{"$f":"IF($S360<>\"\",\"\",IF($F360<=R$1,MAX(R$2:R359)+1,\"\"))","v":""},"",6,1,0,0,null,"P","P","Q","Q","Q","P","P",null,null,null,"BC"]
[11361,"M","COSTA Joao Miguel","ALE-1",2,1,"HOSPIT","HOSPIT",3.44,{"$f":"IF($S361<>\"\",\"\",IF(AND($E361<=J$1,$B361=\"M\"),MAX(J$2:J360)+1,\"\"))","v":319},{"$f":"IF($S361<>\"\",\"\",IF(AND($E361<=K$1,$B361=\"M\"),MAX(K$2:K360)+1,\"\"))","v":233},{"$f":"IF($S361<>\"\",\"\",IF(AND($E361<=L$1,$B361=\"M\"),MAX(L$2:L360)+1,\"\"))","v":127},{"$f":"IF($S361<>\"\",\"\",IF(AND($E361<=M$1,$B361=\"M\"),MAX(M$2:M360)+1,\"\"))","v":""},{"$f":"IF($S361<>\"\",\"\",IF(AND($E361<=N$1,$B361=\"F\"),MAX(N$2:N360)+1,\"\"))","v":""},{"$f":"IF($S361<>\"\",\"\",IF(AND($E361<=O$1,$B361=\"F\"),MAX(O$2:O360)+1,\"\"))","v":""},{"$f":"IF(AND($S361<>\"\",$S361<>\"No pot jugar individual\"),\"\",IF(AND($F361<=P$1,$B361=\"M\"),MAX(P$2:P360)+1,\"\"))","v":319},{"$f":"IF(AND($S361<>\"\",$S361<>\"No pot jugar individual\"),\"\",IF(AND($F361<=Q$1,$B361=\"M\"),MAX(Q$2:Q360)+1,\"\"))","v":127},{"$f":"IF($S361<>\"\",\"\",IF($F361<=R$1,MAX(R$2:R360)+1,\"\"))","v":""},"",7,1,0,0,"N","N","O","P","P","O","O","P",null,null,"BJ",null,null,null,"BC"]
[11617,"M","MORA Joel","BEN-1",1,1,"STCUGAT","STCUGAT",3.43,{"$f":"IF($S362<>\"\",\"\",IF(AND($E362<=J$1,$B362=\"M\"),MAX(J$2:J361)+1,\"\"))","v":320},{"$f":"IF($S362<>\"\",\"\",IF(AND($E362<=K$1,$B362=\"M\"),MAX(K$2:K361)+1,\"\"))","v":234},{"$f":"IF($S362<>\"\",\"\",IF(AND($E362<=L$1,$B362=\"M\"),MAX(L$2:L361)+1,\"\"))","v":128},{"$f":"IF($S362<>\"\",\"\",IF(AND($E362<=M$1,$B362=\"M\"),MAX(M$2:M361)+1,\"\"))","v":52},{"$f":"IF($S362<>\"\",\"\",IF(AND($E362<=N$1,$B362=\"F\"),MAX(N$2:N361)+1,\"\"))","v":""},{"$f":"IF($S362<>\"\",\"\",IF(AND($E362<=O$1,$B362=\"F\"),MAX(O$2:O361)+1,\"\"))","v":""},{"$f":"IF(AND($S362<>\"\",$S362<>\"No pot jugar individual\"),\"\",IF(AND($F362<=P$1,$B362=\"M\"),MAX(P$2:P361)+1,\"\"))","v":320},{"$f":"IF(AND($S362<>\"\",$S362<>\"No pot jugar individual\"),\"\",IF(AND($F362<=Q$1,$B362=\"M\"),MAX(Q$2:Q361)+1,\"\"))","v":128},{"$f":"IF($S362<>\"\",\"\",IF($F362<=R$1,MAX(R$2:R361)+1,\"\"))","v":""},"",6,1,0,0,null,"P","P","P","P","P","Q","P",null,null,null,null,null,"BC"]
[6075,"M","GONZALVEZ Marti","BEN-1",1,1,"VILANOVA","VILANOVA",3.26,{"$f":"IF($S363<>\"\",\"\",IF(AND($E363<=J$1,$B363=\"M\"),MAX(J$2:J362)+1,\"\"))","v":321},{"$f":"IF($S363<>\"\",\"\",IF(AND($E363<=K$1,$B363=\"M\"),MAX(K$2:K362)+1,\"\"))","v":235},{"$f":"IF($S363<>\"\",\"\",IF(AND($E363<=L$1,$B363=\"M\"),MAX(L$2:L362)+1,\"\"))","v":129},{"$f":"IF($S363<>\"\",\"\",IF(AND($E363<=M$1,$B363=\"M\"),MAX(M$2:M362)+1,\"\"))","v":53},{"$f":"IF($S363<>\"\",\"\",IF(AND($E363<=N$1,$B363=\"F\"),MAX(N$2:N362)+1,\"\"))","v":""},{"$f":"IF($S363<>\"\",\"\",IF(AND($E363<=O$1,$B363=\"F\"),MAX(O$2:O362)+1,\"\"))","v":""},{"$f":"IF(AND($S363<>\"\",$S363<>\"No pot jugar individual\"),\"\",IF(AND($F363<=P$1,$B363=\"M\"),MAX(P$2:P362)+1,\"\"))","v":321},{"$f":"IF(AND($S363<>\"\",$S363<>\"No pot jugar individual\"),\"\",IF(AND($F363<=Q$1,$B363=\"M\"),MAX(Q$2:Q362)+1,\"\"))","v":129},{"$f":"IF($S363<>\"\",\"\",IF($F363<=R$1,MAX(R$2:R362)+1,\"\"))","v":""},"",7,{"$f":"COUNTIF($AF363:$AL363,U$2)","v":2},0,0,"O","O","P","Q","Q","Q","P","P",null,"BC",null,null,"BC"]
[11401,"M","SALES Didac","BEN-2",1,1,"STCUGAT","STCUGAT",3.2,{"$f":"IF($S364<>\"\",\"\",IF(AND($E364<=J$1,$B364=\"M\"),MAX(J$2:J363)+1,\"\"))","v":322},{"$f":"IF($S364<>\"\",\"\",IF(AND($E364<=K$1,$B364=\"M\"),MAX(K$2:K363)+1,\"\"))","v":236},{"$f":"IF($S364<>\"\",\"\",IF(AND($E364<=L$1,$B364=\"M\"),MAX(L$2:L363)+1,\"\"))","v":130},{"$f":"IF($S364<>\"\",\"\",IF(AND($E364<=M$1,$B364=\"M\"),MAX(M$2:M363)+1,\"\"))","v":54},{"$f":"IF($S364<>\"\",\"\",IF(AND($E364<=N$1,$B364=\"F\"),MAX(N$2:N363)+1,\"\"))","v":""},{"$f":"IF($S364<>\"\",\"\",IF(AND($E364<=O$1,$B364=\"F\"),MAX(O$2:O363)+1,\"\"))","v":""},{"$f":"IF(AND($S364<>\"\",$S364<>\"No pot jugar individual\"),\"\",IF(AND($F364<=P$1,$B364=\"M\"),MAX(P$2:P363)+1,\"\"))","v":322},{"$f":"IF(AND($S364<>\"\",$S364<>\"No pot jugar individual\"),\"\",IF(AND($F364<=Q$1,$B364=\"M\"),MAX(Q$2:Q363)+1,\"\"))","v":130},{"$f":"IF($S364<>\"\",\"\",IF($F364<=R$1,MAX(R$2:R363)+1,\"\"))","v":""},"",6,1,0,0,null,"P","O","P","P","P","Q","P",null,null,"BJ",null,null,"BC"]
[11716,"M","OBUKHOV Fedor","BEN-2",1,1,"COLLBATO","COLLBATO",3.1500000000000004,{"$f":"IF($S365<>\"\",\"\",IF(AND($E365<=J$1,$B365=\"M\"),MAX(J$2:J364)+1,\"\"))","v":323},{"$f":"IF($S365<>\"\",\"\",IF(AND($E365<=K$1,$B365=\"M\"),MAX(K$2:K364)+1,\"\"))","v":237},{"$f":"IF($S365<>\"\",\"\",IF(AND($E365<=L$1,$B365=\"M\"),MAX(L$2:L364)+1,\"\"))","v":131},{"$f":"IF($S365<>\"\",\"\",IF(AND($E365<=M$1,$B365=\"M\"),MAX(M$2:M364)+1,\"\"))","v":55},{"$f":"IF($S365<>\"\",\"\",IF(AND($E365<=N$1,$B365=\"F\"),MAX(N$2:N364)+1,\"\"))","v":""},{"$f":"IF($S365<>\"\",\"\",IF(AND($E365<=O$1,$B365=\"F\"),MAX(O$2:O364)+1,\"\"))","v":""},{"$f":"IF(AND($S365<>\"\",$S365<>\"No pot jugar individual\"),\"\",IF(AND($F365<=P$1,$B365=\"M\"),MAX(P$2:P364)+1,\"\"))","v":323},{"$f":"IF(AND($S365<>\"\",$S365<>\"No pot jugar individual\"),\"\",IF(AND($F365<=Q$1,$B365=\"M\"),MAX(Q$2:Q364)+1,\"\"))","v":131},{"$f":"IF($S365<>\"\",\"\",IF($F365<=R$1,MAX(R$2:R364)+1,\"\"))","v":""},"",4,0,0,0,null,null,null,"Q","Q","P","O","O"]
[10760,"F","BLANCAFORT Anna","BEN-2",1,0,"ESPARREGU.","ESPARREGU.",3.1500000000000004,{"$f":"IF($S366<>\"\",\"\",IF(AND($E366<=J$1,$B366=\"M\"),MAX(J$2:J365)+1,\"\"))","v":""},{"$f":"IF($S366<>\"\",\"\",IF(AND($E366<=K$1,$B366=\"M\"),MAX(K$2:K365)+1,\"\"))","v":""},{"$f":"IF($S366<>\"\",\"\",IF(AND($E366<=L$1,$B366=\"M\"),MAX(L$2:L365)+1,\"\"))","v":""},{"$f":"IF($S366<>\"\",\"\",IF(AND($E366<=M$1,$B366=\"M\"),MAX(M$2:M365)+1,\"\"))","v":""},{"$f":"IF($S366<>\"\",\"\",IF(AND($E366<=N$1,$B366=\"F\"),MAX(N$2:N365)+1,\"\"))","v":41},{"$f":"IF($S366<>\"\",\"\",IF(AND($E366<=O$1,$B366=\"F\"),MAX(O$2:O365)+1,\"\"))","v":24},{"$f":"IF(AND($S366<>\"\",$S366<>\"No pot jugar individual\"),\"\",IF(AND($F366<=P$1,$B366=\"M\"),MAX(P$2:P365)+1,\"\"))","v":""},{"$f":"IF(AND($S366<>\"\",$S366<>\"No pot jugar individual\"),\"\",IF(AND($F366<=Q$1,$B366=\"M\"),MAX(Q$2:Q365)+1,\"\"))","v":""},{"$f":"IF($S366<>\"\",\"\",IF($F366<=R$1,MAX(R$2:R365)+1,\"\"))","v":41},"",7,2,0,0,"O","O","P","Q","Q","Q","P","P",null,"BC","BC"]
[11368,"M","FITO Abel","ALE-1",2,1,"CTGALI","CTGALI",3.13,{"$f":"IF($S367<>\"\",\"\",IF(AND($E367<=J$1,$B367=\"M\"),MAX(J$2:J366)+1,\"\"))","v":324},{"$f":"IF($S367<>\"\",\"\",IF(AND($E367<=K$1,$B367=\"M\"),MAX(K$2:K366)+1,\"\"))","v":238},{"$f":"IF($S367<>\"\",\"\",IF(AND($E367<=L$1,$B367=\"M\"),MAX(L$2:L366)+1,\"\"))","v":132},{"$f":"IF($S367<>\"\",\"\",IF(AND($E367<=M$1,$B367=\"M\"),MAX(M$2:M366)+1,\"\"))","v":""},{"$f":"IF($S367<>\"\",\"\",IF(AND($E367<=N$1,$B367=\"F\"),MAX(N$2:N366)+1,\"\"))","v":""},{"$f":"IF($S367<>\"\",\"\",IF(AND($E367<=O$1,$B367=\"F\"),MAX(O$2:O366)+1,\"\"))","v":""},{"$f":"IF(AND($S367<>\"\",$S367<>\"No pot jugar individual\"),\"\",IF(AND($F367<=P$1,$B367=\"M\"),MAX(P$2:P366)+1,\"\"))","v":324},{"$f":"IF(AND($S367<>\"\",$S367<>\"No pot jugar individual\"),\"\",IF(AND($F367<=Q$1,$B367=\"M\"),MAX(Q$2:Q366)+1,\"\"))","v":132},{"$f":"IF($S367<>\"\",\"\",IF($F367<=R$1,MAX(R$2:R366)+1,\"\"))","v":""},"",7,2,0,0,"N","P","P","Q","Q","Q","P","Q","BC",null,null,null,null,null,"BC"]
[11590,"M","MUNIESA Ruben","BEN-2",1,1,"HOSPIT","HOSPIT",3.08,{"$f":"IF($S368<>\"\",\"\",IF(AND($E368<=J$1,$B368=\"M\"),MAX(J$2:J367)+1,\"\"))","v":325},{"$f":"IF($S368<>\"\",\"\",IF(AND($E368<=K$1,$B368=\"M\"),MAX(K$2:K367)+1,\"\"))","v":239},{"$f":"IF($S368<>\"\",\"\",IF(AND($E368<=L$1,$B368=\"M\"),MAX(L$2:L367)+1,\"\"))","v":133},{"$f":"IF($S368<>\"\",\"\",IF(AND($E368<=M$1,$B368=\"M\"),MAX(M$2:M367)+1,\"\"))","v":56},{"$f":"IF($S368<>\"\",\"\",IF(AND($E368<=N$1,$B368=\"F\"),MAX(N$2:N367)+1,\"\"))","v":""},{"$f":"IF($S368<>\"\",\"\",IF(AND($E368<=O$1,$B368=\"F\"),MAX(O$2:O367)+1,\"\"))","v":""},{"$f":"IF(AND($S368<>\"\",$S368<>\"No pot jugar individual\"),\"\",IF(AND($F368<=P$1,$B368=\"M\"),MAX(P$2:P367)+1,\"\"))","v":325},{"$f":"IF(AND($S368<>\"\",$S368<>\"No pot jugar individual\"),\"\",IF(AND($F368<=Q$1,$B368=\"M\"),MAX(Q$2:Q367)+1,\"\"))","v":133},{"$f":"IF($S368<>\"\",\"\",IF($F368<=R$1,MAX(R$2:R367)+1,\"\"))","v":""},"",6,1,0,0,null,"P","P","Q","Q","Q","P","Q",null,null,null,null,null,null,"BC"]
[11521,"M","BURNS Max","BEN-2",1,1,"CNSABA","CNSABA",3.07,{"$f":"IF($S369<>\"\",\"\",IF(AND($E369<=J$1,$B369=\"M\"),MAX(J$2:J368)+1,\"\"))","v":326},{"$f":"IF($S369<>\"\",\"\",IF(AND($E369<=K$1,$B369=\"M\"),MAX(K$2:K368)+1,\"\"))","v":240},{"$f":"IF($S369<>\"\",\"\",IF(AND($E369<=L$1,$B369=\"M\"),MAX(L$2:L368)+1,\"\"))","v":134},{"$f":"IF($S369<>\"\",\"\",IF(AND($E369<=M$1,$B369=\"M\"),MAX(M$2:M368)+1,\"\"))","v":57},{"$f":"IF($S369<>\"\",\"\",IF(AND($E369<=N$1,$B369=\"F\"),MAX(N$2:N368)+1,\"\"))","v":""},{"$f":"IF($S369<>\"\",\"\",IF(AND($E369<=O$1,$B369=\"F\"),MAX(O$2:O368)+1,\"\"))","v":""},{"$f":"IF(AND($S369<>\"\",$S369<>\"No pot jugar individual\"),\"\",IF(AND($F369<=P$1,$B369=\"M\"),MAX(P$2:P368)+1,\"\"))","v":326},{"$f":"IF(AND($S369<>\"\",$S369<>\"No pot jugar individual\"),\"\",IF(AND($F369<=Q$1,$B369=\"M\"),MAX(Q$2:Q368)+1,\"\"))","v":134},{"$f":"IF($S369<>\"\",\"\",IF($F369<=R$1,MAX(R$2:R368)+1,\"\"))","v":""},"",6,0,1,0,null,"P","P","Q","Q","Q","P","P",null,null,null,null,"BN"]
[11591,"M","RONCO Adrián","BEN-2",1,1,"HOSPIT","HOSPIT",3.07,{"$f":"IF($S370<>\"\",\"\",IF(AND($E370<=J$1,$B370=\"M\"),MAX(J$2:J369)+1,\"\"))","v":327},{"$f":"IF($S370<>\"\",\"\",IF(AND($E370<=K$1,$B370=\"M\"),MAX(K$2:K369)+1,\"\"))","v":241},{"$f":"IF($S370<>\"\",\"\",IF(AND($E370<=L$1,$B370=\"M\"),MAX(L$2:L369)+1,\"\"))","v":135},{"$f":"IF($S370<>\"\",\"\",IF(AND($E370<=M$1,$B370=\"M\"),MAX(M$2:M369)+1,\"\"))","v":58},{"$f":"IF($S370<>\"\",\"\",IF(AND($E370<=N$1,$B370=\"F\"),MAX(N$2:N369)+1,\"\"))","v":""},{"$f":"IF($S370<>\"\",\"\",IF(AND($E370<=O$1,$B370=\"F\"),MAX(O$2:O369)+1,\"\"))","v":""},{"$f":"IF(AND($S370<>\"\",$S370<>\"No pot jugar individual\"),\"\",IF(AND($F370<=P$1,$B370=\"M\"),MAX(P$2:P369)+1,\"\"))","v":327},{"$f":"IF(AND($S370<>\"\",$S370<>\"No pot jugar individual\"),\"\",IF(AND($F370<=Q$1,$B370=\"M\"),MAX(Q$2:Q369)+1,\"\"))","v":135},{"$f":"IF($S370<>\"\",\"\",IF($F370<=R$1,MAX(R$2:R369)+1,\"\"))","v":""},"",6,1,0,0,null,"P","P","Q","Q","Q","P","P",null,null,"BC"]
[11660,"M","MORA Pau","ALE-2",2,1,"STCUGAT","STCUGAT",3.05,{"$f":"IF($S371<>\"\",\"\",IF(AND($E371<=J$1,$B371=\"M\"),MAX(J$2:J370)+1,\"\"))","v":328},{"$f":"IF($S371<>\"\",\"\",IF(AND($E371<=K$1,$B371=\"M\"),MAX(K$2:K370)+1,\"\"))","v":242},{"$f":"IF($S371<>\"\",\"\",IF(AND($E371<=L$1,$B371=\"M\"),MAX(L$2:L370)+1,\"\"))","v":136},{"$f":"IF($S371<>\"\",\"\",IF(AND($E371<=M$1,$B371=\"M\"),MAX(M$2:M370)+1,\"\"))","v":""},{"$f":"IF($S371<>\"\",\"\",IF(AND($E371<=N$1,$B371=\"F\"),MAX(N$2:N370)+1,\"\"))","v":""},{"$f":"IF($S371<>\"\",\"\",IF(AND($E371<=O$1,$B371=\"F\"),MAX(O$2:O370)+1,\"\"))","v":""},{"$f":"IF(AND($S371<>\"\",$S371<>\"No pot jugar individual\"),\"\",IF(AND($F371<=P$1,$B371=\"M\"),MAX(P$2:P370)+1,\"\"))","v":328},{"$f":"IF(AND($S371<>\"\",$S371<>\"No pot jugar individual\"),\"\",IF(AND($F371<=Q$1,$B371=\"M\"),MAX(Q$2:Q370)+1,\"\"))","v":136},{"$f":"IF($S371<>\"\",\"\",IF($F371<=R$1,MAX(R$2:R370)+1,\"\"))","v":""},"",5,1,0,0,null,null,"O","P","P","P","P","O",null,null,null,null,null,"BC"]
[11675,"M","BROMIRSKYI Denys","JUV-1",4,2,"CARDEDEU","CARDEDEU",3.03,{"$f":"IF($S372<>\"\",\"\",IF(AND($E372<=J$1,$B372=\"M\"),MAX(J$2:J371)+1,\"\"))","v":329},{"$f":"IF($S372<>\"\",\"\",IF(AND($E372<=K$1,$B372=\"M\"),MAX(K$2:K371)+1,\"\"))","v":""},{"$f":"IF($S372<>\"\",\"\",IF(AND($E372<=L$1,$B372=\"M\"),MAX(L$2:L371)+1,\"\"))","v":""},{"$f":"IF($S372<>\"\",\"\",IF(AND($E372<=M$1,$B372=\"M\"),MAX(M$2:M371)+1,\"\"))","v":""},{"$f":"IF($S372<>\"\",\"\",IF(AND($E372<=N$1,$B372=\"F\"),MAX(N$2:N371)+1,\"\"))","v":""},{"$f":"IF($S372<>\"\",\"\",IF(AND($E372<=O$1,$B372=\"F\"),MAX(O$2:O371)+1,\"\"))","v":""},{"$f":"IF(AND($S372<>\"\",$S372<>\"No pot jugar individual\"),\"\",IF(AND($F372<=P$1,$B372=\"M\"),MAX(P$2:P371)+1,\"\"))","v":329},{"$f":"IF(AND($S372<>\"\",$S372<>\"No pot jugar individual\"),\"\",IF(AND($F372<=Q$1,$B372=\"M\"),MAX(Q$2:Q371)+1,\"\"))","v":""},{"$f":"IF($S372<>\"\",\"\",IF($F372<=R$1,MAX(R$2:R371)+1,\"\"))","v":""},"",3,0,0,0,null,null,null,null,"P","P","O","N"]
[10482,"F","PALOMO Berta","BEN-2",1,0,"MATARO","MATARO",2.91,{"$f":"IF($S373<>\"\",\"\",IF(AND($E373<=J$1,$B373=\"M\"),MAX(J$2:J372)+1,\"\"))","v":""},{"$f":"IF($S373<>\"\",\"\",IF(AND($E373<=K$1,$B373=\"M\"),MAX(K$2:K372)+1,\"\"))","v":""},{"$f":"IF($S373<>\"\",\"\",IF(AND($E373<=L$1,$B373=\"M\"),MAX(L$2:L372)+1,\"\"))","v":""},{"$f":"IF($S373<>\"\",\"\",IF(AND($E373<=M$1,$B373=\"M\"),MAX(M$2:M372)+1,\"\"))","v":""},{"$f":"IF($S373<>\"\",\"\",IF(AND($E373<=N$1,$B373=\"F\"),MAX(N$2:N372)+1,\"\"))","v":42},{"$f":"IF($S373<>\"\",\"\",IF(AND($E373<=O$1,$B373=\"F\"),MAX(O$2:O372)+1,\"\"))","v":25},{"$f":"IF(AND($S373<>\"\",$S373<>\"No pot jugar individual\"),\"\",IF(AND($F373<=P$1,$B373=\"M\"),MAX(P$2:P372)+1,\"\"))","v":""},{"$f":"IF(AND($S373<>\"\",$S373<>\"No pot jugar individual\"),\"\",IF(AND($F373<=Q$1,$B373=\"M\"),MAX(Q$2:Q372)+1,\"\"))","v":""},{"$f":"IF($S373<>\"\",\"\",IF($F373<=R$1,MAX(R$2:R372)+1,\"\"))","v":42},"",6,1,0,0,null,"P","P","Q","Q","Q","Q","P",null,null,null,null,null,"BC"]
[10862,"F","SANS Martina","PRE-0",1,0,"MATARO","MATARO",2.82,{"$f":"IF($S374<>\"\",\"\",IF(AND($E374<=J$1,$B374=\"M\"),MAX(J$2:J373)+1,\"\"))","v":""},{"$f":"IF($S374<>\"\",\"\",IF(AND($E374<=K$1,$B374=\"M\"),MAX(K$2:K373)+1,\"\"))","v":""},{"$f":"IF($S374<>\"\",\"\",IF(AND($E374<=L$1,$B374=\"M\"),MAX(L$2:L373)+1,\"\"))","v":""},{"$f":"IF($S374<>\"\",\"\",IF(AND($E374<=M$1,$B374=\"M\"),MAX(M$2:M373)+1,\"\"))","v":""},{"$f":"IF($S374<>\"\",\"\",IF(AND($E374<=N$1,$B374=\"F\"),MAX(N$2:N373)+1,\"\"))","v":43},{"$f":"IF($S374<>\"\",\"\",IF(AND($E374<=O$1,$B374=\"F\"),MAX(O$2:O373)+1,\"\"))","v":26},{"$f":"IF(AND($S374<>\"\",$S374<>\"No pot jugar individual\"),\"\",IF(AND($F374<=P$1,$B374=\"M\"),MAX(P$2:P373)+1,\"\"))","v":""},{"$f":"IF(AND($S374<>\"\",$S374<>\"No pot jugar individual\"),\"\",IF(AND($F374<=Q$1,$B374=\"M\"),MAX(Q$2:Q373)+1,\"\"))","v":""},{"$f":"IF($S374<>\"\",\"\",IF($F374<=R$1,MAX(R$2:R373)+1,\"\"))","v":43},"",6,1,0,0,null,"P","P","Q","Q","Q","Q","Q",null,null,null,null,"BC"]
[10906,"M","RIPOLL Joan","ALE-1",2,1,"CALELLA","CALELLA",2.81,{"$f":"IF($S375<>\"\",\"\",IF(AND($E375<=J$1,$B375=\"M\"),MAX(J$2:J374)+1,\"\"))","v":330},{"$f":"IF($S375<>\"\",\"\",IF(AND($E375<=K$1,$B375=\"M\"),MAX(K$2:K374)+1,\"\"))","v":243},{"$f":"IF($S375<>\"\",\"\",IF(AND($E375<=L$1,$B375=\"M\"),MAX(L$2:L374)+1,\"\"))","v":137},{"$f":"IF($S375<>\"\",\"\",IF(AND($E375<=M$1,$B375=\"M\"),MAX(M$2:M374)+1,\"\"))","v":""},{"$f":"IF($S375<>\"\",\"\",IF(AND($E375<=N$1,$B375=\"F\"),MAX(N$2:N374)+1,\"\"))","v":""},{"$f":"IF($S375<>\"\",\"\",IF(AND($E375<=O$1,$B375=\"F\"),MAX(O$2:O374)+1,\"\"))","v":""},{"$f":"IF(AND($S375<>\"\",$S375<>\"No pot jugar individual\"),\"\",IF(AND($F375<=P$1,$B375=\"M\"),MAX(P$2:P374)+1,\"\"))","v":330},{"$f":"IF(AND($S375<>\"\",$S375<>\"No pot jugar individual\"),\"\",IF(AND($F375<=Q$1,$B375=\"M\"),MAX(Q$2:Q374)+1,\"\"))","v":137},{"$f":"IF($S375<>\"\",\"\",IF($F375<=R$1,MAX(R$2:R374)+1,\"\"))","v":""},"",6,0,1,0,null,"P","P","Q","Q","Q","Q","P",null,null,null,null,"BN"]
[11032,"M","PUIGCORBÉ Martí","ALE-2",2,1,"EUROCLIMA BDN","EUROCLIMA BDN",2.74,{"$f":"IF($S376<>\"\",\"\",IF(AND($E376<=J$1,$B376=\"M\"),MAX(J$2:J375)+1,\"\"))","v":331},{"$f":"IF($S376<>\"\",\"\",IF(AND($E376<=K$1,$B376=\"M\"),MAX(K$2:K375)+1,\"\"))","v":244},{"$f":"IF($S376<>\"\",\"\",IF(AND($E376<=L$1,$B376=\"M\"),MAX(L$2:L375)+1,\"\"))","v":138},{"$f":"IF($S376<>\"\",\"\",IF(AND($E376<=M$1,$B376=\"M\"),MAX(M$2:M375)+1,\"\"))","v":""},{"$f":"IF($S376<>\"\",\"\",IF(AND($E376<=N$1,$B376=\"F\"),MAX(N$2:N375)+1,\"\"))","v":""},{"$f":"IF($S376<>\"\",\"\",IF(AND($E376<=O$1,$B376=\"F\"),MAX(O$2:O375)+1,\"\"))","v":""},{"$f":"IF(AND($S376<>\"\",$S376<>\"No pot jugar individual\"),\"\",IF(AND($F376<=P$1,$B376=\"M\"),MAX(P$2:P375)+1,\"\"))","v":331},{"$f":"IF(AND($S376<>\"\",$S376<>\"No pot jugar individual\"),\"\",IF(AND($F376<=Q$1,$B376=\"M\"),MAX(Q$2:Q375)+1,\"\"))","v":138},{"$f":"IF($S376<>\"\",\"\",IF($F376<=R$1,MAX(R$2:R375)+1,\"\"))","v":""},"",4,0,0,0,null,null,null,"P","P","P","O","O"]
[11715,"M","GIMENO Bernat","BEN-1",1,1,"VILANOVA","VILANOVA",2.74,{"$f":"IF($S377<>\"\",\"\",IF(AND($E377<=J$1,$B377=\"M\"),MAX(J$2:J376)+1,\"\"))","v":332},{"$f":"IF($S377<>\"\",\"\",IF(AND($E377<=K$1,$B377=\"M\"),MAX(K$2:K376)+1,\"\"))","v":245},{"$f":"IF($S377<>\"\",\"\",IF(AND($E377<=L$1,$B377=\"M\"),MAX(L$2:L376)+1,\"\"))","v":139},{"$f":"IF($S377<>\"\",\"\",IF(AND($E377<=M$1,$B377=\"M\"),MAX(M$2:M376)+1,\"\"))","v":59},{"$f":"IF($S377<>\"\",\"\",IF(AND($E377<=N$1,$B377=\"F\"),MAX(N$2:N376)+1,\"\"))","v":""},{"$f":"IF($S377<>\"\",\"\",IF(AND($E377<=O$1,$B377=\"F\"),MAX(O$2:O376)+1,\"\"))","v":""},{"$f":"IF(AND($S377<>\"\",$S377<>\"No pot jugar individual\"),\"\",IF(AND($F377<=P$1,$B377=\"M\"),MAX(P$2:P376)+1,\"\"))","v":332},{"$f":"IF(AND($S377<>\"\",$S377<>\"No pot jugar individual\"),\"\",IF(AND($F377<=Q$1,$B377=\"M\"),MAX(Q$2:Q376)+1,\"\"))","v":139},{"$f":"IF($S377<>\"\",\"\",IF($F377<=R$1,MAX(R$2:R376)+1,\"\"))","v":""},"",4,0,0,0,null,null,null,"Q","Q","Q","Q","P"]
[10347,"M","BOUZA Aran","BEN-1",1,1,"INDEPEN","INDEPEN",2.7,{"$f":"IF($S378<>\"\",\"\",IF(AND($E378<=J$1,$B378=\"M\"),MAX(J$2:J377)+1,\"\"))","v":333},{"$f":"IF($S378<>\"\",\"\",IF(AND($E378<=K$1,$B378=\"M\"),MAX(K$2:K377)+1,\"\"))","v":246},{"$f":"IF($S378<>\"\",\"\",IF(AND($E378<=L$1,$B378=\"M\"),MAX(L$2:L377)+1,\"\"))","v":140},{"$f":"IF($S378<>\"\",\"\",IF(AND($E378<=M$1,$B378=\"M\"),MAX(M$2:M377)+1,\"\"))","v":60},{"$f":"IF($S378<>\"\",\"\",IF(AND($E378<=N$1,$B378=\"F\"),MAX(N$2:N377)+1,\"\"))","v":""},{"$f":"IF($S378<>\"\",\"\",IF(AND($E378<=O$1,$B378=\"F\"),MAX(O$2:O377)+1,\"\"))","v":""},{"$f":"IF(AND($S378<>\"\",$S378<>\"No pot jugar individual\"),\"\",IF(AND($F378<=P$1,$B378=\"M\"),MAX(P$2:P377)+1,\"\"))","v":333},{"$f":"IF(AND($S378<>\"\",$S378<>\"No pot jugar individual\"),\"\",IF(AND($F378<=Q$1,$B378=\"M\"),MAX(Q$2:Q377)+1,\"\"))","v":140},{"$f":"IF($S378<>\"\",\"\",IF($F378<=R$1,MAX(R$2:R377)+1,\"\"))","v":""},"",5,1,0,0,null,null,"P","Q","Q","Q","Q","P",null,null,null,null,"BC"]
[10352,"M","NOGALES Oriol","BEN-1",1,1,"FALCONS","FALCONS",2.7,{"$f":"IF($S379<>\"\",\"\",IF(AND($E379<=J$1,$B379=\"M\"),MAX(J$2:J378)+1,\"\"))","v":334},{"$f":"IF($S379<>\"\",\"\",IF(AND($E379<=K$1,$B379=\"M\"),MAX(K$2:K378)+1,\"\"))","v":247},{"$f":"IF($S379<>\"\",\"\",IF(AND($E379<=L$1,$B379=\"M\"),MAX(L$2:L378)+1,\"\"))","v":141},{"$f":"IF($S379<>\"\",\"\",IF(AND($E379<=M$1,$B379=\"M\"),MAX(M$2:M378)+1,\"\"))","v":61},{"$f":"IF($S379<>\"\",\"\",IF(AND($E379<=N$1,$B379=\"F\"),MAX(N$2:N378)+1,\"\"))","v":""},{"$f":"IF($S379<>\"\",\"\",IF(AND($E379<=O$1,$B379=\"F\"),MAX(O$2:O378)+1,\"\"))","v":""},{"$f":"IF(AND($S379<>\"\",$S379<>\"No pot jugar individual\"),\"\",IF(AND($F379<=P$1,$B379=\"M\"),MAX(P$2:P378)+1,\"\"))","v":334},{"$f":"IF(AND($S379<>\"\",$S379<>\"No pot jugar individual\"),\"\",IF(AND($F379<=Q$1,$B379=\"M\"),MAX(Q$2:Q378)+1,\"\"))","v":141},{"$f":"IF($S379<>\"\",\"\",IF($F379<=R$1,MAX(R$2:R378)+1,\"\"))","v":""},"",7,1,1,0,"O","P","P","Q","Q","Q","P","Q","BC",null,null,null,null,null,"BN"]
[11643,"M","BARBERÀ Quim","PRE-0",1,1,"CNSABA","CNSABA",2.7,{"$f":"IF($S380<>\"\",\"\",IF(AND($E380<=J$1,$B380=\"M\"),MAX(J$2:J379)+1,\"\"))","v":335},{"$f":"IF($S380<>\"\",\"\",IF(AND($E380<=K$1,$B380=\"M\"),MAX(K$2:K379)+1,\"\"))","v":248},{"$f":"IF($S380<>\"\",\"\",IF(AND($E380<=L$1,$B380=\"M\"),MAX(L$2:L379)+1,\"\"))","v":142},{"$f":"IF($S380<>\"\",\"\",IF(AND($E380<=M$1,$B380=\"M\"),MAX(M$2:M379)+1,\"\"))","v":62},{"$f":"IF($S380<>\"\",\"\",IF(AND($E380<=N$1,$B380=\"F\"),MAX(N$2:N379)+1,\"\"))","v":""},{"$f":"IF($S380<>\"\",\"\",IF(AND($E380<=O$1,$B380=\"F\"),MAX(O$2:O379)+1,\"\"))","v":""},{"$f":"IF(AND($S380<>\"\",$S380<>\"No pot jugar individual\"),\"\",IF(AND($F380<=P$1,$B380=\"M\"),MAX(P$2:P379)+1,\"\"))","v":335},{"$f":"IF(AND($S380<>\"\",$S380<>\"No pot jugar individual\"),\"\",IF(AND($F380<=Q$1,$B380=\"M\"),MAX(Q$2:Q379)+1,\"\"))","v":142},{"$f":"IF($S380<>\"\",\"\",IF($F380<=R$1,MAX(R$2:R379)+1,\"\"))","v":""},"",5,0,0,0,null,null,"P","Q","Q","Q","Q","Q"]
[7630,"M","PIFERRER Miquel","INF-1",3,2,"COLLBATO","COLLBATO",2.6300000000000003,{"$f":"IF($S381<>\"\",\"\",IF(AND($E381<=J$1,$B381=\"M\"),MAX(J$2:J380)+1,\"\"))","v":336},{"$f":"IF($S381<>\"\",\"\",IF(AND($E381<=K$1,$B381=\"M\"),MAX(K$2:K380)+1,\"\"))","v":249},{"$f":"IF($S381<>\"\",\"\",IF(AND($E381<=L$1,$B381=\"M\"),MAX(L$2:L380)+1,\"\"))","v":""},{"$f":"IF($S381<>\"\",\"\",IF(AND($E381<=M$1,$B381=\"M\"),MAX(M$2:M380)+1,\"\"))","v":""},{"$f":"IF($S381<>\"\",\"\",IF(AND($E381<=N$1,$B381=\"F\"),MAX(N$2:N380)+1,\"\"))","v":""},{"$f":"IF($S381<>\"\",\"\",IF(AND($E381<=O$1,$B381=\"F\"),MAX(O$2:O380)+1,\"\"))","v":""},{"$f":"IF(AND($S381<>\"\",$S381<>\"No pot jugar individual\"),\"\",IF(AND($F381<=P$1,$B381=\"M\"),MAX(P$2:P380)+1,\"\"))","v":336},{"$f":"IF(AND($S381<>\"\",$S381<>\"No pot jugar individual\"),\"\",IF(AND($F381<=Q$1,$B381=\"M\"),MAX(Q$2:Q380)+1,\"\"))","v":""},{"$f":"IF($S381<>\"\",\"\",IF($F381<=R$1,MAX(R$2:R380)+1,\"\"))","v":""},"",4,0,1,0,null,null,null,"P","P","O","N","O",null,null,null,null,null,null,"BN"]
[11404,"M","GUTIÉRREZ Pau","BEN-2",1,1,"STCUGAT","STCUGAT",2.58,{"$f":"IF($S382<>\"\",\"\",IF(AND($E382<=J$1,$B382=\"M\"),MAX(J$2:J381)+1,\"\"))","v":337},{"$f":"IF($S382<>\"\",\"\",IF(AND($E382<=K$1,$B382=\"M\"),MAX(K$2:K381)+1,\"\"))","v":250},{"$f":"IF($S382<>\"\",\"\",IF(AND($E382<=L$1,$B382=\"M\"),MAX(L$2:L381)+1,\"\"))","v":143},{"$f":"IF($S382<>\"\",\"\",IF(AND($E382<=M$1,$B382=\"M\"),MAX(M$2:M381)+1,\"\"))","v":63},{"$f":"IF($S382<>\"\",\"\",IF(AND($E382<=N$1,$B382=\"F\"),MAX(N$2:N381)+1,\"\"))","v":""},{"$f":"IF($S382<>\"\",\"\",IF(AND($E382<=O$1,$B382=\"F\"),MAX(O$2:O381)+1,\"\"))","v":""},{"$f":"IF(AND($S382<>\"\",$S382<>\"No pot jugar individual\"),\"\",IF(AND($F382<=P$1,$B382=\"M\"),MAX(P$2:P381)+1,\"\"))","v":337},{"$f":"IF(AND($S382<>\"\",$S382<>\"No pot jugar individual\"),\"\",IF(AND($F382<=Q$1,$B382=\"M\"),MAX(Q$2:Q381)+1,\"\"))","v":143},{"$f":"IF($S382<>\"\",\"\",IF($F382<=R$1,MAX(R$2:R381)+1,\"\"))","v":""},"",6,0,0,0,null,"P","P","Q","Q","Q","Q","P",null,null,null,"BJ","BJ"]
[11543,"M","GIL Biel","ALE-1",2,1,"MATARO","MATARO",2.5500000000000003,{"$f":"IF($S383<>\"\",\"\",IF(AND($E383<=J$1,$B383=\"M\"),MAX(J$2:J382)+1,\"\"))","v":338},{"$f":"IF($S383<>\"\",\"\",IF(AND($E383<=K$1,$B383=\"M\"),MAX(K$2:K382)+1,\"\"))","v":251},{"$f":"IF($S383<>\"\",\"\",IF(AND($E383<=L$1,$B383=\"M\"),MAX(L$2:L382)+1,\"\"))","v":144},{"$f":"IF($S383<>\"\",\"\",IF(AND($E383<=M$1,$B383=\"M\"),MAX(M$2:M382)+1,\"\"))","v":""},{"$f":"IF($S383<>\"\",\"\",IF(AND($E383<=N$1,$B383=\"F\"),MAX(N$2:N382)+1,\"\"))","v":""},{"$f":"IF($S383<>\"\",\"\",IF(AND($E383<=O$1,$B383=\"F\"),MAX(O$2:O382)+1,\"\"))","v":""},{"$f":"IF(AND($S383<>\"\",$S383<>\"No pot jugar individual\"),\"\",IF(AND($F383<=P$1,$B383=\"M\"),MAX(P$2:P382)+1,\"\"))","v":338},{"$f":"IF(AND($S383<>\"\",$S383<>\"No pot jugar individual\"),\"\",IF(AND($F383<=Q$1,$B383=\"M\"),MAX(Q$2:Q382)+1,\"\"))","v":144},{"$f":"IF($S383<>\"\",\"\",IF($F383<=R$1,MAX(R$2:R382)+1,\"\"))","v":""},"",4,{"$f":"COUNTIF($AF383:$AL383,U$2)","v":0},0,0,null,null,null,"Q","Q","Q","Q","Q"]
[11033,"M","POVEDA Pol","ALE-2",2,1,"EUROCLIMA BDN","EUROCLIMA BDN",2.5499999999999998,{"$f":"IF($S384<>\"\",\"\",IF(AND($E384<=J$1,$B384=\"M\"),MAX(J$2:J383)+1,\"\"))","v":339},{"$f":"IF($S384<>\"\",\"\",IF(AND($E384<=K$1,$B384=\"M\"),MAX(K$2:K383)+1,\"\"))","v":252},{"$f":"IF($S384<>\"\",\"\",IF(AND($E384<=L$1,$B384=\"M\"),MAX(L$2:L383)+1,\"\"))","v":145},{"$f":"IF($S384<>\"\",\"\",IF(AND($E384<=M$1,$B384=\"M\"),MAX(M$2:M383)+1,\"\"))","v":""},{"$f":"IF($S384<>\"\",\"\",IF(AND($E384<=N$1,$B384=\"F\"),MAX(N$2:N383)+1,\"\"))","v":""},{"$f":"IF($S384<>\"\",\"\",IF(AND($E384<=O$1,$B384=\"F\"),MAX(O$2:O383)+1,\"\"))","v":""},{"$f":"IF(AND($S384<>\"\",$S384<>\"No pot jugar individual\"),\"\",IF(AND($F384<=P$1,$B384=\"M\"),MAX(P$2:P383)+1,\"\"))","v":339},{"$f":"IF(AND($S384<>\"\",$S384<>\"No pot jugar individual\"),\"\",IF(AND($F384<=Q$1,$B384=\"M\"),MAX(Q$2:Q383)+1,\"\"))","v":145},{"$f":"IF($S384<>\"\",\"\",IF($F384<=R$1,MAX(R$2:R383)+1,\"\"))","v":""},"",4,0,0,0,null,null,null,"P","P","P","P","P"]
[11027,"M","ROBLES Adrià","ALE-1",2,1,"EUROCLIMA BDN","EUROCLIMA BDN",2.4899999999999998,{"$f":"IF($S385<>\"\",\"\",IF(AND($E385<=J$1,$B385=\"M\"),MAX(J$2:J384)+1,\"\"))","v":340},{"$f":"IF($S385<>\"\",\"\",IF(AND($E385<=K$1,$B385=\"M\"),MAX(K$2:K384)+1,\"\"))","v":253},{"$f":"IF($S385<>\"\",\"\",IF(AND($E385<=L$1,$B385=\"M\"),MAX(L$2:L384)+1,\"\"))","v":146},{"$f":"IF($S385<>\"\",\"\",IF(AND($E385<=M$1,$B385=\"M\"),MAX(M$2:M384)+1,\"\"))","v":""},{"$f":"IF($S385<>\"\",\"\",IF(AND($E385<=N$1,$B385=\"F\"),MAX(N$2:N384)+1,\"\"))","v":""},{"$f":"IF($S385<>\"\",\"\",IF(AND($E385<=O$1,$B385=\"F\"),MAX(O$2:O384)+1,\"\"))","v":""},{"$f":"IF(AND($S385<>\"\",$S385<>\"No pot jugar individual\"),\"\",IF(AND($F385<=P$1,$B385=\"M\"),MAX(P$2:P384)+1,\"\"))","v":340},{"$f":"IF(AND($S385<>\"\",$S385<>\"No pot jugar individual\"),\"\",IF(AND($F385<=Q$1,$B385=\"M\"),MAX(Q$2:Q384)+1,\"\"))","v":146},{"$f":"IF($S385<>\"\",\"\",IF($F385<=R$1,MAX(R$2:R384)+1,\"\"))","v":""},"",4,0,1,0,null,null,null,"Q","P","O","O","P",null,null,null,null,null,null,"BN"]
[11817,"M","CUBELLS Arnau","JUV-1",4,2,"R.ELISENDA","R.ELISENDA",2.46,{"$f":"IF($S386<>\"\",\"\",IF(AND($E386<=J$1,$B386=\"M\"),MAX(J$2:J385)+1,\"\"))","v":341},{"$f":"IF($S386<>\"\",\"\",IF(AND($E386<=K$1,$B386=\"M\"),MAX(K$2:K385)+1,\"\"))","v":""},{"$f":"IF($S386<>\"\",\"\",IF(AND($E386<=L$1,$B386=\"M\"),MAX(L$2:L385)+1,\"\"))","v":""},{"$f":"IF($S386<>\"\",\"\",IF(AND($E386<=M$1,$B386=\"M\"),MAX(M$2:M385)+1,\"\"))","v":""},{"$f":"IF($S386<>\"\",\"\",IF(AND($E386<=N$1,$B386=\"F\"),MAX(N$2:N385)+1,\"\"))","v":""},{"$f":"IF($S386<>\"\",\"\",IF(AND($E386<=O$1,$B386=\"F\"),MAX(O$2:O385)+1,\"\"))","v":""},{"$f":"IF(AND($S386<>\"\",$S386<>\"No pot jugar individual\"),\"\",IF(AND($F386<=P$1,$B386=\"M\"),MAX(P$2:P385)+1,\"\"))","v":341},{"$f":"IF(AND($S386<>\"\",$S386<>\"No pot jugar individual\"),\"\",IF(AND($F386<=Q$1,$B386=\"M\"),MAX(Q$2:Q385)+1,\"\"))","v":""},{"$f":"IF($S386<>\"\",\"\",IF($F386<=R$1,MAX(R$2:R385)+1,\"\"))","v":""},"",3,0,0,0,null,null,null,null,"P","P","O","O"]
[11661,"M","BORRÀS Didac","BEN-1",{"$f":"IF(LEFT(D387,1)=\"P\",1,IF(LEFT(D387,1)=\"B\",1,IF(LEFT(D387,1)=\"A\",2,IF(LEFT(D387,1)=\"I\",3,4))))","v":1},{"$f":"IF(B387=\"F\",0,IF(LEFT(D387,1)=\"P\",1,IF(LEFT(D387,1)=\"B\",1,IF(LEFT(D387,1)=\"A\",1,IF(LEFT(D387,1)=\"I\",2,2)))))","v":1},"STCUGAT","STCUGAT",2.46,{"$f":"IF($S387<>\"\",\"\",IF(AND($E387<=J$1,$B387=\"M\"),MAX(J$2:J386)+1,\"\"))","v":342},{"$f":"IF($S387<>\"\",\"\",IF(AND($E387<=K$1,$B387=\"M\"),MAX(K$2:K386)+1,\"\"))","v":254},{"$f":"IF($S387<>\"\",\"\",IF(AND($E387<=L$1,$B387=\"M\"),MAX(L$2:L386)+1,\"\"))","v":147},{"$f":"IF($S387<>\"\",\"\",IF(AND($E387<=M$1,$B387=\"M\"),MAX(M$2:M386)+1,\"\"))","v":64},{"$f":"IF($S387<>\"\",\"\",IF(AND($E387<=N$1,$B387=\"F\"),MAX(N$2:N386)+1,\"\"))","v":""},{"$f":"IF($S387<>\"\",\"\",IF(AND($E387<=O$1,$B387=\"F\"),MAX(O$2:O386)+1,\"\"))","v":""},{"$f":"IF(AND($S387<>\"\",$S387<>\"No pot jugar individual\"),\"\",IF(AND($F387<=P$1,$B387=\"M\"),MAX(P$2:P386)+1,\"\"))","v":342},{"$f":"IF(AND($S387<>\"\",$S387<>\"No pot jugar individual\"),\"\",IF(AND($F387<=Q$1,$B387=\"M\"),MAX(Q$2:Q386)+1,\"\"))","v":147},{"$f":"IF($S387<>\"\",\"\",IF($F387<=R$1,MAX(R$2:R386)+1,\"\"))","v":""},{"$f":"IF(1=1,\"\",IF(W387<>0,\"No pot jugar\",IF(OR(AE387=\"Y\",AE387=\"Z\",G387=\"INDEPEN\",G387=\"R.ELISENDA\"),\"No pot jugar\",IF(T387-U387-V387-W387=0,IF(V387<>0,\"No pot jugar\",IF(AND(B387=\"M\",OR(G387=\"INDEPEN\",G387=\"R.ELISENDA\")),\"No pot jugar individual\",\"\")),IF(AND(B387=\"M\",OR(G387=\"INDEPEN\",G387=\"R.ELISENDA\")),\"No pot jugar individual\",\"\")))))","v":""},{"$f":"7-COUNTBLANK(X387:AD387)","v":5},1,0,0,null,null,"P","Q","Q","Q","Q","Q",null,null,null,null,"BC"]
[11422,"M","PÉREZ Jan","BEN-2",1,1,"STCUGAT","STCUGAT",2.4400000000000004,{"$f":"IF($S388<>\"\",\"\",IF(AND($E388<=J$1,$B388=\"M\"),MAX(J$2:J387)+1,\"\"))","v":343},{"$f":"IF($S388<>\"\",\"\",IF(AND($E388<=K$1,$B388=\"M\"),MAX(K$2:K387)+1,\"\"))","v":255},{"$f":"IF($S388<>\"\",\"\",IF(AND($E388<=L$1,$B388=\"M\"),MAX(L$2:L387)+1,\"\"))","v":148},{"$f":"IF($S388<>\"\",\"\",IF(AND($E388<=M$1,$B388=\"M\"),MAX(M$2:M387)+1,\"\"))","v":65},{"$f":"IF($S388<>\"\",\"\",IF(AND($E388<=N$1,$B388=\"F\"),MAX(N$2:N387)+1,\"\"))","v":""},{"$f":"IF($S388<>\"\",\"\",IF(AND($E388<=O$1,$B388=\"F\"),MAX(O$2:O387)+1,\"\"))","v":""},{"$f":"IF(AND($S388<>\"\",$S388<>\"No pot jugar individual\"),\"\",IF(AND($F388<=P$1,$B388=\"M\"),MAX(P$2:P387)+1,\"\"))","v":343},{"$f":"IF(AND($S388<>\"\",$S388<>\"No pot jugar individual\"),\"\",IF(AND($F388<=Q$1,$B388=\"M\"),MAX(Q$2:Q387)+1,\"\"))","v":148},{"$f":"IF($S388<>\"\",\"\",IF($F388<=R$1,MAX(R$2:R387)+1,\"\"))","v":""},"",6,1,1,0,null,"P","P","Q","Q","P","P","O",null,"BN","BC",null,null,"BJ"]
[11630,"M","PIMENTEL Izan","ALE-2",2,1,"EUROCLIMA BDN","EUROCLIMA BDN",2.44,{"$f":"IF($S389<>\"\",\"\",IF(AND($E389<=J$1,$B389=\"M\"),MAX(J$2:J388)+1,\"\"))","v":344},{"$f":"IF($S389<>\"\",\"\",IF(AND($E389<=K$1,$B389=\"M\"),MAX(K$2:K388)+1,\"\"))","v":256},{"$f":"IF($S389<>\"\",\"\",IF(AND($E389<=L$1,$B389=\"M\"),MAX(L$2:L388)+1,\"\"))","v":149},{"$f":"IF($S389<>\"\",\"\",IF(AND($E389<=M$1,$B389=\"M\"),MAX(M$2:M388)+1,\"\"))","v":""},{"$f":"IF($S389<>\"\",\"\",IF(AND($E389<=N$1,$B389=\"F\"),MAX(N$2:N388)+1,\"\"))","v":""},{"$f":"IF($S389<>\"\",\"\",IF(AND($E389<=O$1,$B389=\"F\"),MAX(O$2:O388)+1,\"\"))","v":""},{"$f":"IF(AND($S389<>\"\",$S389<>\"No pot jugar individual\"),\"\",IF(AND($F389<=P$1,$B389=\"M\"),MAX(P$2:P388)+1,\"\"))","v":344},{"$f":"IF(AND($S389<>\"\",$S389<>\"No pot jugar individual\"),\"\",IF(AND($F389<=Q$1,$B389=\"M\"),MAX(Q$2:Q388)+1,\"\"))","v":149},{"$f":"IF($S389<>\"\",\"\",IF($F389<=R$1,MAX(R$2:R388)+1,\"\"))","v":""},"",4,0,0,0,null,null,null,"P","P","P","P","P"]
[10384,"M","AGUIRREGABIRIA Roc","PRE-0",1,1,"ESPARREGU.","ESPARREGU.",2.42,{"$f":"IF($S390<>\"\",\"\",IF(AND($E390<=J$1,$B390=\"M\"),MAX(J$2:J389)+1,\"\"))","v":345},{"$f":"IF($S390<>\"\",\"\",IF(AND($E390<=K$1,$B390=\"M\"),MAX(K$2:K389)+1,\"\"))","v":257},{"$f":"IF($S390<>\"\",\"\",IF(AND($E390<=L$1,$B390=\"M\"),MAX(L$2:L389)+1,\"\"))","v":150},{"$f":"IF($S390<>\"\",\"\",IF(AND($E390<=M$1,$B390=\"M\"),MAX(M$2:M389)+1,\"\"))","v":66},{"$f":"IF($S390<>\"\",\"\",IF(AND($E390<=N$1,$B390=\"F\"),MAX(N$2:N389)+1,\"\"))","v":""},{"$f":"IF($S390<>\"\",\"\",IF(AND($E390<=O$1,$B390=\"F\"),MAX(O$2:O389)+1,\"\"))","v":""},{"$f":"IF(AND($S390<>\"\",$S390<>\"No pot jugar individual\"),\"\",IF(AND($F390<=P$1,$B390=\"M\"),MAX(P$2:P389)+1,\"\"))","v":345},{"$f":"IF(AND($S390<>\"\",$S390<>\"No pot jugar individual\"),\"\",IF(AND($F390<=Q$1,$B390=\"M\"),MAX(Q$2:Q389)+1,\"\"))","v":150},{"$f":"IF($S390<>\"\",\"\",IF($F390<=R$1,MAX(R$2:R389)+1,\"\"))","v":""},"",7,3,0,0,"O","P","P","Q","Q","Q","Q","Q","BC",null,null,"BC",null,null,"BC"]
[11740,"M","ALEJO Aldrin Hugo","ALE-1",2,1,"STCUGAT","STCUGAT",2.4,{"$f":"IF($S391<>\"\",\"\",IF(AND($E391<=J$1,$B391=\"M\"),MAX(J$2:J390)+1,\"\"))","v":346},{"$f":"IF($S391<>\"\",\"\",IF(AND($E391<=K$1,$B391=\"M\"),MAX(K$2:K390)+1,\"\"))","v":258},{"$f":"IF($S391<>\"\",\"\",IF(AND($E391<=L$1,$B391=\"M\"),MAX(L$2:L390)+1,\"\"))","v":151},{"$f":"IF($S391<>\"\",\"\",IF(AND($E391<=M$1,$B391=\"M\"),MAX(M$2:M390)+1,\"\"))","v":""},{"$f":"IF($S391<>\"\",\"\",IF(AND($E391<=N$1,$B391=\"F\"),MAX(N$2:N390)+1,\"\"))","v":""},{"$f":"IF($S391<>\"\",\"\",IF(AND($E391<=O$1,$B391=\"F\"),MAX(O$2:O390)+1,\"\"))","v":""},{"$f":"IF(AND($S391<>\"\",$S391<>\"No pot jugar individual\"),\"\",IF(AND($F391<=P$1,$B391=\"M\"),MAX(P$2:P390)+1,\"\"))","v":346},{"$f":"IF(AND($S391<>\"\",$S391<>\"No pot jugar individual\"),\"\",IF(AND($F391<=Q$1,$B391=\"M\"),MAX(Q$2:Q390)+1,\"\"))","v":151},{"$f":"IF($S391<>\"\",\"\",IF($F391<=R$1,MAX(R$2:R390)+1,\"\"))","v":""},"",4,0,0,0,null,null,null,"Q","P","Q","P","O",null,null,null,null,"PI"]
[11592,"M","SANCHÍS Marc","BEN-1",1,1,"HOSPIT","HOSPIT",2.3200000000000003,{"$f":"IF($S392<>\"\",\"\",IF(AND($E392<=J$1,$B392=\"M\"),MAX(J$2:J391)+1,\"\"))","v":347},{"$f":"IF($S392<>\"\",\"\",IF(AND($E392<=K$1,$B392=\"M\"),MAX(K$2:K391)+1,\"\"))","v":259},{"$f":"IF($S392<>\"\",\"\",IF(AND($E392<=L$1,$B392=\"M\"),MAX(L$2:L391)+1,\"\"))","v":152},{"$f":"IF($S392<>\"\",\"\",IF(AND($E392<=M$1,$B392=\"M\"),MAX(M$2:M391)+1,\"\"))","v":67},{"$f":"IF($S392<>\"\",\"\",IF(AND($E392<=N$1,$B392=\"F\"),MAX(N$2:N391)+1,\"\"))","v":""},{"$f":"IF($S392<>\"\",\"\",IF(AND($E392<=O$1,$B392=\"F\"),MAX(O$2:O391)+1,\"\"))","v":""},{"$f":"IF(AND($S392<>\"\",$S392<>\"No pot jugar individual\"),\"\",IF(AND($F392<=P$1,$B392=\"M\"),MAX(P$2:P391)+1,\"\"))","v":347},{"$f":"IF(AND($S392<>\"\",$S392<>\"No pot jugar individual\"),\"\",IF(AND($F392<=Q$1,$B392=\"M\"),MAX(Q$2:Q391)+1,\"\"))","v":152},{"$f":"IF($S392<>\"\",\"\",IF($F392<=R$1,MAX(R$2:R391)+1,\"\"))","v":""},"",6,2,0,0,null,"P","P","Q","Q","Q","Q","Q",null,null,null,null,"BC","BC"]
[11746,"M","YANG Owen","PRE-0",1,1,"CNSABA","CNSABA",2.2000000000000002,{"$f":"IF($S393<>\"\",\"\",IF(AND($E393<=J$1,$B393=\"M\"),MAX(J$2:J392)+1,\"\"))","v":348},{"$f":"IF($S393<>\"\",\"\",IF(AND($E393<=K$1,$B393=\"M\"),MAX(K$2:K392)+1,\"\"))","v":260},{"$f":"IF($S393<>\"\",\"\",IF(AND($E393<=L$1,$B393=\"M\"),MAX(L$2:L392)+1,\"\"))","v":153},{"$f":"IF($S393<>\"\",\"\",IF(AND($E393<=M$1,$B393=\"M\"),MAX(M$2:M392)+1,\"\"))","v":68},{"$f":"IF($S393<>\"\",\"\",IF(AND($E393<=N$1,$B393=\"F\"),MAX(N$2:N392)+1,\"\"))","v":""},{"$f":"IF($S393<>\"\",\"\",IF(AND($E393<=O$1,$B393=\"F\"),MAX(O$2:O392)+1,\"\"))","v":""},{"$f":"IF(AND($S393<>\"\",$S393<>\"No pot jugar individual\"),\"\",IF(AND($F393<=P$1,$B393=\"M\"),MAX(P$2:P392)+1,\"\"))","v":348},{"$f":"IF(AND($S393<>\"\",$S393<>\"No pot jugar individual\"),\"\",IF(AND($F393<=Q$1,$B393=\"M\"),MAX(Q$2:Q392)+1,\"\"))","v":153},{"$f":"IF($S393<>\"\",\"\",IF($F393<=R$1,MAX(R$2:R392)+1,\"\"))","v":""},"",4,0,0,0,null,null,null,"Q","Q","Q","Q","Q"]
[11540,"M","VELLVEHÍ Eloi","ALE-1",2,1,"MATARO","MATARO",1.9900000000000002,{"$f":"IF($S394<>\"\",\"\",IF(AND($E394<=J$1,$B394=\"M\"),MAX(J$2:J393)+1,\"\"))","v":349},{"$f":"IF($S394<>\"\",\"\",IF(AND($E394<=K$1,$B394=\"M\"),MAX(K$2:K393)+1,\"\"))","v":261},{"$f":"IF($S394<>\"\",\"\",IF(AND($E394<=L$1,$B394=\"M\"),MAX(L$2:L393)+1,\"\"))","v":154},{"$f":"IF($S394<>\"\",\"\",IF(AND($E394<=M$1,$B394=\"M\"),MAX(M$2:M393)+1,\"\"))","v":""},{"$f":"IF($S394<>\"\",\"\",IF(AND($E394<=N$1,$B394=\"F\"),MAX(N$2:N393)+1,\"\"))","v":""},{"$f":"IF($S394<>\"\",\"\",IF(AND($E394<=O$1,$B394=\"F\"),MAX(O$2:O393)+1,\"\"))","v":""},{"$f":"IF(AND($S394<>\"\",$S394<>\"No pot jugar individual\"),\"\",IF(AND($F394<=P$1,$B394=\"M\"),MAX(P$2:P393)+1,\"\"))","v":349},{"$f":"IF(AND($S394<>\"\",$S394<>\"No pot jugar individual\"),\"\",IF(AND($F394<=Q$1,$B394=\"M\"),MAX(Q$2:Q393)+1,\"\"))","v":154},{"$f":"IF($S394<>\"\",\"\",IF($F394<=R$1,MAX(R$2:R393)+1,\"\"))","v":""},"",4,1,0,0,null,null,null,"Q","Q","Q","P","Q",null,null,null,null,null,null,"BC"]
[11678,"M","VILARDAGA Alex","BEN-1",1,1,"COLLBATO","COLLBATO",1.9,{"$f":"IF($S395<>\"\",\"\",IF(AND($E395<=J$1,$B395=\"M\"),MAX(J$2:J394)+1,\"\"))","v":350},{"$f":"IF($S395<>\"\",\"\",IF(AND($E395<=K$1,$B395=\"M\"),MAX(K$2:K394)+1,\"\"))","v":262},{"$f":"IF($S395<>\"\",\"\",IF(AND($E395<=L$1,$B395=\"M\"),MAX(L$2:L394)+1,\"\"))","v":155},{"$f":"IF($S395<>\"\",\"\",IF(AND($E395<=M$1,$B395=\"M\"),MAX(M$2:M394)+1,\"\"))","v":69},{"$f":"IF($S395<>\"\",\"\",IF(AND($E395<=N$1,$B395=\"F\"),MAX(N$2:N394)+1,\"\"))","v":""},{"$f":"IF($S395<>\"\",\"\",IF(AND($E395<=O$1,$B395=\"F\"),MAX(O$2:O394)+1,\"\"))","v":""},{"$f":"IF(AND($S395<>\"\",$S395<>\"No pot jugar individual\"),\"\",IF(AND($F395<=P$1,$B395=\"M\"),MAX(P$2:P394)+1,\"\"))","v":350},{"$f":"IF(AND($S395<>\"\",$S395<>\"No pot jugar individual\"),\"\",IF(AND($F395<=Q$1,$B395=\"M\"),MAX(Q$2:Q394)+1,\"\"))","v":155},{"$f":"IF($S395<>\"\",\"\",IF($F395<=R$1,MAX(R$2:R394)+1,\"\"))","v":""},"",4,0,1,0,null,null,null,"Q","Q","Q","Q","P",null,null,null,null,null,"BN"]
[11649,"M","MARTÍNEZ Patrick","ALE-2",2,1,"ESPARREGU.","ESPARREGU.",1.85,{"$f":"IF($S396<>\"\",\"\",IF(AND($E396<=J$1,$B396=\"M\"),MAX(J$2:J395)+1,\"\"))","v":351},{"$f":"IF($S396<>\"\",\"\",IF(AND($E396<=K$1,$B396=\"M\"),MAX(K$2:K395)+1,\"\"))","v":263},{"$f":"IF($S396<>\"\",\"\",IF(AND($E396<=L$1,$B396=\"M\"),MAX(L$2:L395)+1,\"\"))","v":156},{"$f":"IF($S396<>\"\",\"\",IF(AND($E396<=M$1,$B396=\"M\"),MAX(M$2:M395)+1,\"\"))","v":""},{"$f":"IF($S396<>\"\",\"\",IF(AND($E396<=N$1,$B396=\"F\"),MAX(N$2:N395)+1,\"\"))","v":""},{"$f":"IF($S396<>\"\",\"\",IF(AND($E396<=O$1,$B396=\"F\"),MAX(O$2:O395)+1,\"\"))","v":""},{"$f":"IF(AND($S396<>\"\",$S396<>\"No pot jugar individual\"),\"\",IF(AND($F396<=P$1,$B396=\"M\"),MAX(P$2:P395)+1,\"\"))","v":351},{"$f":"IF(AND($S396<>\"\",$S396<>\"No pot jugar individual\"),\"\",IF(AND($F396<=Q$1,$B396=\"M\"),MAX(Q$2:Q395)+1,\"\"))","v":156},{"$f":"IF($S396<>\"\",\"\",IF($F396<=R$1,MAX(R$2:R395)+1,\"\"))","v":""},"",5,3,0,0,null,null,"O","O","P","P","O","P",null,null,null,"BC","BC",null,"BC"]
[11679,"M","VILARDAGA Arnau","PRE-0",1,1,"COLLBATO","COLLBATO",1.7399999999999998,{"$f":"IF($S397<>\"\",\"\",IF(AND($E397<=J$1,$B397=\"M\"),MAX(J$2:J396)+1,\"\"))","v":352},{"$f":"IF($S397<>\"\",\"\",IF(AND($E397<=K$1,$B397=\"M\"),MAX(K$2:K396)+1,\"\"))","v":264},{"$f":"IF($S397<>\"\",\"\",IF(AND($E397<=L$1,$B397=\"M\"),MAX(L$2:L396)+1,\"\"))","v":157},{"$f":"IF($S397<>\"\",\"\",IF(AND($E397<=M$1,$B397=\"M\"),MAX(M$2:M396)+1,\"\"))","v":70},{"$f":"IF($S397<>\"\",\"\",IF(AND($E397<=N$1,$B397=\"F\"),MAX(N$2:N396)+1,\"\"))","v":""},{"$f":"IF($S397<>\"\",\"\",IF(AND($E397<=O$1,$B397=\"F\"),MAX(O$2:O396)+1,\"\"))","v":""},{"$f":"IF(AND($S397<>\"\",$S397<>\"No pot jugar individual\"),\"\",IF(AND($F397<=P$1,$B397=\"M\"),MAX(P$2:P396)+1,\"\"))","v":352},{"$f":"IF(AND($S397<>\"\",$S397<>\"No pot jugar individual\"),\"\",IF(AND($F397<=Q$1,$B397=\"M\"),MAX(Q$2:Q396)+1,\"\"))","v":157},{"$f":"IF($S397<>\"\",\"\",IF($F397<=R$1,MAX(R$2:R396)+1,\"\"))","v":""},"",4,0,1,0,null,null,null,"Q","Q","Q","Q","Q",null,null,null,null,null,"BN"]
[6661,"M","LEONE Mateo","PRE-0",1,1,"CALELLA","CALELLA",1.7200000000000002,{"$f":"IF($S398<>\"\",\"\",IF(AND($E398<=J$1,$B398=\"M\"),MAX(J$2:J397)+1,\"\"))","v":353},{"$f":"IF($S398<>\"\",\"\",IF(AND($E398<=K$1,$B398=\"M\"),MAX(K$2:K397)+1,\"\"))","v":265},{"$f":"IF($S398<>\"\",\"\",IF(AND($E398<=L$1,$B398=\"M\"),MAX(L$2:L397)+1,\"\"))","v":158},{"$f":"IF($S398<>\"\",\"\",IF(AND($E398<=M$1,$B398=\"M\"),MAX(M$2:M397)+1,\"\"))","v":71},{"$f":"IF($S398<>\"\",\"\",IF(AND($E398<=N$1,$B398=\"F\"),MAX(N$2:N397)+1,\"\"))","v":""},{"$f":"IF($S398<>\"\",\"\",IF(AND($E398<=O$1,$B398=\"F\"),MAX(O$2:O397)+1,\"\"))","v":""},{"$f":"IF(AND($S398<>\"\",$S398<>\"No pot jugar individual\"),\"\",IF(AND($F398<=P$1,$B398=\"M\"),MAX(P$2:P397)+1,\"\"))","v":353},{"$f":"IF(AND($S398<>\"\",$S398<>\"No pot jugar individual\"),\"\",IF(AND($F398<=Q$1,$B398=\"M\"),MAX(Q$2:Q397)+1,\"\"))","v":158},{"$f":"IF($S398<>\"\",\"\",IF($F398<=R$1,MAX(R$2:R397)+1,\"\"))","v":""},"",3,0,0,0,null,null,null,null,"Q","Q","Q","Q"]
[11343,"M","MONTANYÀ Nil","ALE-2",2,1,"EUROCLIMA BDN","EUROCLIMA BDN",1.65,{"$f":"IF($S399<>\"\",\"\",IF(AND($E399<=J$1,$B399=\"M\"),MAX(J$2:J398)+1,\"\"))","v":354},{"$f":"IF($S399<>\"\",\"\",IF(AND($E399<=K$1,$B399=\"M\"),MAX(K$2:K398)+1,\"\"))","v":266},{"$f":"IF($S399<>\"\",\"\",IF(AND($E399<=L$1,$B399=\"M\"),MAX(L$2:L398)+1,\"\"))","v":159},{"$f":"IF($S399<>\"\",\"\",IF(AND($E399<=M$1,$B399=\"M\"),MAX(M$2:M398)+1,\"\"))","v":""},{"$f":"IF($S399<>\"\",\"\",IF(AND($E399<=N$1,$B399=\"F\"),MAX(N$2:N398)+1,\"\"))","v":""},{"$f":"IF($S399<>\"\",\"\",IF(AND($E399<=O$1,$B399=\"F\"),MAX(O$2:O398)+1,\"\"))","v":""},{"$f":"IF(AND($S399<>\"\",$S399<>\"No pot jugar individual\"),\"\",IF(AND($F399<=P$1,$B399=\"M\"),MAX(P$2:P398)+1,\"\"))","v":354},{"$f":"IF(AND($S399<>\"\",$S399<>\"No pot jugar individual\"),\"\",IF(AND($F399<=Q$1,$B399=\"M\"),MAX(Q$2:Q398)+1,\"\"))","v":159},{"$f":"IF($S399<>\"\",\"\",IF($F399<=R$1,MAX(R$2:R398)+1,\"\"))","v":""},"",4,1,0,0,null,null,null,"P","P","P","P","P",null,null,null,null,null,null,"BC"]
[11284,"M","SANZ Marcel","BEN-2",1,1,"EUROCLIMA BDN","EUROCLIMA BDN",1.65,{"$f":"IF($S400<>\"\",\"\",IF(AND($E400<=J$1,$B400=\"M\"),MAX(J$2:J399)+1,\"\"))","v":355},{"$f":"IF($S400<>\"\",\"\",IF(AND($E400<=K$1,$B400=\"M\"),MAX(K$2:K399)+1,\"\"))","v":267},{"$f":"IF($S400<>\"\",\"\",IF(AND($E400<=L$1,$B400=\"M\"),MAX(L$2:L399)+1,\"\"))","v":160},{"$f":"IF($S400<>\"\",\"\",IF(AND($E400<=M$1,$B400=\"M\"),MAX(M$2:M399)+1,\"\"))","v":72},{"$f":"IF($S400<>\"\",\"\",IF(AND($E400<=N$1,$B400=\"F\"),MAX(N$2:N399)+1,\"\"))","v":""},{"$f":"IF($S400<>\"\",\"\",IF(AND($E400<=O$1,$B400=\"F\"),MAX(O$2:O399)+1,\"\"))","v":""},{"$f":"IF(AND($S400<>\"\",$S400<>\"No pot jugar individual\"),\"\",IF(AND($F400<=P$1,$B400=\"M\"),MAX(P$2:P399)+1,\"\"))","v":355},{"$f":"IF(AND($S400<>\"\",$S400<>\"No pot jugar individual\"),\"\",IF(AND($F400<=Q$1,$B400=\"M\"),MAX(Q$2:Q399)+1,\"\"))","v":160},{"$f":"IF($S400<>\"\",\"\",IF($F400<=R$1,MAX(R$2:R399)+1,\"\"))","v":""},"",4,0,1,0,null,null,null,"Q","Q","Q","Q","Q",null,null,null,null,"BN"]
[10228,"F","MARTÍNEZ Maria","PRE-0",1,0,"CALELLA","CALELLA",1.62,{"$f":"IF($S401<>\"\",\"\",IF(AND($E401<=J$1,$B401=\"M\"),MAX(J$2:J400)+1,\"\"))","v":""},{"$f":"IF($S401<>\"\",\"\",IF(AND($E401<=K$1,$B401=\"M\"),MAX(K$2:K400)+1,\"\"))","v":""},{"$f":"IF($S401<>\"\",\"\",IF(AND($E401<=L$1,$B401=\"M\"),MAX(L$2:L400)+1,\"\"))","v":""},{"$f":"IF($S401<>\"\",\"\",IF(AND($E401<=M$1,$B401=\"M\"),MAX(M$2:M400)+1,\"\"))","v":""},{"$f":"IF($S401<>\"\",\"\",IF(AND($E401<=N$1,$B401=\"F\"),MAX(N$2:N400)+1,\"\"))","v":44},{"$f":"IF($S401<>\"\",\"\",IF(AND($E401<=O$1,$B401=\"F\"),MAX(O$2:O400)+1,\"\"))","v":27},{"$f":"IF(AND($S401<>\"\",$S401<>\"No pot jugar individual\"),\"\",IF(AND($F401<=P$1,$B401=\"M\"),MAX(P$2:P400)+1,\"\"))","v":""},{"$f":"IF(AND($S401<>\"\",$S401<>\"No pot jugar individual\"),\"\",IF(AND($F401<=Q$1,$B401=\"M\"),MAX(Q$2:Q400)+1,\"\"))","v":""},{"$f":"IF($S401<>\"\",\"\",IF($F401<=R$1,MAX(R$2:R400)+1,\"\"))","v":44},"",3,0,0,0,null,null,null,null,"Q","Q","Q","Q"]
[10383,"M","GOMEZ Iker","PRE-0",1,1,"ESPARREGU.","ESPARREGU.",1.08,{"$f":"IF($S402<>\"\",\"\",IF(AND($E402<=J$1,$B402=\"M\"),MAX(J$2:J401)+1,\"\"))","v":356},{"$f":"IF($S402<>\"\",\"\",IF(AND($E402<=K$1,$B402=\"M\"),MAX(K$2:K401)+1,\"\"))","v":268},{"$f":"IF($S402<>\"\",\"\",IF(AND($E402<=L$1,$B402=\"M\"),MAX(L$2:L401)+1,\"\"))","v":161},{"$f":"IF($S402<>\"\",\"\",IF(AND($E402<=M$1,$B402=\"M\"),MAX(M$2:M401)+1,\"\"))","v":73},{"$f":"IF($S402<>\"\",\"\",IF(AND($E402<=N$1,$B402=\"F\"),MAX(N$2:N401)+1,\"\"))","v":""},{"$f":"IF($S402<>\"\",\"\",IF(AND($E402<=O$1,$B402=\"F\"),MAX(O$2:O401)+1,\"\"))","v":""},{"$f":"IF(AND($S402<>\"\",$S402<>\"No pot jugar individual\"),\"\",IF(AND($F402<=P$1,$B402=\"M\"),MAX(P$2:P401)+1,\"\"))","v":356},{"$f":"IF(AND($S402<>\"\",$S402<>\"No pot jugar individual\"),\"\",IF(AND($F402<=Q$1,$B402=\"M\"),MAX(Q$2:Q401)+1,\"\"))","v":161},{"$f":"IF($S402<>\"\",\"\",IF($F402<=R$1,MAX(R$2:R401)+1,\"\"))","v":""},"",5,3,0,0,null,null,"P","Q","Q","Q","Q","Q",null,null,"BC",null,null,"BC","BC"]
[11739,"M","SERRALLACH Max","BEN-1",1,1,"STCUGAT","STCUGAT",1.08,{"$f":"IF($S403<>\"\",\"\",IF(AND($E403<=J$1,$B403=\"M\"),MAX(J$2:J402)+1,\"\"))","v":357},{"$f":"IF($S403<>\"\",\"\",IF(AND($E403<=K$1,$B403=\"M\"),MAX(K$2:K402)+1,\"\"))","v":269},{"$f":"IF($S403<>\"\",\"\",IF(AND($E403<=L$1,$B403=\"M\"),MAX(L$2:L402)+1,\"\"))","v":162},{"$f":"IF($S403<>\"\",\"\",IF(AND($E403<=M$1,$B403=\"M\"),MAX(M$2:M402)+1,\"\"))","v":74},{"$f":"IF($S403<>\"\",\"\",IF(AND($E403<=N$1,$B403=\"F\"),MAX(N$2:N402)+1,\"\"))","v":""},{"$f":"IF($S403<>\"\",\"\",IF(AND($E403<=O$1,$B403=\"F\"),MAX(O$2:O402)+1,\"\"))","v":""},{"$f":"IF(AND($S403<>\"\",$S403<>\"No pot jugar individual\"),\"\",IF(AND($F403<=P$1,$B403=\"M\"),MAX(P$2:P402)+1,\"\"))","v":357},{"$f":"IF(AND($S403<>\"\",$S403<>\"No pot jugar individual\"),\"\",IF(AND($F403<=Q$1,$B403=\"M\"),MAX(Q$2:Q402)+1,\"\"))","v":162},{"$f":"IF($S403<>\"\",\"\",IF($F403<=R$1,MAX(R$2:R402)+1,\"\"))","v":""},"",4,2,0,0,null,null,null,"Q","Q","Q","Q","Q",null,null,null,null,null,"BC","BC"]